BEGIN:VCALENDAR
VERSION:2.0
PRODID:-//Kunstlabor 2 - ECPv6.15.18//NONSGML v1.0//EN
CALSCALE:GREGORIAN
METHOD:PUBLISH
X-WR-CALNAME:Kunstlabor 2
X-ORIGINAL-URL:https://kunstlabor.org
X-WR-CALDESC:Veranstaltungen für Kunstlabor 2
REFRESH-INTERVAL;VALUE=DURATION:PT1H
X-Robots-Tag:noindex
X-PUBLISHED-TTL:PT1H
BEGIN:VTIMEZONE
TZID:Europe/Berlin
BEGIN:DAYLIGHT
TZOFFSETFROM:+0100
TZOFFSETTO:+0200
TZNAME:CEST
DTSTART:20230326T010000
END:DAYLIGHT
BEGIN:STANDARD
TZOFFSETFROM:+0200
TZOFFSETTO:+0100
TZNAME:CET
DTSTART:20231029T010000
END:STANDARD
BEGIN:DAYLIGHT
TZOFFSETFROM:+0100
TZOFFSETTO:+0200
TZNAME:CEST
DTSTART:20240331T010000
END:DAYLIGHT
BEGIN:STANDARD
TZOFFSETFROM:+0200
TZOFFSETTO:+0100
TZNAME:CET
DTSTART:20241027T010000
END:STANDARD
BEGIN:DAYLIGHT
TZOFFSETFROM:+0100
TZOFFSETTO:+0200
TZNAME:CEST
DTSTART:20250330T010000
END:DAYLIGHT
BEGIN:STANDARD
TZOFFSETFROM:+0200
TZOFFSETTO:+0100
TZNAME:CET
DTSTART:20251026T010000
END:STANDARD
END:VTIMEZONE
BEGIN:VEVENT
DTSTART;TZID=Europe/Berlin:20241207T110000
DTEND;TZID=Europe/Berlin:20241207T180000
DTSTAMP:20260422T143509
CREATED:20241118T111711Z
LAST-MODIFIED:20241118T111855Z
UID:30990-1733569200-1733594400@kunstlabor.org
SUMMARY:Yoga & Food Day Retreat
DESCRIPTION:Am 07.12.24 erwartet euch von 11-18 Uhr ein Yoga & Food Day Retreat im KUNSTALABOR 2 von und mit Manu & Eva. Wir praktizieren Yoga\, essen gemeinsam\, genießen die Gemeinschaft\, lassen bei einem Workshop das vergangene Jahr Revue passieren und setzen uns neue Intentionen für 2025. \nAnmeldung über folgenden Link \nYoga & Food Day Retreat\, Kunstlabor2 – Manuela Richter
URL:https://kunstlabor.org/event/30990/
ATTACH;FMTTYPE=image/jpeg:https://kunstlabor.org/wp-content/uploads/2024/11/manuela-richter-yoga-1320x880-1.jpg
END:VEVENT
BEGIN:VEVENT
DTSTART;TZID=Europe/Berlin:20241215T111500
DTEND;TZID=Europe/Berlin:20241215T121500
DTSTAMP:20260422T143509
CREATED:20240918T101703Z
LAST-MODIFIED:20240918T101703Z
UID:30881-1734261300-1734264900@kunstlabor.org
SUMMARY:POP UP YOGA & Kunst
DESCRIPTION:Gina und Terry von POP UP YOGA München sind bekannt dafür\, dass sie Yoga am liebsten aus dem klassischen Studio heraus an all die anderen besonderen und schönsten Orte verlegen\, die München zu bieten hat. \nDort ganz vorne mit dabei: ganz klar das KUNSTLABOR 2! \nDenn welcher Ort könnte für eine POP UP YOGA Session wohl geeigneter sein\, als das größte kulturelle Zwischennutzungsprojekt Münchens und neuer Kreativ-Hotspot für Urban Art! \nWir laden dich ein\, deiner yogischen Kreativität freien Lauf zu lassen und mit uns die perfekte Wochenende-Kombi aus Yoga & Kunst zu entdecken! \nDiese Yoga-Session findet im Rahmen des Open Weekend bei gutem Wetter im Innenhof\, andernfalls im Event-Raum des KUNSTLABOR 2 \nIm Event ist jeweils ein Tagesticket für das KUNSTLABOR inkludiert. Nimm dir gerne ausreichend Zeit\, so dass du nach der Yogasession noch die vielen verschiedenen Kunstwerke entdecken kannst. \n  \nFacts: \n\nJedes Level ist willkommen\, egal ob Anfänger oder ‚Profi‘-Yogi – es gibt immer die passende Variante!\nBegrenzte Teilnehmerzahl\, daher bitte Anmeldung vorab hier: https://www.fyndery.de/muenchen/kurs/11155/pop-up-yoga-muenchen/?ref=3932\nBitte bring deine eigene Matte mit oder sonstige Unterlage mit\n\n  \nWir freuen uns sehr auf dich und ein wunderbares gemeinsames kreatives POP UP YOGA Erlebnis! \nDein Team von #popupyogamuc
URL:https://kunstlabor.org/event/pop-up-yoga-kunst-16/
ATTACH;FMTTYPE=image/jpeg:https://kunstlabor.org/wp-content/uploads/2023/03/PopUpYoga.jpg
END:VEVENT
END:VCALENDAR