BEGIN:VCALENDAR
VERSION:2.0
PRODID:-//Kunstlabor 2 - ECPv6.15.18//NONSGML v1.0//EN
CALSCALE:GREGORIAN
METHOD:PUBLISH
X-ORIGINAL-URL:https://kunstlabor.org
X-WR-CALDESC:Veranstaltungen für Kunstlabor 2
REFRESH-INTERVAL;VALUE=DURATION:PT1H
X-Robots-Tag:noindex
X-PUBLISHED-TTL:PT1H
BEGIN:VTIMEZONE
TZID:Europe/Berlin
BEGIN:DAYLIGHT
TZOFFSETFROM:+0100
TZOFFSETTO:+0200
TZNAME:CEST
DTSTART:20240331T010000
END:DAYLIGHT
BEGIN:STANDARD
TZOFFSETFROM:+0200
TZOFFSETTO:+0100
TZNAME:CET
DTSTART:20241027T010000
END:STANDARD
BEGIN:DAYLIGHT
TZOFFSETFROM:+0100
TZOFFSETTO:+0200
TZNAME:CEST
DTSTART:20250330T010000
END:DAYLIGHT
BEGIN:STANDARD
TZOFFSETFROM:+0200
TZOFFSETTO:+0100
TZNAME:CET
DTSTART:20251026T010000
END:STANDARD
BEGIN:DAYLIGHT
TZOFFSETFROM:+0100
TZOFFSETTO:+0200
TZNAME:CEST
DTSTART:20260329T010000
END:DAYLIGHT
BEGIN:STANDARD
TZOFFSETFROM:+0200
TZOFFSETTO:+0100
TZNAME:CET
DTSTART:20261025T010000
END:STANDARD
END:VTIMEZONE
BEGIN:VEVENT
DTSTART;TZID=Europe/Berlin:20251107T150000
DTEND;TZID=Europe/Berlin:20251107T160000
DTSTAMP:20260421T231316
CREATED:20251103T122936Z
LAST-MODIFIED:20251103T122937Z
UID:32059-1762527600-1762531200@kunstlabor.org
SUMMARY:WOLKEN WORKSHOP - KIDS
DESCRIPTION:Im Workshop zur Kinderausstellung „Seth’s Spiel(träume)“ im KUNSTLABOR2 gestaltest du deine ganz persönliche Wolke: weich\, leuchtend und voller Magie. Aus einfachen Materialien entsteht ein bezauberndes Nachtlicht\, das dein Zimmer in sanftes Wolkenlicht taucht und dich sanft in den Schlaf begleitet. Besuche hierzu zunächst in der Gruppe die Show und lasse dich inspirieren. Der Eintritt ist inkludiert \nKomm vorbei\, lass deiner Fantasie freien Lauf und nimm ein Stück Himmel mit nach Hause! \n  \nTickets findest du hier \nWeitere Infos\, FAQ und unsere Stornobedingungen findet ihr hier
URL:https://kunstlabor.org/event/wolken-workshop-kids/
LOCATION:KUNSTLABOR 2\, / Dachauer Str. 90 / 80335 München\, Deutschland
ATTACH;FMTTYPE=image/jpeg:https://kunstlabor.org/wp-content/uploads/2025/11/thumbnail_Wolkenworkshop-e1762172967154.jpg
END:VEVENT
BEGIN:VEVENT
DTSTART;TZID=Europe/Berlin:20251114T153000
DTEND;TZID=Europe/Berlin:20251114T163000
DTSTAMP:20260421T231316
CREATED:20251103T123203Z
LAST-MODIFIED:20251103T123231Z
UID:32062-1763134200-1763137800@kunstlabor.org
SUMMARY:WOLKEN WORKSHOP - KIDS
DESCRIPTION:Im Workshop zur Kinderausstellung „Seth’s Spiel(träume)“ im KUNSTLABOR2 gestaltest du deine ganz persönliche Wolke: weich\, leuchtend und voller Magie. Aus einfachen Materialien entsteht ein bezauberndes Nachtlicht\, das dein Zimmer in sanftes Wolkenlicht taucht und dich sanft in den Schlaf begleitet. Besuche hierzu zunächst in der Gruppe die Show und lasse dich inspirieren. Der Eintritt ist inkludiert \nKomm vorbei\, lass deiner Fantasie freien Lauf und nimm ein Stück Himmel mit nach Hause! \n  \nTickets findest du hier \nWeitere Infos\, FAQ und unsere Stornobedingungen findet ihr hier
URL:https://kunstlabor.org/event/wolken-workshop-kids-2/
LOCATION:KUNSTLABOR 2\, / Dachauer Str. 90 / 80335 München\, Deutschland
ATTACH;FMTTYPE=image/jpeg:https://kunstlabor.org/wp-content/uploads/2025/11/thumbnail_Wolkenworkshop-e1762172967154.jpg
END:VEVENT
BEGIN:VEVENT
DTSTART;TZID=Europe/Berlin:20251121T150000
DTEND;TZID=Europe/Berlin:20251121T160000
DTSTAMP:20260421T231316
CREATED:20251103T123310Z
LAST-MODIFIED:20251103T123310Z
UID:32064-1763737200-1763740800@kunstlabor.org
SUMMARY:WOLKEN WORKSHOP - KIDS
DESCRIPTION:Im Workshop zur Kinderausstellung „Seth’s Spiel(träume)“ im KUNSTLABOR2 gestaltest du deine ganz persönliche Wolke: weich\, leuchtend und voller Magie. Aus einfachen Materialien entsteht ein bezauberndes Nachtlicht\, das dein Zimmer in sanftes Wolkenlicht taucht und dich sanft in den Schlaf begleitet. Besuche hierzu zunächst in der Gruppe die Show und lasse dich inspirieren. Der Eintritt ist inkludiert \nKomm vorbei\, lass deiner Fantasie freien Lauf und nimm ein Stück Himmel mit nach Hause! \n  \nTickets findest du hier \nWeitere Infos\, FAQ und unsere Stornobedingungen findet ihr hier
URL:https://kunstlabor.org/event/wolken-workshop-kids-3/
LOCATION:KUNSTLABOR 2\, / Dachauer Str. 90 / 80335 München\, Deutschland
ATTACH;FMTTYPE=image/jpeg:https://kunstlabor.org/wp-content/uploads/2025/11/thumbnail_Wolkenworkshop-e1762172967154.jpg
END:VEVENT
BEGIN:VEVENT
DTSTART;TZID=Europe/Berlin:20251122T110000
DTEND;TZID=Europe/Berlin:20251122T130000
DTSTAMP:20260421T231316
CREATED:20251118T140926Z
LAST-MODIFIED:20251118T141035Z
UID:32116-1763809200-1763816400@kunstlabor.org
SUMMARY:TURTLE MAGAZIN(E): YOGA & WRITE
DESCRIPTION:Start with half an hour of informal yoga—nothing structured or certified\, just gentle movement and breathing (at your own risk) to open your body and mind. Then\, settle into 1.5 hours of writing—bring your own project\, explore prompts I’ll offer\, or simply let your words flow. We’ll end with a short\, optional wrap-up: share something you’ve written or reflect on the experience together. No yoga or writing experience needed—just comfy clothes and something to write with.Bring your own yoga mat and writing materials.\nImportant note: Paying for this event will enable you to also enjoy the exhibition and spend as much time as you want in it.\nLara Wüster about herself: I’m a writer\, workshop facilitator\, moderator\, political philosopher\, scholar in literature\, and dancer\, based between Berlin and Munich. I founded turtle magazin(e) in 2021 and have since led writing workshops and retreats—including formats that blend movement\, mindfulness\, and creative expression This session is another way for me to blend movement and words in an easy\, welcoming space. \n  \nLink: https://www.turtlemagazin.com/event-details-registration/yoga-write-2025-11-22-11-00
URL:https://kunstlabor.org/event/yogaandwrite/
LOCATION:KUNSTLABOR 2\, / Dachauer Str. 90 / 80335 München\, Deutschland
ATTACH;FMTTYPE=image/jpeg:https://kunstlabor.org/wp-content/uploads/2025/11/yoga-write.jpg
END:VEVENT
BEGIN:VEVENT
DTSTART;TZID=Europe/Berlin:20251123T113000
DTEND;TZID=Europe/Berlin:20251123T133000
DTSTAMP:20260421T231316
CREATED:20251118T141933Z
LAST-MODIFIED:20260122T101649Z
UID:32122-1763897400-1763904600@kunstlabor.org
SUMMARY:TURTLE MAGAZIN(E): BACK TO THE ROOTS
DESCRIPTION:Wenn wir das Wort „verwildert“ hören\, denken wir meistens an Wälder\, Seen und Ozeane. Die ungezähmte Natur.\nDoch auch unser Alltag ist eine Wildnis\, durch die wir uns Tag für Tag schlagen müssen. Im Chaos von Lohn- und Care-Arbeit verlernen wir dabei häufig die Grundlagen des Mensch-Seins: Auf unseren Körper und unsere Sinne zu hören und mit ihnen zu arbeiten. In diesem Workshop geht es deshalb darum\, wie wir mithilfe unserer Sinne Selbstfürsorge im Alltag praktizieren können. \nZum Gastgeber: Xaver Egert\nIch bin 21 Jahre alt und studiere Psychologie an der CFH in München. Der Workshop wird von den Erfahrungen geleitet sein\, die ich als Assistent in den Gruppentherapien für ehemalige Reha-Patienten im Rahmen meines Praktikums im Neuro-Psychiatrischen Zentrum Riem gewinnen durfte. \n  \nLink: https://www.turtlemagazin.com/event-details-registration/back-to-the-roots-zu-den-eigenen-sinnen-zuruckfinden
URL:https://kunstlabor.org/event/turtle-magazine-back-to-the-roots/
LOCATION:KUNSTLABOR 2\, / Dachauer Str. 90 / 80335 München\, Deutschland
ATTACH;FMTTYPE=image/jpeg:https://kunstlabor.org/wp-content/uploads/2025/11/Back-to-the-roots-scaled-e1769077002748.jpg
END:VEVENT
BEGIN:VEVENT
DTSTART;TZID=Europe/Berlin:20251123T143000
DTEND;TZID=Europe/Berlin:20251123T163000
DTSTAMP:20260421T231316
CREATED:20251118T141632Z
LAST-MODIFIED:20251118T142519Z
UID:32119-1763908200-1763915400@kunstlabor.org
SUMMARY:TURTLE MAGAZIN(E): VERWILDERTE ZEILEN SCHREIBSESSION
DESCRIPTION:Wir beginnen mit einem stillen Eintauchen in die Ausstellung: 30 Minuten Zeit\, um Eindrücke zu sammeln und Neues auf euch wirken zu lassen. Danach wählt jede*r eine meiner mitgebrachten „Blüten“ – kleine Impulse\, die eure Fantasie anregen sollen. Mit diesem Gedankenkeim habt ihr 60 Minuten\, um frei zu schreiben: wandernd durch die Ausstellung\, zurückgezogen in einer Ecke oder mitten im Raum. Zum Abschluss kommen wir wieder zusammen. Wer möchte\, darf seine Texte\, Eindrücke oder Fragmente mit der Gruppe teilen – ganz unverbindlich\, aber vielleicht überraschend verbindend.\nImportant note: Paying for this event will enable you to also enjoy the exhibition and spend as much time as you want in it.\nSelin (Your Host) : Ich bin Studentin aus München und schreibe Kurzgeschichten. Auf meinem Instagram-Kanal teile ich kleine Gedankeblüten und versuche darin\, das Alltägliche einzufangen. In meinen Texten geht es oft um das\, was leicht übersehen wird – und ich möchte euch ermutigen\, auch eure eigenen Gedanken sprießen zu lassen. \n  \nLink: https://www.turtlemagazin.com/event-details-registration/verwilderte-zeilen-schreibsession-2025-11-22-14-30 \n 
URL:https://kunstlabor.org/event/turtle-magazine-verwilderte-zeilen/
LOCATION:KUNSTLABOR 2\, / Dachauer Str. 90 / 80335 München\, Deutschland
ATTACH;FMTTYPE=image/jpeg:https://kunstlabor.org/wp-content/uploads/2025/11/verwilderte-zeiten.jpg
END:VEVENT
BEGIN:VEVENT
DTSTART;TZID=Europe/Berlin:20251129T140000
DTEND;TZID=Europe/Berlin:20251129T170000
DTSTAMP:20260421T231316
CREATED:20251118T142400Z
LAST-MODIFIED:20251118T142400Z
UID:32125-1764424800-1764435600@kunstlabor.org
SUMMARY:TURTLE MAGAZIN(E): EXPERIMENTAL JAM
DESCRIPTION:The Experimental Jam is a regular interdisciplinary event organized by the Experimental Munich platform that takes place in different artistic spaces in Munich and will celebrate its one year anniversary at Kunstlabor 2\, taking part in the VERWILDERT exhibition.\nIt is a gathering where performers from different artistic backgrounds come together with curiosity and interest in the investigations emerging from the experiment: dance\, sound\, visuals\, text\, new surroundings and a desire to connect with others. It is a collective improvisation session where the performers figure things out through unknown encounters and collaborate to create new possibilities.\nThe first hour of the event is intended for the artists to get to know each other and do a physical warm-up led by a professional dancer\, followed by two hours of improvisation open to the general public to watch.\nImportant note: Paying for this event will enable you to watch this performance and learn more about how performers work together through improvisation + enjoy the exhibition and spend as much time as you want in it.\nThe artists interested in participating can register directly with the Experimental Munich team by writing to experimental.jam.munich@gmail.com and don’t need to buy a ticket for the exhibition. \nYour Hosts:\nSalomé Rodrigues is a multidisciplinary performer and creator\, born in Porto and now based between Portugal and Germany\, who works with dance\, voice\, and performance art. She creates performances mainly in intimate settings that include interaction with the public\, taking the audience on a journey and going through an experience with her\, being inspired from what is happening in the moment. Her practice is mostly connected to voice and movement research\, instant composition\, and authentic movement tools.\nShe is the founder of the Experimental Munich platform (@experimental.munich)\, curating events aimed at the experimentation and the intersection of knowledge within the interdisciplinary field of the performing arts. \nAngela Mössner is a dancer\, performer\, gyrokinesis trainer and movement pedagogue interested in art that weaves together various influences (literature\, dance\, theater\, philosophy\, anthropology\, somatics\, behavioral psychology\, communication\, sociology\, phenomenology\, etc.) to create an inspiring and moving work of art. Her creative inspiration stems from nature\, universal connectedness\, social resonance and holistic exploration of the spiritual self. She completed her training as a stage dancer/dance teacher at the Anton Bruckner University in Linz\, and before coming to Munich\, she danced in a contemporary dance company in Sweden. \n  \nLink: https://www.turtlemagazin.com/event-details-registration/experimental-jam \n 
URL:https://kunstlabor.org/event/turtle-magazine-experimental-jam/
LOCATION:KUNSTLABOR 2\, / Dachauer Str. 90 / 80335 München\, Deutschland
ATTACH;FMTTYPE=image/jpeg:https://kunstlabor.org/wp-content/uploads/2025/11/experimental.jpg
END:VEVENT
BEGIN:VEVENT
DTSTART;TZID=Europe/Berlin:20251130T110000
DTEND;TZID=Europe/Berlin:20251130T133000
DTSTAMP:20260421T231316
CREATED:20251118T142623Z
LAST-MODIFIED:20251118T142623Z
UID:32129-1764500400-1764509400@kunstlabor.org
SUMMARY:TURTLE MAGAZIN(E): YOGA & WRITE
DESCRIPTION:Start with half an hour of informal yoga—nothing structured or certified\, just gentle movement and breathing (at your own risk) to open your body and mind. Then\, settle into 1.5 hours of writing—bring your own project\, explore prompts I’ll offer\, or simply let your words flow. We’ll end with a short\, optional wrap-up: share something you’ve written or reflect on the experience together. No yoga or writing experience needed—just comfy clothes and something to write with.Bring your own yoga mat and writing materials.\nImportant note: Paying for this event will enable you to also enjoy the exhibition and spend as much time as you want in it.\nLara Wüster about herself: I’m a writer\, workshop facilitator\, moderator\, political philosopher\, scholar in literature\, and dancer\, based between Berlin and Munich. I founded turtle magazin(e) in 2021 and have since led writing workshops and retreats—including formats that blend movement\, mindfulness\, and creative expression This session is another way for me to blend movement and words in an easy\, welcoming space. \n  \nLink: https://www.turtlemagazin.com/event-details-registration/yoga-write-2025-11-22-11-00
URL:https://kunstlabor.org/event/turtle-magazine-yoga-write/
LOCATION:KUNSTLABOR 2\, / Dachauer Str. 90 / 80335 München\, Deutschland
ATTACH;FMTTYPE=image/jpeg:https://kunstlabor.org/wp-content/uploads/2025/11/yoga-write.jpg
END:VEVENT
END:VCALENDAR