BEGIN:VCALENDAR
VERSION:2.0
PRODID:-//Kunstlabor 2 - ECPv6.15.18//NONSGML v1.0//EN
CALSCALE:GREGORIAN
METHOD:PUBLISH
X-ORIGINAL-URL:https://kunstlabor.org
X-WR-CALDESC:Veranstaltungen für Kunstlabor 2
REFRESH-INTERVAL;VALUE=DURATION:PT1H
X-Robots-Tag:noindex
X-PUBLISHED-TTL:PT1H
BEGIN:VTIMEZONE
TZID:Europe/Berlin
BEGIN:DAYLIGHT
TZOFFSETFROM:+0100
TZOFFSETTO:+0200
TZNAME:CEST
DTSTART:20240331T010000
END:DAYLIGHT
BEGIN:STANDARD
TZOFFSETFROM:+0200
TZOFFSETTO:+0100
TZNAME:CET
DTSTART:20241027T010000
END:STANDARD
BEGIN:DAYLIGHT
TZOFFSETFROM:+0100
TZOFFSETTO:+0200
TZNAME:CEST
DTSTART:20250330T010000
END:DAYLIGHT
BEGIN:STANDARD
TZOFFSETFROM:+0200
TZOFFSETTO:+0100
TZNAME:CET
DTSTART:20251026T010000
END:STANDARD
BEGIN:DAYLIGHT
TZOFFSETFROM:+0100
TZOFFSETTO:+0200
TZNAME:CEST
DTSTART:20260329T010000
END:DAYLIGHT
BEGIN:STANDARD
TZOFFSETFROM:+0200
TZOFFSETTO:+0100
TZNAME:CET
DTSTART:20261025T010000
END:STANDARD
END:VTIMEZONE
BEGIN:VEVENT
DTSTART;TZID=Europe/Berlin:20250921T151500
DTEND;TZID=Europe/Berlin:20250921T174500
DTSTAMP:20260422T022703
CREATED:20250902T090110Z
LAST-MODIFIED:20250902T090110Z
UID:31611-1758467700-1758476700@kunstlabor.org
SUMMARY:T-SHIRT DESIGN - SPRAYDOSEN & STYRENEDRUCK – KIDS WORKSHOP
DESCRIPTION:Lerne mit deinen Freund*innen von erfahrenen Graffiti-Künstler*innen aus der Szene wie du dein mitgebrachtes T-Shirt mit Spraydosen und Styrene-Druck im KUNSTLABOR 2 selbst zum Meisterwerk machen kannst. Zunächst erhältst du anhand verschiedener Übungen das nötige Know-How für dein T-Shirt-Motiv. Ob zeichnen mit beiden Händen\, mit zwei Stiften oder mit geschlossenen Augen\, danach seid ihr top vorbereitet für das Übertragen eurer Skizze auf eine Styrene-Platte. Jetzt werden die Dosen ausgepackt und danach kann der finale Druck beginnen.  \nTickets bekommt ihr hier.
URL:https://kunstlabor.org/event/t-shirt-design-spraydosen-styrenedruck-kids-workshop-5/
LOCATION:Kreativ Werkstatt im KUNSTLABOR 2\, / KL2 / Dachauer Str. 90 / München
ATTACH;FMTTYPE=image/jpeg:https://kunstlabor.org/wp-content/uploads/2023/03/IMG_5004-1-scaled.jpg
END:VEVENT
END:VCALENDAR