BEGIN:VCALENDAR
VERSION:2.0
PRODID:-//Kunstlabor 2 - ECPv6.15.18//NONSGML v1.0//EN
CALSCALE:GREGORIAN
METHOD:PUBLISH
X-ORIGINAL-URL:https://kunstlabor.org
X-WR-CALDESC:Veranstaltungen für Kunstlabor 2
REFRESH-INTERVAL;VALUE=DURATION:PT1H
X-Robots-Tag:noindex
X-PUBLISHED-TTL:PT1H
BEGIN:VTIMEZONE
TZID:Europe/Berlin
BEGIN:DAYLIGHT
TZOFFSETFROM:+0100
TZOFFSETTO:+0200
TZNAME:CEST
DTSTART:20240331T010000
END:DAYLIGHT
BEGIN:STANDARD
TZOFFSETFROM:+0200
TZOFFSETTO:+0100
TZNAME:CET
DTSTART:20241027T010000
END:STANDARD
BEGIN:DAYLIGHT
TZOFFSETFROM:+0100
TZOFFSETTO:+0200
TZNAME:CEST
DTSTART:20250330T010000
END:DAYLIGHT
BEGIN:STANDARD
TZOFFSETFROM:+0200
TZOFFSETTO:+0100
TZNAME:CET
DTSTART:20251026T010000
END:STANDARD
BEGIN:DAYLIGHT
TZOFFSETFROM:+0100
TZOFFSETTO:+0200
TZNAME:CEST
DTSTART:20260329T010000
END:DAYLIGHT
BEGIN:STANDARD
TZOFFSETFROM:+0200
TZOFFSETTO:+0100
TZNAME:CET
DTSTART:20261025T010000
END:STANDARD
END:VTIMEZONE
BEGIN:VEVENT
DTSTART;TZID=Europe/Berlin:20251107T150000
DTEND;TZID=Europe/Berlin:20251107T160000
DTSTAMP:20260422T040022
CREATED:20251103T122936Z
LAST-MODIFIED:20251103T122937Z
UID:32059-1762527600-1762531200@kunstlabor.org
SUMMARY:WOLKEN WORKSHOP - KIDS
DESCRIPTION:Im Workshop zur Kinderausstellung „Seth’s Spiel(träume)“ im KUNSTLABOR2 gestaltest du deine ganz persönliche Wolke: weich\, leuchtend und voller Magie. Aus einfachen Materialien entsteht ein bezauberndes Nachtlicht\, das dein Zimmer in sanftes Wolkenlicht taucht und dich sanft in den Schlaf begleitet. Besuche hierzu zunächst in der Gruppe die Show und lasse dich inspirieren. Der Eintritt ist inkludiert \nKomm vorbei\, lass deiner Fantasie freien Lauf und nimm ein Stück Himmel mit nach Hause! \n  \nTickets findest du hier \nWeitere Infos\, FAQ und unsere Stornobedingungen findet ihr hier
URL:https://kunstlabor.org/event/wolken-workshop-kids/
LOCATION:KUNSTLABOR 2\, / Dachauer Str. 90 / 80335 München\, Deutschland
ATTACH;FMTTYPE=image/jpeg:https://kunstlabor.org/wp-content/uploads/2025/11/thumbnail_Wolkenworkshop-e1762172967154.jpg
END:VEVENT
BEGIN:VEVENT
DTSTART;TZID=Europe/Berlin:20251114T153000
DTEND;TZID=Europe/Berlin:20251114T163000
DTSTAMP:20260422T040022
CREATED:20251103T123203Z
LAST-MODIFIED:20251103T123231Z
UID:32062-1763134200-1763137800@kunstlabor.org
SUMMARY:WOLKEN WORKSHOP - KIDS
DESCRIPTION:Im Workshop zur Kinderausstellung „Seth’s Spiel(träume)“ im KUNSTLABOR2 gestaltest du deine ganz persönliche Wolke: weich\, leuchtend und voller Magie. Aus einfachen Materialien entsteht ein bezauberndes Nachtlicht\, das dein Zimmer in sanftes Wolkenlicht taucht und dich sanft in den Schlaf begleitet. Besuche hierzu zunächst in der Gruppe die Show und lasse dich inspirieren. Der Eintritt ist inkludiert \nKomm vorbei\, lass deiner Fantasie freien Lauf und nimm ein Stück Himmel mit nach Hause! \n  \nTickets findest du hier \nWeitere Infos\, FAQ und unsere Stornobedingungen findet ihr hier
URL:https://kunstlabor.org/event/wolken-workshop-kids-2/
LOCATION:KUNSTLABOR 2\, / Dachauer Str. 90 / 80335 München\, Deutschland
ATTACH;FMTTYPE=image/jpeg:https://kunstlabor.org/wp-content/uploads/2025/11/thumbnail_Wolkenworkshop-e1762172967154.jpg
END:VEVENT
BEGIN:VEVENT
DTSTART;TZID=Europe/Berlin:20251121T150000
DTEND;TZID=Europe/Berlin:20251121T160000
DTSTAMP:20260422T040022
CREATED:20251103T123310Z
LAST-MODIFIED:20251103T123310Z
UID:32064-1763737200-1763740800@kunstlabor.org
SUMMARY:WOLKEN WORKSHOP - KIDS
DESCRIPTION:Im Workshop zur Kinderausstellung „Seth’s Spiel(träume)“ im KUNSTLABOR2 gestaltest du deine ganz persönliche Wolke: weich\, leuchtend und voller Magie. Aus einfachen Materialien entsteht ein bezauberndes Nachtlicht\, das dein Zimmer in sanftes Wolkenlicht taucht und dich sanft in den Schlaf begleitet. Besuche hierzu zunächst in der Gruppe die Show und lasse dich inspirieren. Der Eintritt ist inkludiert \nKomm vorbei\, lass deiner Fantasie freien Lauf und nimm ein Stück Himmel mit nach Hause! \n  \nTickets findest du hier \nWeitere Infos\, FAQ und unsere Stornobedingungen findet ihr hier
URL:https://kunstlabor.org/event/wolken-workshop-kids-3/
LOCATION:KUNSTLABOR 2\, / Dachauer Str. 90 / 80335 München\, Deutschland
ATTACH;FMTTYPE=image/jpeg:https://kunstlabor.org/wp-content/uploads/2025/11/thumbnail_Wolkenworkshop-e1762172967154.jpg
END:VEVENT
END:VCALENDAR