BEGIN:VCALENDAR
VERSION:2.0
PRODID:-//Kunstlabor 2 - ECPv6.15.18//NONSGML v1.0//EN
CALSCALE:GREGORIAN
METHOD:PUBLISH
X-WR-CALNAME:Kunstlabor 2
X-ORIGINAL-URL:https://kunstlabor.org
X-WR-CALDESC:Veranstaltungen für Kunstlabor 2
REFRESH-INTERVAL;VALUE=DURATION:PT1H
X-Robots-Tag:noindex
X-PUBLISHED-TTL:PT1H
BEGIN:VTIMEZONE
TZID:Europe/Berlin
BEGIN:DAYLIGHT
TZOFFSETFROM:+0100
TZOFFSETTO:+0200
TZNAME:CEST
DTSTART:20220327T010000
END:DAYLIGHT
BEGIN:STANDARD
TZOFFSETFROM:+0200
TZOFFSETTO:+0100
TZNAME:CET
DTSTART:20221030T010000
END:STANDARD
BEGIN:DAYLIGHT
TZOFFSETFROM:+0100
TZOFFSETTO:+0200
TZNAME:CEST
DTSTART:20230326T010000
END:DAYLIGHT
BEGIN:STANDARD
TZOFFSETFROM:+0200
TZOFFSETTO:+0100
TZNAME:CET
DTSTART:20231029T010000
END:STANDARD
BEGIN:DAYLIGHT
TZOFFSETFROM:+0100
TZOFFSETTO:+0200
TZNAME:CEST
DTSTART:20240331T010000
END:DAYLIGHT
BEGIN:STANDARD
TZOFFSETFROM:+0200
TZOFFSETTO:+0100
TZNAME:CET
DTSTART:20241027T010000
END:STANDARD
END:VTIMEZONE
BEGIN:VEVENT
DTSTART;TZID=Europe/Berlin:20231103T190000
DTEND;TZID=Europe/Berlin:20231103T220000
DTSTAMP:20260423T150633
CREATED:20231013T090500Z
LAST-MODIFIED:20231103T132718Z
UID:29008-1699038000-1699048800@kunstlabor.org
SUMMARY:Vernissage Soft Expansion
DESCRIPTION:Wir laden euch herzlich zur Vernissage zu unseren neuen Ausstellung Soft Expansion in der Pop-Up Gallery ein. Es stellen aus: Nadja Kromer\, Ikue Ohta\, Jieun Park\, Sumire Sakuma\, Aleschija Seibt.   \nDem Phänomen Wachstum liegt das Prinzip der Ausdehnung zu Grunde und begegnet uns im Alltag auf vielfältigste Weise. Der Expansionsdrang scheint jedem Leben immanent. Dennoch zeigt die Biologie\, dass der Prozess auch Begrenzungen unterliegt\, da ein Werden nicht ohne Vergehen möglich ist und manche Dinge sich nur bis zu einer festgelegten Endgröße entwickeln. Wachstum bewegt sich daher in einem ambivalenten Spannungsfeld von Ausdehnung und Rückzug.\nIn der Natur bringt organisches Wachstum lockere und variable Formen hervor\, die ineinandergreifen und unerwartete Begegnungen ermöglichen.\nDieser Aspekt wird in der Ausstellung Soft Expansion aufgegriffen und bringt verschiedene künstlerische Perspektiven auf das vielschichtige Thema durch Ausdehnung in Dialog. \nDer Eintritt ist frei! \nIhr könnt euch die Ausstellung auch während unserer regulären Öffnungszeiten (Sa & So von 12:00 – 18:00 Uhr) bis zum 19.11.2023 anschauen.  \n  \n 
URL:https://kunstlabor.org/event/vernissage-soft-expansion/
LOCATION:Pop Up Gallery im KUNSTLABOR 2\, Dachauer Str. 90\, München\, 80335\, Deutschland
ATTACH;FMTTYPE=image/jpeg:https://kunstlabor.org/wp-content/uploads/2023/10/soft_expansion.jpg
END:VEVENT
END:VCALENDAR