BEGIN:VCALENDAR
VERSION:2.0
PRODID:-//Kunstlabor 2 - ECPv6.15.18//NONSGML v1.0//EN
CALSCALE:GREGORIAN
METHOD:PUBLISH
X-WR-CALNAME:Kunstlabor 2
X-ORIGINAL-URL:https://kunstlabor.org
X-WR-CALDESC:Veranstaltungen für Kunstlabor 2
REFRESH-INTERVAL;VALUE=DURATION:PT1H
X-Robots-Tag:noindex
X-PUBLISHED-TTL:PT1H
BEGIN:VTIMEZONE
TZID:Europe/Berlin
BEGIN:DAYLIGHT
TZOFFSETFROM:+0100
TZOFFSETTO:+0200
TZNAME:CEST
DTSTART:20220327T010000
END:DAYLIGHT
BEGIN:STANDARD
TZOFFSETFROM:+0200
TZOFFSETTO:+0100
TZNAME:CET
DTSTART:20221030T010000
END:STANDARD
BEGIN:DAYLIGHT
TZOFFSETFROM:+0100
TZOFFSETTO:+0200
TZNAME:CEST
DTSTART:20230326T010000
END:DAYLIGHT
BEGIN:STANDARD
TZOFFSETFROM:+0200
TZOFFSETTO:+0100
TZNAME:CET
DTSTART:20231029T010000
END:STANDARD
BEGIN:DAYLIGHT
TZOFFSETFROM:+0100
TZOFFSETTO:+0200
TZNAME:CEST
DTSTART:20240331T010000
END:DAYLIGHT
BEGIN:STANDARD
TZOFFSETFROM:+0200
TZOFFSETTO:+0100
TZNAME:CET
DTSTART:20241027T010000
END:STANDARD
END:VTIMEZONE
BEGIN:VEVENT
DTSTART;TZID=Europe/Berlin:20230302T180000
DTEND;TZID=Europe/Berlin:20230302T203000
DTSTAMP:20260424T014912
CREATED:20230227T101917Z
LAST-MODIFIED:20230228T095415Z
UID:26611-1677780000-1677789000@kunstlabor.org
SUMMARY:Vernissage zur Ausstellung „Stoffgeschichten – über global bewegte Materialien“
DESCRIPTION:Mode berührt uns alle – jeden Tag! Aber Mode ist nicht gleich Mode: Der Begriff „Fast Fashion“ bezeichnet ein Wirtschaftsmodell\, in dem Kollektionen schnelllebig entworfen\, zu niedrigen Preisen und in Masse verkauft werden – meist auf Kosten von Mensch und Umwelt. Wo soziale und ökologische Standards nicht greifen\, herrschen Missstände. \nUm auf weltweite Probleme hinzuweisen\, Alternativen aufzuzeigen und Zukunft zu denken\, wurde die Ausstellung „Stoffgeschichten – über global bewegte Materialien“ von Engagement Global konzipiert. Studierende und Lehrende der Akademie für Mode & Design AMD München haben sich intensiv mit acht Textilarten auseinandergesetzt und in der Ausstellungskonzeption soziale Aspekte\, die Geschichte der Stoffe und Materialkunde in Einklang gebracht. \nNun wird die Ausstellung erstmals zu sehen sein! Wir möchten Sie dazu gerne herzlich einladen: \nam\n2. März 2023 um 18 Uhr \nim\nKUNSTLABOR 2\nDachauer Straße 90\n80335 München \n  \nProgramm\nLassen Sie sich mitnehmen in die Welt der Textilien mit einem Kurzvortrag und einer Führung durch die Ausstellung. Gerne lädt Sie Engagement Global im Anschluss zum Verweilen bei Getränken und Häppchen ein. \nAusstellungsbesuch mit interaktivem Rundgang & Workshop\n \n3. März 2023\n15 Uhr Führung durch die Ausstellung\n16-18:30 Uhr Workshop: „Kunststopfen von Pullovern – gib deinem Lieblingspulli ein neues Leben“ \n5. März 2023\n15.30 bis 18 Uhr freier Zugang zur Ausstellung\nNur der Besuch ider Ausstellung „Stoffgeschichten – über global bewegte Materialien“ ist kostenlos. Wenn Sie die andere Ausstellungen im KUNSTLABOR 2 besuchen möchten\, zahlen Sie den regulären Eintritt.\n16 Uhr Führung durch die Ausstellung\n15:30-18 Uhr Workshop: Workshop: „Kunststopfen von Pullovern – gib deinem Lieblingspulli ein neues Leben“ \nim KUNSTLABOR 2 \nBitte melden Sie sich bei Interesse für die Vernissage und die Workshops an unter: aussenstelle.stuttgart@engagement-global.de \nDie Vernissage  findet in Kooperation von Engagement Global mit der Akademie für Mode & Design München statt.
URL:https://kunstlabor.org/event/vernissage-zur-ausstellung-stoffgeschichten-ueber-global-bewegte-materialien/
LOCATION:Kreativ Werkstatt im KUNSTLABOR 2\, / KL2 / Dachauer Str. 90 / München
ATTACH;FMTTYPE=image/jpeg:https://kunstlabor.org/wp-content/uploads/2023/02/craft-6537240_Seide-scaled.jpg
END:VEVENT
END:VCALENDAR