BEGIN:VCALENDAR
VERSION:2.0
PRODID:-//Kunstlabor 2 - ECPv6.15.18//NONSGML v1.0//EN
CALSCALE:GREGORIAN
METHOD:PUBLISH
X-WR-CALNAME:Kunstlabor 2
X-ORIGINAL-URL:https://kunstlabor.org
X-WR-CALDESC:Veranstaltungen für Kunstlabor 2
REFRESH-INTERVAL;VALUE=DURATION:PT1H
X-Robots-Tag:noindex
X-PUBLISHED-TTL:PT1H
BEGIN:VTIMEZONE
TZID:Europe/Berlin
BEGIN:DAYLIGHT
TZOFFSETFROM:+0100
TZOFFSETTO:+0200
TZNAME:CEST
DTSTART:20240331T010000
END:DAYLIGHT
BEGIN:STANDARD
TZOFFSETFROM:+0200
TZOFFSETTO:+0100
TZNAME:CET
DTSTART:20241027T010000
END:STANDARD
BEGIN:DAYLIGHT
TZOFFSETFROM:+0100
TZOFFSETTO:+0200
TZNAME:CEST
DTSTART:20250330T010000
END:DAYLIGHT
BEGIN:STANDARD
TZOFFSETFROM:+0200
TZOFFSETTO:+0100
TZNAME:CET
DTSTART:20251026T010000
END:STANDARD
BEGIN:DAYLIGHT
TZOFFSETFROM:+0100
TZOFFSETTO:+0200
TZNAME:CEST
DTSTART:20260329T010000
END:DAYLIGHT
BEGIN:STANDARD
TZOFFSETFROM:+0200
TZOFFSETTO:+0100
TZNAME:CET
DTSTART:20261025T010000
END:STANDARD
END:VTIMEZONE
BEGIN:VEVENT
DTSTART;TZID=Europe/Berlin:20251109T111500
DTEND;TZID=Europe/Berlin:20251109T121500
DTSTAMP:20260421T230250
CREATED:20250825T083800Z
LAST-MODIFIED:20250904T094720Z
UID:31567-1762686900-1762690500@kunstlabor.org
SUMMARY:POP-UP YOGA
DESCRIPTION:Erlebe Yoga einmal anders: Im einzigartigen Ambiente unseres Kunstlabors 2 rollst du deine Matte zwischen faszinierenden Installationen\, Urban Art und kreativen Räumen aus. Gemeinsam mit Pop Up Yoga München tauchst du in eine offene\, inspirierende Yogastunde ein – geeignet für Anfänger:innen ebenso wie für Geübte. \nBei schönem Wetter üben wir im Innenhof\, sonst in den großzügigen Eventräumen. Im Ticketpreis ist immer auch der Eintritt ins Kunstlabor enthalten – so kannst du nach der Session direkt in die Ausstellungen eintauchen und den Flow inmitten von Kunst weiterwirken lassen. \nPOP UP YOGA im Kunstlabor verbindet Bewegung\, Kreativität und urbanes Lebensgefühl – deine kreative Auszeit mitten in München. \n  \nGerne könnt ihr auch direkt auf das Event bei uns im Stundenplan zur Buchung verlinken: \nhttps://www.fyndery.de/_/kurs/11155/pop-up-yoga-muenchen/?ref=3932 \n—– \nPOP UP YOGA MÜNCHEN\nby Gina Weber & Theresa ‚Terry‘ Brackmann \nwww.popupyogamuc.com  |  Facebook  |  Instagram \nNamasté
URL:https://kunstlabor.org/event/pop-up-yoga-muenchen-im-kunstlabor-2-2/
LOCATION:KUNSTLABOR 2\, / Dachauer Str. 90 / 80335 München\, Deutschland
ATTACH;FMTTYPE=image/jpeg:https://kunstlabor.org/wp-content/uploads/2025/08/pop-up-Yoga-scaled-e1756977514462.jpg
END:VEVENT
END:VCALENDAR