BEGIN:VCALENDAR
VERSION:2.0
PRODID:-//Kunstlabor 2 - ECPv6.15.18//NONSGML v1.0//EN
CALSCALE:GREGORIAN
METHOD:PUBLISH
X-ORIGINAL-URL:https://kunstlabor.org
X-WR-CALDESC:Veranstaltungen für Kunstlabor 2
REFRESH-INTERVAL;VALUE=DURATION:PT1H
X-Robots-Tag:noindex
X-PUBLISHED-TTL:PT1H
BEGIN:VTIMEZONE
TZID:Europe/Berlin
BEGIN:DAYLIGHT
TZOFFSETFROM:+0100
TZOFFSETTO:+0200
TZNAME:CEST
DTSTART:20240331T010000
END:DAYLIGHT
BEGIN:STANDARD
TZOFFSETFROM:+0200
TZOFFSETTO:+0100
TZNAME:CET
DTSTART:20241027T010000
END:STANDARD
BEGIN:DAYLIGHT
TZOFFSETFROM:+0100
TZOFFSETTO:+0200
TZNAME:CEST
DTSTART:20250330T010000
END:DAYLIGHT
BEGIN:STANDARD
TZOFFSETFROM:+0200
TZOFFSETTO:+0100
TZNAME:CET
DTSTART:20251026T010000
END:STANDARD
BEGIN:DAYLIGHT
TZOFFSETFROM:+0100
TZOFFSETTO:+0200
TZNAME:CEST
DTSTART:20260329T010000
END:DAYLIGHT
BEGIN:STANDARD
TZOFFSETFROM:+0200
TZOFFSETTO:+0100
TZNAME:CET
DTSTART:20261025T010000
END:STANDARD
END:VTIMEZONE
BEGIN:VEVENT
DTSTART;TZID=Europe/Berlin:20251017T180000
DTEND;TZID=Europe/Berlin:20251017T220000
DTSTAMP:20260422T015848
CREATED:20250904T083933Z
LAST-MODIFIED:20251216T112223Z
UID:31644-1760724000-1760738400@kunstlabor.org
SUMMARY:VERNISSAGE "HEAVEN ON A STICK" | Eliot the Super
DESCRIPTION:Arbeiten und Wirken des Hip Hop Pioniers Eliot the Super von 1989-2025 in München-Berlin-Wien-München \nMit Graffiti\, Comix & BeatBox zur Urban Pop Art.     \n  \nDie Ausstellung gibt Einblick in unterschiedlichen Arbeitsweisen\, Techniken und Entwicklung des Künstlers „Eliot the Super“. Chronologie mit alten bis neuen Werken\, Skizzenbücher und dokumentarische Fotos aus Ateliers in München\, Berlin und Wien zeigen den Werdegang vom „wilden Teenager“ damals bis hin zum hauptberuflich freischaffenden Künstler heute. \nFür Kunstinteressierte und Menschen die Spaß an lockeren Kultur-Events haben. Jugendliche und junge Erwachsene fühlen sich besonders angesprochen durch die Bildsprache von Graffiti\, Street- und Pop Art. Künstler:Innen\, Sammler:Innen und die lokale Szene schätzen die Zusammenkunft und gehören ebenso zu den Gästen. „Eliot the Super“ ist persönlich anwesend und freut sich auf ein gemeinsames Happening. Authentizität und Nähe zum Künstler werden von Besucher:Innen immer als tolle Erfahrung gelobt. \nDer Münchener Künstler „Eliot the Super“ zeigt Unikate und Serigraphien sowie Multiples und Kollagen auf Leinwand\, Holzgründen und Papier. Technik\, Ausdrucksweise und künstlerische Perspektive der Arbeiten in der Ausstellung sind modern und aktuell. Umfassender\, retrospektivischer Einblick in das Arbeiten und Wirken des Künstlers von 1989-2025 in München-Berlin-Wien-München. Mit Graffiti\, Comix & Beatbox zur Urban Pop Art. \n  \nWann: 17.10 ab 18:00 Uhr  \nWo: Pop-Up Gallery im KUNSTLABOR2 \nDer Eintritt ist frei
URL:https://kunstlabor.org/event/vernissage-heaven-on-a-stick/
LOCATION:Pop Up Gallery im KUNSTLABOR 2\, Dachauer Str. 90\, München\, 80335\, Deutschland
CATEGORIES:Pop-Up-Ausstellung
ATTACH;FMTTYPE=image/jpeg:https://kunstlabor.org/wp-content/uploads/2025/09/ELIOT-theSuper_2021_Foto-by-Priscilla-Grubo_1000x628.jpg
END:VEVENT
BEGIN:VEVENT
DTSTART;TZID=Europe/Berlin:20251018T120000
DTEND;TZID=Europe/Berlin:20251026T180000
DTSTAMP:20260422T015848
CREATED:20250904T084658Z
LAST-MODIFIED:20251216T112201Z
UID:31651-1760788800-1761501600@kunstlabor.org
SUMMARY:AUSSTELLUNG "HEAVEN ON A STICK" | Eliot the Super
DESCRIPTION:Arbeiten und Wirken des Hip Hop Pioniers Eliot the Super von 1989-2025 in München-Berlin-Wien-München \n  \nMit Graffiti\, Comix & BeatBox zur Urban Pop Art.     \nDie Ausstellung gibt Einblick in unterschiedlichen Arbeitsweisen\, Techniken und Entwicklung des Künstlers „Eliot the Super“. Chronologie mit alten bis neuen Werken\, Skizzenbücher und dokumentarische Fotos aus Ateliers in München\, Berlin und Wien zeigen den Werdegang vom „wilden Teenager“ damals bis hin zum hauptberuflich freischaffenden Künstler heute. \nFür Kunstinteressierte und Menschen die Spaß an lockeren Kultur-Events haben. Jugendliche und junge Erwachsene fühlen sich besonders angesprochen durch die Bildsprache von Graffiti\, Street- und Pop Art. Künstler:Innen\, Sammler:Innen und die lokale Szene schätzen die Zusammenkunft und gehören ebenso zu den Gästen. „Eliot the Super“ ist persönlich anwesend und freut sich auf ein gemeinsames Happening. Authentizität und Nähe zum Künstler werden von Besucher:Innen immer als tolle Erfahrung gelobt. \nDer Münchener Künstler „Eliot the Super“ zeigt Unikate und Serigraphien sowie Multiples und Kollagen auf Leinwand\, Holzgründen und Papier. Technik\, Ausdrucksweise und künstlerische Perspektive der Arbeiten in der Ausstellung sind modern und aktuell. Umfassender\, retrospektivischer Einblick in das Arbeiten und Wirken des Künstlers von 1989-2025 in München-Berlin-Wien-München. Mit Graffiti\, Comix & Beatbox zur Urban Pop Art. \n  \nVernissage: 17.10 ab 18.00 Uhr  \nLange Nacht der Museen: 18.10 ab 18:00 Uhr mit DJ Explizit  \nArtist Talk: 25.10 13:00 Uhr und 16:00 Uhr  \nFinissage: 26.10 ab 12:00 Uhr Artist Brunch mit Brezn und Kaffee (solange der Vorrat reicht)  \n  \nAusstellung: 18.10 bis 26.10 \nWo: Pop-Up Gallery im KUNSTLABOR2 \nDer Eintritt ist frei
URL:https://kunstlabor.org/event/ausstellung-heaven-on-a-stick/
LOCATION:Pop Up Gallery im KUNSTLABOR 2\, Dachauer Str. 90\, München\, 80335\, Deutschland
CATEGORIES:Pop-Up-Ausstellung
ATTACH;FMTTYPE=image/jpeg:https://kunstlabor.org/wp-content/uploads/2025/09/ELIOT-theSuper_2021_Foto-by-Priscilla-Grubo_1000x628.jpg
END:VEVENT
BEGIN:VEVENT
DTSTART;TZID=Europe/Berlin:20251018T180000
DTEND;TZID=Europe/Berlin:20251026T010000
DTSTAMP:20260422T015848
CREATED:20250919T082038Z
LAST-MODIFIED:20251016T134415Z
UID:31848-1760810400-1761440400@kunstlabor.org
SUMMARY:DJ EXPLIZIT x "HEAVEN ON A STICK"
DESCRIPTION:Hier gibt’s was auf die Ohren! \n  \nZur Langen Nacht der Münchner Museen verwöhnt uns der Münchner HipHop Pionier und Legende Eliot the Super nicht nur mit den coolsten Visuals\, DJ Explizit heizt ab 22:00 Uhr so richtig ein\, mit den besten Beats. \nWer das verpasst ist selber Schuld! \n  \nWann: 18.10 ab 22:00 Uhr \nWo: Pop-Up Gallery im KUNSTLABOR2 \nDer Eintritt ist frei
URL:https://kunstlabor.org/event/dj-explizit-x-heaven-on-a-stick/
LOCATION:Pop Up Gallery im KUNSTLABOR 2\, Dachauer Str. 90\, München\, 80335\, Deutschland
ATTACH;FMTTYPE=image/png:https://kunstlabor.org/wp-content/uploads/2025/09/dj-eliot.png
END:VEVENT
END:VCALENDAR