BEGIN:VCALENDAR
VERSION:2.0
PRODID:-//Kunstlabor 2 - ECPv6.15.18//NONSGML v1.0//EN
CALSCALE:GREGORIAN
METHOD:PUBLISH
X-ORIGINAL-URL:https://kunstlabor.org
X-WR-CALDESC:Veranstaltungen für Kunstlabor 2
REFRESH-INTERVAL;VALUE=DURATION:PT1H
X-Robots-Tag:noindex
X-PUBLISHED-TTL:PT1H
BEGIN:VTIMEZONE
TZID:Europe/Berlin
BEGIN:DAYLIGHT
TZOFFSETFROM:+0100
TZOFFSETTO:+0200
TZNAME:CEST
DTSTART:20230326T010000
END:DAYLIGHT
BEGIN:STANDARD
TZOFFSETFROM:+0200
TZOFFSETTO:+0100
TZNAME:CET
DTSTART:20231029T010000
END:STANDARD
BEGIN:DAYLIGHT
TZOFFSETFROM:+0100
TZOFFSETTO:+0200
TZNAME:CEST
DTSTART:20240331T010000
END:DAYLIGHT
BEGIN:STANDARD
TZOFFSETFROM:+0200
TZOFFSETTO:+0100
TZNAME:CET
DTSTART:20241027T010000
END:STANDARD
BEGIN:DAYLIGHT
TZOFFSETFROM:+0100
TZOFFSETTO:+0200
TZNAME:CEST
DTSTART:20250330T010000
END:DAYLIGHT
BEGIN:STANDARD
TZOFFSETFROM:+0200
TZOFFSETTO:+0100
TZNAME:CET
DTSTART:20251026T010000
END:STANDARD
END:VTIMEZONE
BEGIN:VEVENT
DTSTART;TZID=Europe/Berlin:20240428T150000
DTEND;TZID=Europe/Berlin:20240428T180000
DTSTAMP:20260423T033340
CREATED:20240424T141946Z
LAST-MODIFIED:20240424T142043Z
UID:30105-1714316400-1714327200@kunstlabor.org
SUMMARY:FINISSAGE - A BETTER PLANET\, A BETTER WORLD
DESCRIPTION:FINISSAGE „A BETTER PLANET\, A BETTER WORLD” \nWir laden euch herzlich zum Abschluss der Ausstellung „A BETTER PLANET\, A BETTER WORLD“ am 28. April von 15-18 Uhr in der Pop-Up Galerie des KUNSTLABOR 2 ein. \nA BETTER PLANET\, A BETTER WORLD ist ein Kunstprojekt und eine Kampagne (www.abetterplanetabetterworld.com)\, die von der Multimedia-Künstlerin Alessandra Mattanza ins Leben gerufen wurde. Es ist der Sensibilisierung für den Schutz der Natur\, der Flora und Fauna\, der Umwelt und indigener Kulturen durch die Kraft der Kunst gewidmet. Es kombiniert Fotografie\, Poesie\, Literatur\, Technologie\, KI und Innovation\, um neue Lösungen zu schaffen. \nDie erste Multimedia-Kunstausstellung „A Better Planet\, A Better World“ fand im Juli und August 2023 in der Hauptgalerie des Hauptsitzes der Vereinten Nationen in New York mit über 200.000 Besuchern statt. Ein Teil dieser Kunstausstellung wird nun bis 2025 in der Vertretung Italiens bei den Vereinten Nationen zu sehen sein. \nDie nächste Kunstausstellung „A Better Planet\, A Better World“ wird in San Francisco im Juli und August 2024 zu sehen sein. \n  \nLocation:\nKUNSTLABOR 2\nDachauer Straße 90\n80335 München
URL:https://kunstlabor.org/event/finissage-a-better-planet-a-better-world/
ATTACH;FMTTYPE=image/png:https://kunstlabor.org/wp-content/uploads/2024/04/Screenshot-2024-04-24-161549-e1713968232823.png
END:VEVENT
END:VCALENDAR