BEGIN:VCALENDAR
VERSION:2.0
PRODID:-//Kunstlabor 2 - ECPv6.15.18//NONSGML v1.0//EN
CALSCALE:GREGORIAN
METHOD:PUBLISH
X-ORIGINAL-URL:https://kunstlabor.org
X-WR-CALDESC:Veranstaltungen für Kunstlabor 2
REFRESH-INTERVAL;VALUE=DURATION:PT1H
X-Robots-Tag:noindex
X-PUBLISHED-TTL:PT1H
BEGIN:VTIMEZONE
TZID:Europe/Berlin
BEGIN:DAYLIGHT
TZOFFSETFROM:+0100
TZOFFSETTO:+0200
TZNAME:CEST
DTSTART:20220327T010000
END:DAYLIGHT
BEGIN:STANDARD
TZOFFSETFROM:+0200
TZOFFSETTO:+0100
TZNAME:CET
DTSTART:20221030T010000
END:STANDARD
BEGIN:DAYLIGHT
TZOFFSETFROM:+0100
TZOFFSETTO:+0200
TZNAME:CEST
DTSTART:20230326T010000
END:DAYLIGHT
BEGIN:STANDARD
TZOFFSETFROM:+0200
TZOFFSETTO:+0100
TZNAME:CET
DTSTART:20231029T010000
END:STANDARD
BEGIN:DAYLIGHT
TZOFFSETFROM:+0100
TZOFFSETTO:+0200
TZNAME:CEST
DTSTART:20240331T010000
END:DAYLIGHT
BEGIN:STANDARD
TZOFFSETFROM:+0200
TZOFFSETTO:+0100
TZNAME:CET
DTSTART:20241027T010000
END:STANDARD
END:VTIMEZONE
BEGIN:VEVENT
DTSTART;TZID=Europe/Berlin:20230624T120000
DTEND;TZID=Europe/Berlin:20231217T180000
DTSTAMP:20260423T180551
CREATED:20230707T105740Z
LAST-MODIFIED:20230707T105740Z
UID:28759-1687608000-1702836000@kunstlabor.org
SUMMARY:THE TAPESTRY OF SPACES
DESCRIPTION:DAS LIED DER RÄUME\n\n\n\n\n\nKomposition von ChatGPTEingerichtet von Adrian Sieber und Jakob Haas\n\n\nIhr könnt ab jetzt unseren neuen Raum THE TAPESTRY OF SPACES entdecken. \nSieben Räume unserer Ausstellung dienen als Grundlage für Projekt. Anhand von Fotos der von den Künstler*innen gestalteten Räume erstellte ChatGPT das melodische Material für fünf einzelne Instrumente\, die jeweils einem Raum zugeordnet sind. Zusätzlich werden zwei Räume für unterschiedlich zusammengesetzte Instrumentengruppen eingesetzt. Die thematische Verarbeitung des so entstandenen Materials oblag den Bearbeitern. Der musikalische Aufbau und der Titel des Stücks sind von ChatGPT vorgegeben. \nDie Auseinandersetzung der Bearbeiter mit den Vorgaben von ChatGPT beleuchtet\, inwiefern die GPT-KI als Inspirationsquelle und thematische Ideengeberin dienen kann\, und wo die Grenzen der Technologie für die künstlerische Verarbeitung musikalischer Ideen liegen. \nDie filmische Umsetzung der Komposition in den sieben Kunsträumen erfolgt in VR180 3D mit immersivem Audio und ist ab dem 24.06.2023 ebenfalls Teil unserer Ausstellung. Mit dem Eden Snacker System wird die Komposition für Ausstellungsbesucher jederzeit immersiv erlebbar. \nIhr könnt euch zu diesem Projekt auch den Beitrag von München.Tv auf Youtube anschauen. Weitere Infos zu dem Projekt gibt es auch hier. \n​
URL:https://kunstlabor.org/event/the-tapestry-of-spaces/
LOCATION:KUNSTLABOR 2\, / Dachauer Str. 90 / 80335 München\, Deutschland
ATTACH;FMTTYPE=image/jpeg:https://kunstlabor.org/wp-content/uploads/2023/06/TapestryOfSpaces_Newsletter.jpg
END:VEVENT
BEGIN:VEVENT
DTSTART;TZID=Europe/Berlin:20230708T120000
DTEND;TZID=Europe/Berlin:20230708T220000
DTSTAMP:20260423T180551
CREATED:20230413T140231Z
LAST-MODIFIED:20230630T095528Z
UID:27255-1688817600-1688853600@kunstlabor.org
SUMMARY:KL2 Sommerfest
DESCRIPTION:Wir laden euch auch dieses Jahr herzlich zu unserem Sommerfest ein! \nNeben kulinarischen Schmankerln und musikalischen Highlights\, wie zB. die Münchner Underground HipHop Crew C’est la nuit\, Post-Punk Band Deutschland GmbH\, JohnDash uvm. erwartet euch im Innenhof des KL2 die Cans&Co-Blockparty mit Live-Painting und einem offenen Graffiti Battle welches von DJs begleitet wird. \nZusammen mit unseren Partnern Cans&CO\, Super+\, AMARi Bar & Kantine und vielen mehr\, freuen wir uns auf euch. Kommt vorbei und genießt mit uns die Sonne!
URL:https://kunstlabor.org/event/save-the-date-kl2-sommerfest/
LOCATION:KUNSTLABOR 2\, / Dachauer Str. 90 / 80335 München\, Deutschland
ATTACH;FMTTYPE=image/jpeg:https://kunstlabor.org/wp-content/uploads/2023/04/Sommerfest_Flyer_Programm.jpg
END:VEVENT
BEGIN:VEVENT
DTSTART;TZID=Europe/Berlin:20230716T120000
DTEND;TZID=Europe/Berlin:20230716T143000
DTSTAMP:20260423T180551
CREATED:20230530T135504Z
LAST-MODIFIED:20230530T135504Z
UID:28465-1689508800-1689517800@kunstlabor.org
SUMMARY:Graffiti Workshop für Beginner – KIDS
DESCRIPTION:Seit 1983 prägt Graffiti das Münchner Stadtbild.\nWusstest du zum Beispiel\, dass der erste Zug Europas in München bemalt wurde?\nWie Buchstaben und Figuren anfangen sich auf der Wand zu bewegen? Wie sich ein Style entwickelt?\nAll das und noch mehr erzählen dir die Sprüher*innen in unseren Graffiti Workshops. \nVom Papier bis zu Umsetzung an der Wand\, begleiten dich unsere Workshopleiter*innen\, die mit ihrer langjährigen Erfahrung dir alles an Wissen mit an die Hand geben können\, was du zum Sprühen brauchst.\nStyle\, Farben\, Technik und coole Storys erwarteten dich hier bei uns im Kunstlabor 2. \nDies ist der Beginner-Workshop\, solltest du schonmal einen Kurs besucht haben oder Erfahrung mitbringen\, empfehlen wir dir den Workshop für Fortgeschrittene. \nTickets könnt ihr über unseren Webshop kaufen: hier.
URL:https://kunstlabor.org/event/graffiti-workshop-fuer-beginner-kids-8/
LOCATION:Kreativ Werkstatt im KUNSTLABOR 2\, / KL2 / Dachauer Str. 90 / München
ATTACH;FMTTYPE=image/jpeg:https://kunstlabor.org/wp-content/uploads/2023/03/kunstlabor-graffiti-workshop-kids-14.jpg
END:VEVENT
BEGIN:VEVENT
DTSTART;TZID=Europe/Berlin:20230716T151500
DTEND;TZID=Europe/Berlin:20230716T174500
DTSTAMP:20260423T180551
CREATED:20230530T135729Z
LAST-MODIFIED:20230530T135729Z
UID:28467-1689520500-1689529500@kunstlabor.org
SUMMARY:Graffiti Workshop für Beginner – Erwachsene ab 16 Jahren
DESCRIPTION:Seit 1983 prägt Graffiti das Münchner Stadtbild.\nWusstest du zum Beispiel\, dass der erste Zug Europas in München bemalt wurde?\nWie Buchstaben und Figuren anfangen sich auf der Wand zu bewegen? Wie sich ein Style entwickelt?\nAll das und noch mehr erzählen dir die Sprüher*innen in unseren Graffiti Workshops. \nVom Papier bis zu Umsetzung an der Wand\, begleiten dich unsere Workshopleiter*innen\, die mit ihrer langjährigen Erfahrung dir alles an Wissen mit an die Hand geben können\, was du zum Sprühen brauchst.\nStyle\, Farben\, Technik und coole Storys erwarteten dich hier bei uns im Kunstlabor 2. \nDies ist der Beginner-Workshop\, solltest du schonmal einen Kurs besucht haben oder Erfahrung mitbringen\, empfehlen wir dir den Workshop für Fortgeschrittene. \nTickets könnt ihr über unseren Webshop kaufen: hier.
URL:https://kunstlabor.org/event/graffiti-workshop-fuer-beginner-erwachsene-ab-16-jahren-7/
LOCATION:Kreativ Werkstatt im KUNSTLABOR 2\, / KL2 / Dachauer Str. 90 / München
ATTACH;FMTTYPE=image/jpeg:https://kunstlabor.org/wp-content/uploads/2023/03/kunstlabor-graffiti-workshop-kids-14.jpg
END:VEVENT
END:VCALENDAR