BEGIN:VCALENDAR
VERSION:2.0
PRODID:-//Kunstlabor 2 - ECPv6.15.18//NONSGML v1.0//EN
CALSCALE:GREGORIAN
METHOD:PUBLISH
X-WR-CALNAME:Kunstlabor 2
X-ORIGINAL-URL:https://kunstlabor.org
X-WR-CALDESC:Veranstaltungen für Kunstlabor 2
REFRESH-INTERVAL;VALUE=DURATION:PT1H
X-Robots-Tag:noindex
X-PUBLISHED-TTL:PT1H
BEGIN:VTIMEZONE
TZID:Europe/Berlin
BEGIN:DAYLIGHT
TZOFFSETFROM:+0100
TZOFFSETTO:+0200
TZNAME:CEST
DTSTART:20240331T010000
END:DAYLIGHT
BEGIN:STANDARD
TZOFFSETFROM:+0200
TZOFFSETTO:+0100
TZNAME:CET
DTSTART:20241027T010000
END:STANDARD
BEGIN:DAYLIGHT
TZOFFSETFROM:+0100
TZOFFSETTO:+0200
TZNAME:CEST
DTSTART:20250330T010000
END:DAYLIGHT
BEGIN:STANDARD
TZOFFSETFROM:+0200
TZOFFSETTO:+0100
TZNAME:CET
DTSTART:20251026T010000
END:STANDARD
BEGIN:DAYLIGHT
TZOFFSETFROM:+0100
TZOFFSETTO:+0200
TZNAME:CEST
DTSTART:20260329T010000
END:DAYLIGHT
BEGIN:STANDARD
TZOFFSETFROM:+0200
TZOFFSETTO:+0100
TZNAME:CET
DTSTART:20261025T010000
END:STANDARD
END:VTIMEZONE
BEGIN:VEVENT
DTSTART;TZID=Europe/Berlin:20250920T120000
DTEND;TZID=Europe/Berlin:20250920T180000
DTSTAMP:20260422T015720
CREATED:20250904T094441Z
LAST-MODIFIED:20250908T094740Z
UID:31676-1758369600-1758391200@kunstlabor.org
SUMMARY:VERNISSAGE "GEMÄLDE\, ZEICHNUNGEN UND KERAMIKEN"
DESCRIPTION:Richard Joseph Cull & Elisabeth Maria Cull (geb. Hauff). \nBeide Künstler haben an der Kunstakademie in München studiert und ihre Werke wurden auf zahlreichen Ausstellungen \nu a.im Haus der Kunst\, national und international z .B. in England und in Italien gezeigt. \n  \nDie Retrospektive zeigt Malerei und Zeichnungen von Richard Joseph Cull und feiert seinen feinen englischen Humor\, seine farbenfrohe Lebendigkeit und sein unglaubliches Lebenswerk. All das spiegelt sich in seinen Gemälden\, Zeichnungen und Keramiken wieder. \nIm Jahr 2002 hat er seinen rechten Arm auf Grund einer Krebserkrankung verloren und danach begonnen\, seine Ölbilder mit links zu malen. Deshalb hat er alle Bilder\, die nach 2001 entstanden sind\, mit Culll signiert. Das dritte l im Namen steht für „left“. \n  \nElisabeth Maria Cull\, geb. Hauff aus München\, (91) Keramikerin und Bildhauerin\, gibt regelmäßig Kurse in ihrer eigenen Werkstatt im Lehel. Sie war früher langjährige Kunstdozentin an der Münchner Volkshochschule und gab auch Kunstunterricht an der International School. Sie schafft hauptsächlich kleinere Tonplastiken. \n  \nGrößere Objekte befinden sich u a. in und\, an Gebäuden z. B. in einer kleinen Kirche in Italien mehrere Fresken. Keramikumrandungen von Türen in Italien und in München. Mehrere Entwürfe und Aufbauten von Kachelöffen\, außerdem die Gestaltung des Eingangs und der Innenhalle des Gebäudes für Landwirtschaft und Forsten in der Neumarkter Straße usw. \nBeider Schaffen beinhaltet vielerlei Stilrichtungen bis zum Abstrakten. \n  \nWann: 20.09 12:00 – 18:00 Uhr \nWo: Pop-Up Gallery im KUNSTLABOR2 \nDer Eintritt ist frei
URL:https://kunstlabor.org/event/vernissage-gemaelde-zeichnungen-und-keramiken/
LOCATION:Pop Up Gallery im KUNSTLABOR 2\, Dachauer Str. 90\, München\, 80335\, Deutschland
CATEGORIES:Pop-Up-Ausstellung
ATTACH;FMTTYPE=image/jpeg:https://kunstlabor.org/wp-content/uploads/2025/05/2Bildschirmfoto_8-9-2025_114527_.jpg
END:VEVENT
BEGIN:VEVENT
DTSTART;TZID=Europe/Berlin:20250920T120000
DTEND;TZID=Europe/Berlin:20250921T180000
DTSTAMP:20260422T015720
CREATED:20250519T083806Z
LAST-MODIFIED:20250908T094709Z
UID:31258-1758369600-1758477600@kunstlabor.org
SUMMARY:AUSSTELLUNG "GEMÄLDE\, ZEICHNUNGEN UND KERAMIKEN"
DESCRIPTION:Richard Joseph Cull & Elisabeth Maria Cull (geb. Hauff). \nBeide Künstler haben an der Kunstakademie in München studiert und ihre Werke wurden auf zahlreichen Ausstellungen \nu a.im Haus der Kunst\, national und international z .B. in England und in Italien gezeigt. \n  \nDie Retrospektive zeigt Malerei und Zeichnungen von Richard Joseph Cull und feiert seinen feinen englischen Humor\, seine farbenfrohe Lebendigkeit und sein unglaubliches Lebenswerk. All das spiegelt sich in seinen Gemälden\, Zeichnungen und Keramiken wieder. \nIm Jahr 2002 hat er seinen rechten Arm auf Grund einer Krebserkrankung verloren und danach begonnen\, seine Ölbilder mit links zu malen. Deshalb hat er alle Bilder\, die nach 2001 entstanden sind\, mit Culll signiert. Das dritte l im Namen steht für „left“. \n  \nElisabeth Maria Cull\, geb. Hauff aus München\, (91) Keramikerin und Bildhauerin\, gibt regelmäßig Kurse in ihrer eigenen Werkstatt im Lehel. Sie war früher langjährige Kunstdozentin an der Münchner Volkshochschule und gab auch Kunstunterricht an der International School. Sie schafft hauptsächlich kleinere Tonplastiken. \n  \nGrößere Objekte befinden sich u a. in und\, an Gebäuden z. B. in einer kleinen Kirche in Italien mehrere Fresken. Keramikumrandungen von Türen in Italien und in München. Mehrere Entwürfe und Aufbauten von Kachelöffen\, außerdem die Gestaltung des Eingangs und der Innenhalle des Gebäudes für Landwirtschaft und Forsten in der Neumarkter Straße usw. \nBeider Schaffen beinhaltet vielerlei Stilrichtungen bis zum Abstrakten. \n  \nWann: 20.09 – 21.09 12:00 – 18:00 Uhr \nWo: Pop-Up Gallery im KUNSTLABOR2 \nDer Eintritt ist frei
URL:https://kunstlabor.org/event/gemaelde-zeichnungen-und-keramiken-von-richard-joseph-cull-elisabeth-maria-cull/
LOCATION:Pop Up Gallery im KUNSTLABOR 2\, Dachauer Str. 90\, München\, 80335\, Deutschland
CATEGORIES:Pop-Up-Ausstellung
ATTACH;FMTTYPE=image/jpeg:https://kunstlabor.org/wp-content/uploads/2025/05/2Bildschirmfoto_8-9-2025_114527_.jpg
END:VEVENT
BEGIN:VEVENT
DTSTART;TZID=Europe/Berlin:20250927T170000
DTEND;TZID=Europe/Berlin:20250927T190000
DTSTAMP:20260422T015720
CREATED:20250904T090555Z
LAST-MODIFIED:20250908T084106Z
UID:31661-1758992400-1758999600@kunstlabor.org
SUMMARY:VERNISSAGE "DOWN FORCE"
DESCRIPTION:Ernst Handl \nBereits seit über 2 Jahrzehnten konzipiert und führt Ernst Handl Kunstaktionen mit bis zu tausenden von Teilnehmern durch.  In dieser Zeit ist ein Team mit besonderem Spirit gewachsen\, dem Menschen aus unterschiedlichsten Disziplinen freiberuflich angehören und ein reichhaltiges Netz an Kompetenzen abbilden. \n  \nWann: 27.09 ab 17:00 Uhr  \nWo: Pop-Up Gallery im KUNSTLABOR2 \nDer Eintritt ist frei
URL:https://kunstlabor.org/event/vernissage-down-force/
LOCATION:Pop Up Gallery im KUNSTLABOR 2\, Dachauer Str. 90\, München\, 80335\, Deutschland
CATEGORIES:Pop-Up-Ausstellung
ATTACH;FMTTYPE=image/jpeg:https://kunstlabor.org/wp-content/uploads/2025/08/Down-Force_MAIL_0-e1756976676336.jpg
END:VEVENT
BEGIN:VEVENT
DTSTART;TZID=Europe/Berlin:20250928T120000
DTEND;TZID=Europe/Berlin:20250928T143000
DTSTAMP:20260422T015720
CREATED:20250818T075657Z
LAST-MODIFIED:20250904T085239Z
UID:31410-1759060800-1759069800@kunstlabor.org
SUMMARY:GRAFFITI WORKSHOP FÜR BEGINNER - ERWACHSENE AB 16 JAHREN
DESCRIPTION:Seit 1983 prägt Graffiti das Münchner Stadtbild.\nWusstest du zum Beispiel\, dass der erste Zug Europas in München bemalt wurde?\nWie Buchstaben und Figuren anfangen sich auf der Wand zu bewegen? Wie sich ein Style entwickelt?\nAll das und noch mehr erzählen dir die Sprüher*innen in unseren Graffiti Workshops. \nVom Papier bis zu Umsetzung an der Wand\, begleiten dich unsere Workshopleiter*innen\, die mit ihrer langjährigen Erfahrung dir alles an Wissen mit an die Hand geben können\, was du zum Sprühen brauchst.\nStyle\, Farben\, Technik und coole Storys erwarteten dich hier bei uns im Kunstlabor 2. \nDies ist der Beginner-Workshop\, solltest du schonmal einen Kurs besucht haben oder Erfahrung mitbringen\, empfehlen wir dir den Workshop für Fortgeschrittene. \nTickets könnt ihr über unseren Webshop kaufen: hier.
URL:https://kunstlabor.org/event/graffiti-workshop-fuer-beginner-erwachsene-ab-16-jahren-30/
ATTACH;FMTTYPE=image/webp:https://kunstlabor.org/wp-content/uploads/2024/02/kunstlabor-graffiti-workshop-kids-14.webp
END:VEVENT
BEGIN:VEVENT
DTSTART;TZID=Europe/Berlin:20250928T120000
DTEND;TZID=Europe/Berlin:20251013T180000
DTSTAMP:20260422T015720
CREATED:20250825T085821Z
LAST-MODIFIED:20250908T083800Z
UID:31575-1759060800-1760378400@kunstlabor.org
SUMMARY:AUSSTELLUNG "DOWN FORCE"
DESCRIPTION:Ernst Handl \nBereits seit über 2 Jahrzehnten konzipiert und führt Ernst Handl Kunstaktionen mit bis zu tausenden von Teilnehmern durch.  In dieser Zeit ist ein Team mit besonderem Spirit gewachsen\, dem Menschen aus unterschiedlichsten Disziplinen freiberuflich angehören und ein reichhaltiges Netz an Kompetenzen abbilden. \n  \nVernissage: 27.09 ab 17:00 Uhr  \nMatinee: 28.09 ab 12:00 Uhr  \nArtist Talk: 04.10 ab 15:00 Uhr  \nPerformance: 05.10 ab 14:00 Uhr  \nMatinee: 11.10 ab 13:00 Uhr  \nFinissage: 12.10 ab 16:00 Uhr \n  \nWann: 27.09 – 12.10 12:00 – 18.00 Uhr  \nWo: Pop-Up Gallery im KUNSTLABOR2 \nDer Eintritt ist frei
URL:https://kunstlabor.org/event/ausstellung-down-force/
LOCATION:Pop Up Gallery im KUNSTLABOR 2\, Dachauer Str. 90\, München\, 80335\, Deutschland
CATEGORIES:Pop-Up-Ausstellung
ATTACH;FMTTYPE=image/jpeg:https://kunstlabor.org/wp-content/uploads/2025/08/Down-Force_MAIL_0-e1756976676336.jpg
END:VEVENT
END:VCALENDAR