BEGIN:VCALENDAR
VERSION:2.0
PRODID:-//Kunstlabor 2 - ECPv6.15.18//NONSGML v1.0//EN
CALSCALE:GREGORIAN
METHOD:PUBLISH
X-WR-CALNAME:Kunstlabor 2
X-ORIGINAL-URL:https://kunstlabor.org
X-WR-CALDESC:Veranstaltungen für Kunstlabor 2
REFRESH-INTERVAL;VALUE=DURATION:PT1H
X-Robots-Tag:noindex
X-PUBLISHED-TTL:PT1H
BEGIN:VTIMEZONE
TZID:Europe/Berlin
BEGIN:DAYLIGHT
TZOFFSETFROM:+0100
TZOFFSETTO:+0200
TZNAME:CEST
DTSTART:20230326T010000
END:DAYLIGHT
BEGIN:STANDARD
TZOFFSETFROM:+0200
TZOFFSETTO:+0100
TZNAME:CET
DTSTART:20231029T010000
END:STANDARD
BEGIN:DAYLIGHT
TZOFFSETFROM:+0100
TZOFFSETTO:+0200
TZNAME:CEST
DTSTART:20240331T010000
END:DAYLIGHT
BEGIN:STANDARD
TZOFFSETFROM:+0200
TZOFFSETTO:+0100
TZNAME:CET
DTSTART:20241027T010000
END:STANDARD
BEGIN:DAYLIGHT
TZOFFSETFROM:+0100
TZOFFSETTO:+0200
TZNAME:CEST
DTSTART:20250330T010000
END:DAYLIGHT
BEGIN:STANDARD
TZOFFSETFROM:+0200
TZOFFSETTO:+0100
TZNAME:CET
DTSTART:20251026T010000
END:STANDARD
END:VTIMEZONE
BEGIN:VEVENT
DTSTART;TZID=Europe/Berlin:20241012T120000
DTEND;TZID=Europe/Berlin:20241103T180000
DTSTAMP:20260422T161002
CREATED:20240923T083905Z
LAST-MODIFIED:20241001T073412Z
UID:30884-1728734400-1730656800@kunstlabor.org
SUMMARY:t = X - ABOUT THE REPETITION OF CIRCLES\, SOUNDS AND LINES - AUSSTELLUNG
DESCRIPTION:t =x- about the repetition of circles\, sounds and lines \nIn ihrer künstlerischen Arbeit beschäftigt sich Celia Meissner mit Reduktion\, Klarheit und Tiefe. Multimedial schafft sie zwei- und dreidimensionale Räume\, die dazu einladen\, für einen Moment\, ganz in die Arbeit einzutauchen. Durch reduzierte grafische Formensprache und sich wiederholende Rhythmen ermöglicht Meissner einen Einblick in Momente\, die ihr in einer Zeit der ständigen Reizüberflutung als Ruhepol dienen. Wiederholungen und Vertiefungen lassen sich in den visuellen Medien wie Zeichnung und Skulptur ebenso wiederfinden\, wie in den akustischen Kompositionen\, die sich oft wie eine eigene Atmosphäre um die Installationen legen. \nZyklen\, Kreise\, Wiederholungen. Vom Anfang zum Ende\, oder vom Anfang zum Anfang? Und was ist dazwischen? Wir gehen nach aktuellem Kenntnisstand davon aus\, dass unser Universum endlos expandiert. Alle Materie und Energie verteilt sich in einem undefiniert weitem Raum. Irgendwann wird alle Materie verglüht sein. Es entsteht eine Stille und Leere. Was wäre\, wenn unser Universum zyklisch existieren würde? Nach der „Big Crunch“ Hypothese fällt das Universum an einem bestimmten Punkt der maximalen Ausdehnung zu mehreren schwarzen Löchern zusammen\, die sich zu einem großen schwarzen Loch verbinden\, welches sich selbst verschluckt. Das würde bedeuten\, dass die existierende Energie sich wieder auf einem Punkt versammelt\, und wenn maximale Energie auf minimalem Raum zusammengekommen ist\, genug Substanz da ist um wieder als Urknall zu explodieren und zu expandieren. \nIn der Ausstellung „t = x- about the repetition of circles\, sounds and lines“ setzt sich Celia Meissner mit der Vorstellung des zyklischen Universums auseinander. Mit der Ausdehnung und dem Zusammenziehen von Energie. Ein Pulsieren. Beginnend mit der Darstellung des gesamten Zyklus\, werden fortführend einzelne Momente genauer betrachtet. Interpretationen von Momenten auf dem Zeitstrahl des Universums. Immer als visuelle und klangliche Erfahrung. Entgegengesetzt zur Schnelligkeit des Vergehens von Momenten ist der Arbeitsprozess der Zeichnungen einer\, der Langsamkeit erfordert. In einem fast meditativem Zustand werden die Bilder aus dreidimensional gezeichneten Kugeln zusammengesetzt. Es ist eine Wiederholung\, sowohl im Motiv\, als auch in der Bewegung. In den Skulpturen zeigen sich Ausschnitte aus dem Zyklus raumgroß. Betrachter*innen bekommen die Möglichkeit\, in dem dargestellten Moment zu stehen. Intensiviert wird das durch die klangliche Interpretation der Energie\, die sich in dem Moment konzentriert. Die Kompositionen basieren ausschließlich auf der Stimme der Künstlerin\, da aus ihrer persönlichen Perspektive ihre Stimme für diese Arbeit das einzig angemessene Instrument war\, welches die nicht sichtbare\, aber innewohnende Energie übersetzen konnte. Die Ausstellung lädt dazu ein sich in Momente der Langsamkeit fallen zu lassen. Sich zu lösen von den alltäglichen Themen\, die einen begleiten\, sich durch die Arbeiten treiben zu lassen und in den Klangräumen zu verweilen. Das Thema begleitet Celia Meissner seit Anfang 2023. Der Großteil der Arbeiten werden in „t =x- about the repetition of circles\, sounds and lines“ zum ersten Mal öffentlich präsentiert.
URL:https://kunstlabor.org/event/t-x-about-the-repetition-of-circles-sounds-and-lines-ausstellung/
LOCATION:Pop Up Gallery im KUNSTLABOR 2\, Dachauer Str. 90\, München\, 80335\, Deutschland
CATEGORIES:Pop-Up-Ausstellung
ATTACH;FMTTYPE=image/jpeg:https://kunstlabor.org/wp-content/uploads/2024/09/Meissner_Plakat_fertig-1-scaled.jpg
END:VEVENT
BEGIN:VEVENT
DTSTART;TZID=Europe/Berlin:20241103T150000
DTEND;TZID=Europe/Berlin:20241103T173000
DTSTAMP:20260422T161002
CREATED:20240930T094616Z
LAST-MODIFIED:20241031T115157Z
UID:30894-1730646000-1730655000@kunstlabor.org
SUMMARY:magicmushROOM #1 – KUNSTLABOR
DESCRIPTION:magicmushROOM #1 – KUNSTLABOR \nSpaziergang durch Kunst und Musik \nmagicmushROOM ist ein neues Format\, bei dem das Ensemble der/gelbe/klang seine angestammte Umgebung der Konzertsäle verlässt und sich neue Räumlichkeiten erobert. Der Titel symbolisiert dabei sowohl ein alles ist möglich im Sinn eines auch rauschhaften Musikerlebnisses als auch den Bezug zum »Raum«\, auf den das musikalische Erlebnis abgestimmt ist bzw. mit dem es verschmilzt. \nDie erste Ausgabe führt ins KUNSTLABOR 2. Mit seinen zahllosen Räumen\, die immer wieder Kulisse wechselnder Kunstprojekte sind\, lädt es geradezu ein zu einer Entdeckungsreise auch musikalischer Natur. Dabei werden die Musiker innen des Ensembles diesmal Altes mit Neuem kombinieren: Von Musik des Hochbarock bis zur Uraufführung ist alles enthalten. Das genaue Programm bleibt aber bis zum Schluss geheim\, die Wanderung durch die Ausstellungsräume des Kunstlabors wird so zu einer musikalischen Expedition. \nEin musikalischer Spaziergang durch das KUNSTLABOR 2! Das Publikum wandert von Raum zu Raum und findet überall Mitglieder von der/gelbe/klang\, die Alte\, Neue oder Ganz Neue Musik spielen. \nProgramm: streng geheim! \nEintritt: Sie kaufen eine Eintrittskarte zur Ausstellung im KUNSTLABOR 2… und suchen die Musik! \n  \nDie Tickets findet ihr hier: Eintritt KUNSTLABOR 2 – MUCA Webshop \nBitte den 03.November 2024 auswählen! \n  \nFoto – ©Zura Gvantseladze\nIG – @tatozura
URL:https://kunstlabor.org/event/magicmushroom-1-kunstlabor/
LOCATION:KUNSTLABOR 2\, / Dachauer Str. 90 / 80335 München\, Deutschland
ATTACH;FMTTYPE=image/jpeg:https://kunstlabor.org/wp-content/uploads/2024/09/20230517-DSCF1618-scaled.jpeg
END:VEVENT
BEGIN:VEVENT
DTSTART;TZID=Europe/Berlin:20241117T111500
DTEND;TZID=Europe/Berlin:20241117T121500
DTSTAMP:20260422T161002
CREATED:20240918T101607Z
LAST-MODIFIED:20240918T101607Z
UID:30879-1731842100-1731845700@kunstlabor.org
SUMMARY:POP UP YOGA & Kunst
DESCRIPTION:Gina und Terry von POP UP YOGA München sind bekannt dafür\, dass sie Yoga am liebsten aus dem klassischen Studio heraus an all die anderen besonderen und schönsten Orte verlegen\, die München zu bieten hat. \nDort ganz vorne mit dabei: ganz klar das KUNSTLABOR 2! \nDenn welcher Ort könnte für eine POP UP YOGA Session wohl geeigneter sein\, als das größte kulturelle Zwischennutzungsprojekt Münchens und neuer Kreativ-Hotspot für Urban Art! \nWir laden dich ein\, deiner yogischen Kreativität freien Lauf zu lassen und mit uns die perfekte Wochenende-Kombi aus Yoga & Kunst zu entdecken! \nDiese Yoga-Session findet im Rahmen des Open Weekend bei gutem Wetter im Innenhof\, andernfalls im Event-Raum des KUNSTLABOR 2 \nIm Event ist jeweils ein Tagesticket für das KUNSTLABOR inkludiert. Nimm dir gerne ausreichend Zeit\, so dass du nach der Yogasession noch die vielen verschiedenen Kunstwerke entdecken kannst. \n  \nFacts: \n\nJedes Level ist willkommen\, egal ob Anfänger oder ‚Profi‘-Yogi – es gibt immer die passende Variante!\nBegrenzte Teilnehmerzahl\, daher bitte Anmeldung vorab hier: https://www.fyndery.de/muenchen/kurs/11155/pop-up-yoga-muenchen/?ref=3932\nBitte bring deine eigene Matte mit oder sonstige Unterlage mit\n\n  \nWir freuen uns sehr auf dich und ein wunderbares gemeinsames kreatives POP UP YOGA Erlebnis! \nDein Team von #popupyogamuc
URL:https://kunstlabor.org/event/pop-up-yoga-kunst-15/
ATTACH;FMTTYPE=image/jpeg:https://kunstlabor.org/wp-content/uploads/2023/03/PopUpYoga.jpg
END:VEVENT
BEGIN:VEVENT
DTSTART;TZID=Europe/Berlin:20241117T151500
DTEND;TZID=Europe/Berlin:20241117T174500
DTSTAMP:20260422T161002
CREATED:20241024T122336Z
LAST-MODIFIED:20241024T135338Z
UID:30964-1731856500-1731865500@kunstlabor.org
SUMMARY:CHARACTER DESIGN & GRAFFITI AUF LEINWAND - JUGENDLICHE
DESCRIPTION:Bei diesem coolen Kurs startest du mit spannenden Infos zur Entstehungsgeschichte und den Basics des Graffiti und Character Design bevor es auch schon in die Praxis übergeht. Mit deinem neuen Wissen verschönerst du nun den Hintergrund deiner Leinwand mit Spraydosen. Während der Trocknungszeit des Hintergrundes erfährst du etwas über Farbenlehre\, Bildaufbau und Grundlagen des Character Designs und erste Skizzen werden ausgearbeitet. Character nennen Sprüher figürliche Darstellungen\, welche oft im Stil von Comics gestaltet sind\, aber auch fotorealistische Menschen\, Tiere oder Objekte sein können. Sobald du zufrieden mit deiner Skizze bist\, darfst du dein Motiv mit Acrylstiften auf die Leinwand übertragen. Immer zur Seite steht dir hier ein begabter Graffiti-Sprayer oder Sprayerin aus der Münchner Szene. Zum Schluss darfst du dann dein fertiges Meisterwerk mit nach Hause nehmen. \nTickets könnt ihr über unseren Webshop kaufen: hier
URL:https://kunstlabor.org/event/character-design-graffiti-auf-leinwand-jugendliche-25/
LOCATION:KUNSTLABOR 2\, / Dachauer Str. 90 / 80335 München\, Deutschland
ATTACH;FMTTYPE=image/webp:https://kunstlabor.org/wp-content/uploads/2024/02/Muca_Graffiti_Workshop_Spraydose-Haende-2048x1365-1.webp
END:VEVENT
BEGIN:VEVENT
DTSTART;TZID=Europe/Berlin:20241124T151500
DTEND;TZID=Europe/Berlin:20241124T174500
DTSTAMP:20260422T161002
CREATED:20241024T135050Z
LAST-MODIFIED:20241024T135050Z
UID:30967-1732461300-1732470300@kunstlabor.org
SUMMARY:CHARACTER DESIGN & GRAFFITI AUF LEINWAND - FAMILIEN
DESCRIPTION:Dieser Kurs richtet sich an alle Familien\, die gemeinsam etwas anderes erleben möchten. Bei diesem coolen Kurs startest du mit spannenden Infos zur Entstehungsgeschichte und den Basics des Graffiti und Character Design bevor es auch schon in die Praxis übergeht. Mit deinem neuen Wissen verschönerst du nun den Hintergrund deiner Leinwand mit Spraydosen. Während der Trocknungszeit des Hintergrundes erfährst du etwas über Farbenlehre\, Bildaufbau und Grundlagen des Character Designs und erste Skizzen werden ausgearbeitet. Character nennen Sprüher figürliche Darstellungen\, welche oft im Stil von Comics gestaltet sind\, aber auch fotorealistische Menschen\, Tiere oder Objekte sein können. Sobald du zufrieden mit deiner Skizze bist\, darfst du dein Motiv mit Acrylstiften auf die Leinwand übertragen. Immer zur Seite steht dir hier ein begabter Graffiti-Sprayer oder Sprayerin aus der Münchner Szene. Zum Schluss darfst du dann dein fertiges Meisterwerk mit nach Hause nehmen. \nTickets könnt ihr über unseren Webshop kaufen: hier
URL:https://kunstlabor.org/event/character-design-graffiti-auf-leinwand-familien/
LOCATION:KUNSTLABOR 2\, / Dachauer Str. 90 / 80335 München\, Deutschland
ATTACH;FMTTYPE=image/webp:https://kunstlabor.org/wp-content/uploads/2024/02/Muca_Graffiti_Workshop_Spraydose-Haende-2048x1365-1.webp
END:VEVENT
BEGIN:VEVENT
DTSTART;TZID=Europe/Berlin:20241127T183000
DTEND;TZID=Europe/Berlin:20241127T220000
DTSTAMP:20260422T161002
CREATED:20241118T110719Z
LAST-MODIFIED:20241118T110719Z
UID:30987-1732732200-1732744800@kunstlabor.org
SUMMARY:
DESCRIPTION:KINO ASYL feiert vom 24. bis 29. November 2024 sein 10-jähriges Jubiläum – ein Jahrzehnt voller Geschichten junger Menschen mit Fluchterfahrung. Sie wählen Filme aus ihrer Heimat und zeigen dem Münchner Publikum einzigartige Kulturen und persönliche Perspektiven. Am 24. November findet die feierliche Eröffnung in den Münchner Kammerspielen statt. \nÜber sechs Tage hinweg öffnen sechs bedeutende Kulturorte Münchens dafür ihre Türen. Unter anderem wird das KUNSTLABOR 2 zum Spielort des Festivals. Von Zeichentrick über Dokumentar- bis hin zu Spielfilmen – das Programm ist ebenso vielfältig wie die Geschichten\, die es erzählt. \nMittwoch // 27. 11. 2024 // ab 18.30 Uhr im Eventsaal des KUNSTLABOR 2 \n 
URL:https://kunstlabor.org/event/30987/
LOCATION:Eventraum im KL2\, / Dachauer Str. 90 / München
ATTACH;FMTTYPE=image/png:https://kunstlabor.org/wp-content/uploads/2024/11/Kino-Asyl-24-Banner.png
END:VEVENT
BEGIN:VEVENT
DTSTART;TZID=Europe/Berlin:20241130T120000
DTEND;TZID=Europe/Berlin:20241130T143000
DTSTAMP:20260422T161002
CREATED:20241017T100953Z
LAST-MODIFIED:20241024T135131Z
UID:30954-1732968000-1732977000@kunstlabor.org
SUMMARY:CHARACTER DESIGN & GRAFFITI AUF LEINWAND - JUGENDLICHE
DESCRIPTION:Bei diesem coolen Kurs startest du mit spannenden Infos zur Entstehungsgeschichte und den Basics des Graffiti und Character Design bevor es auch schon in die Praxis übergeht. Mit deinem neuen Wissen verschönerst du nun den Hintergrund deiner Leinwand mit Spraydosen. Während der Trocknungszeit des Hintergrundes erfährst du etwas über Farbenlehre\, Bildaufbau und Grundlagen des Character Designs und erste Skizzen werden ausgearbeitet. Character nennen Sprüher figürliche Darstellungen\, welche oft im Stil von Comics gestaltet sind\, aber auch fotorealistische Menschen\, Tiere oder Objekte sein können. Sobald du zufrieden mit deiner Skizze bist\, darfst du dein Motiv mit Acrylstiften auf die Leinwand übertragen. Immer zur Seite steht dir hier ein begabter Graffiti-Sprayer oder Sprayerin aus der Münchner Szene. Zum Schluss darfst du dann dein fertiges Meisterwerk mit nach Hause nehmen. \nTickets könnt ihr über unseren Webshop kaufen: hier
URL:https://kunstlabor.org/event/character-design-graffiti-auf-leinwand-jugendliche-24/
LOCATION:KUNSTLABOR 2\, / Dachauer Str. 90 / 80335 München\, Deutschland
ATTACH;FMTTYPE=image/webp:https://kunstlabor.org/wp-content/uploads/2024/02/Muca_Graffiti_Workshop_Spraydose-Haende-2048x1365-1.webp
END:VEVENT
END:VCALENDAR