BEGIN:VCALENDAR
VERSION:2.0
PRODID:-//Kunstlabor 2 - ECPv6.15.18//NONSGML v1.0//EN
CALSCALE:GREGORIAN
METHOD:PUBLISH
X-ORIGINAL-URL:https://kunstlabor.org
X-WR-CALDESC:Veranstaltungen für Kunstlabor 2
REFRESH-INTERVAL;VALUE=DURATION:PT1H
X-Robots-Tag:noindex
X-PUBLISHED-TTL:PT1H
BEGIN:VTIMEZONE
TZID:Europe/Berlin
BEGIN:DAYLIGHT
TZOFFSETFROM:+0100
TZOFFSETTO:+0200
TZNAME:CEST
DTSTART:20220327T010000
END:DAYLIGHT
BEGIN:STANDARD
TZOFFSETFROM:+0200
TZOFFSETTO:+0100
TZNAME:CET
DTSTART:20221030T010000
END:STANDARD
BEGIN:DAYLIGHT
TZOFFSETFROM:+0100
TZOFFSETTO:+0200
TZNAME:CEST
DTSTART:20230326T010000
END:DAYLIGHT
BEGIN:STANDARD
TZOFFSETFROM:+0200
TZOFFSETTO:+0100
TZNAME:CET
DTSTART:20231029T010000
END:STANDARD
BEGIN:DAYLIGHT
TZOFFSETFROM:+0100
TZOFFSETTO:+0200
TZNAME:CEST
DTSTART:20240331T010000
END:DAYLIGHT
BEGIN:STANDARD
TZOFFSETFROM:+0200
TZOFFSETTO:+0100
TZNAME:CET
DTSTART:20241027T010000
END:STANDARD
END:VTIMEZONE
BEGIN:VEVENT
DTSTART;TZID=Europe/Berlin:20230624T120000
DTEND;TZID=Europe/Berlin:20231217T180000
DTSTAMP:20260423T112427
CREATED:20230707T105740Z
LAST-MODIFIED:20230707T105740Z
UID:28759-1687608000-1702836000@kunstlabor.org
SUMMARY:THE TAPESTRY OF SPACES
DESCRIPTION:DAS LIED DER RÄUME\n\n\n\n\n\nKomposition von ChatGPTEingerichtet von Adrian Sieber und Jakob Haas\n\n\nIhr könnt ab jetzt unseren neuen Raum THE TAPESTRY OF SPACES entdecken. \nSieben Räume unserer Ausstellung dienen als Grundlage für Projekt. Anhand von Fotos der von den Künstler*innen gestalteten Räume erstellte ChatGPT das melodische Material für fünf einzelne Instrumente\, die jeweils einem Raum zugeordnet sind. Zusätzlich werden zwei Räume für unterschiedlich zusammengesetzte Instrumentengruppen eingesetzt. Die thematische Verarbeitung des so entstandenen Materials oblag den Bearbeitern. Der musikalische Aufbau und der Titel des Stücks sind von ChatGPT vorgegeben. \nDie Auseinandersetzung der Bearbeiter mit den Vorgaben von ChatGPT beleuchtet\, inwiefern die GPT-KI als Inspirationsquelle und thematische Ideengeberin dienen kann\, und wo die Grenzen der Technologie für die künstlerische Verarbeitung musikalischer Ideen liegen. \nDie filmische Umsetzung der Komposition in den sieben Kunsträumen erfolgt in VR180 3D mit immersivem Audio und ist ab dem 24.06.2023 ebenfalls Teil unserer Ausstellung. Mit dem Eden Snacker System wird die Komposition für Ausstellungsbesucher jederzeit immersiv erlebbar. \nIhr könnt euch zu diesem Projekt auch den Beitrag von München.Tv auf Youtube anschauen. Weitere Infos zu dem Projekt gibt es auch hier. \n​
URL:https://kunstlabor.org/event/the-tapestry-of-spaces/
LOCATION:KUNSTLABOR 2\, / Dachauer Str. 90 / 80335 München\, Deutschland
ATTACH;FMTTYPE=image/jpeg:https://kunstlabor.org/wp-content/uploads/2023/06/TapestryOfSpaces_Newsletter.jpg
END:VEVENT
BEGIN:VEVENT
DTSTART;TZID=Europe/Berlin:20230903T150000
DTEND;TZID=Europe/Berlin:20230903T160000
DTSTAMP:20260423T112427
CREATED:20221215T141335Z
LAST-MODIFIED:20230901T091410Z
UID:26180-1693753200-1693756800@kunstlabor.org
SUMMARY:Flower Power Festival 2023 Ikebana-Schnupperkurs für Erwachsene im Rahmen des Ikebana-Wochenendes im KUNSTLABOR 2
DESCRIPTION:ACHTUNG: Dieser Workshop ist AUSGEBUCHT! (Es gibt keine verfügbaren Plätze mehr)\nFoto: Ayako Graefe\nIn diesem Kurs fertigen Sie ein Ikebana-Arrangement nach den Regeln der Sogetsu Schule\, einer der größten und kreativsten Schulen Japans. Der Leitsatz des Schulgründers Sofu Teshigahara lautet:\n„Ikebana kann von jedermann an jedem Ort zu jeder Zeit und mit jedem Material praktiziert werden.“ \nTeilnahmegebühr: 5 €\, beim Kursleiter zu entrichten \nDas benötigte Material – Blumen\, Zweige\, Gefäße\, Steckigel (Kenzan) und Schere – wird zur Verfügung gestellt. \nVeranstalter: Ikebana Sogetsu München e.V.\, www.ikebana-sogetsu-muenchen.de \nVerbindliche Anmeldung bei Angelika Mühlbauer \nAnmeldeformular (Download): Bitte Formular herunterladen\, ausfüllen und per Mail an Angelika Mühlbauer schicken. Dafür den obigen Link zu Frau Mühlbauer benutzen.
URL:https://kunstlabor.org/event/ikebana-schnupperkurs/
LOCATION:Kreativ Werkstatt im KUNSTLABOR 2\, / KL2 / Dachauer Str. 90 / München
ATTACH;FMTTYPE=image/jpeg:https://kunstlabor.org/wp-content/uploads/2022/12/1-Grundstil-geneigt-Muehlbauer-scaled.jpg
END:VEVENT
BEGIN:VEVENT
DTSTART;TZID=Europe/Berlin:20230910T120000
DTEND;TZID=Europe/Berlin:20230910T143000
DTSTAMP:20260423T112427
CREATED:20221215T140610Z
LAST-MODIFIED:20230606T140134Z
UID:26179-1694347200-1694356200@kunstlabor.org
SUMMARY:Flower Power Festival 2023 Kräuterführung: Blumen und Pflanzen in der Naturheilkunde
DESCRIPTION:Möchtest du wissen\, welche Heilkraft in welchen Blumen/Pflanzen steckt\, wann und wo sie wachsen\, welche essbar sind und wie du sie sicher erkennen und anwenden kannst? Nirgendwo lernt man besser über Pflanzen\, als wenn man unmittelbar von ihnen umgeben ist. Deswegen lade ich herzlich zu einer Kräuterführung ein! \nGemeinsam nähern wir uns den Pflanzen mit allen Sinnen und lernen sie ganzheitlich mit Geschichten\, Gedichten und alten mythologischen Erzählungen kennen. Passend zu den Jahreszeiten entdecken wir heilkräftige Pflanzen\, Delikatessen am Wegesrand und symbolträchtige\, heilsame Bäume. Fokus liegt hierbei auf den Blüten. \nAus der Führung ergibt sich die Möglichkeit\, heimische Pflanzen in den Speiseplan sowie in die Hausapotheke zu integrieren. \nAblauf \n\nTreffpunkt ist das KUNSTLABOR 2\, Dachauer Str. 90\, München\nZeit: ca. 90 Minuten\nSpaziergang von ca. 70 Minuten + 20 Minuten Verarbeitung\nVermittelt wird Praxiswissen über die Natur\, ihre Pflanzen\, sowie die Wirkung\, die in ihnen steckt\nTeilnehmer:innen erhalten Kenntnisse zum sicheren Sammeln und Anwenden der Pflanzen\, die richtige Aufbewahrung und Lagerung der Heilkräuter\, Infos zu giftigen Verwechslungsgefahren\, sowie viele Tipps und Ideen\, wie unsere heimischen Wildpflanzen in den Alltag integriert werden können\nAm Ende der Führung wird gemeinsam etwas hergestellt\, wie z.B. ein heilkräftiges Oxymel\, Blütensalz oder ähnliches\, was jede:r mit nach Hause nehmen kann\n\nWas Teilnehmer:innen brauchen: Wetterfeste Kleidung\, festes Schuhwerk\, 1 Einmachglas \n  \nHier gibt es Tickets.
URL:https://kunstlabor.org/event/kraeuterfuehrung-blumen-und-pflanzen-in-der-naturheilkunde-2/
ATTACH;FMTTYPE=image/jpeg:https://kunstlabor.org/wp-content/uploads/2022/12/Kraeuterfuehrung-1-e1688993462216.jpg
END:VEVENT
BEGIN:VEVENT
DTSTART;TZID=Europe/Berlin:20230916T120000
DTEND;TZID=Europe/Berlin:20230916T143000
DTSTAMP:20260423T112427
CREATED:20230619T131534Z
LAST-MODIFIED:20230630T134040Z
UID:28621-1694865600-1694874600@kunstlabor.org
SUMMARY:Graffiti Workshop für Fortgeschrittene – KIDS
DESCRIPTION:Hast du schonmal einen Graffiti-Kurs besucht oder bringst Vorwissen beim Sprühen mit? \nDann bist du hier genau richtig! \nHier wird mit unseren Workshopleiter*innen sowohl an deiner stylischen Ausarbeitung des Buchstabens auf dem Papier und am technischen Umgang mit der Dose an der Wand getüftelt.  \nHierbei begleiten dich unsere Workshopleiter*innen\, die dir mit ihrer langjährigen Erfahrung alles an Wissen mit an die Hand geben können\, die du zum Sprühen brauchst. \nStyle\, Farben\, Technik und coole Storys erwarteten dich hier bei uns im Kunstlabor 2. \nDies ist der Fortgeschrittenen-Workshop\, solltest du in der Vergangenheit noch keinen Kurs besucht haben oder Erfahrung mitbringen\, empfehlen wir dir den Workshop für Beginner. \nTickets könnt ihr über unseren Webshop kaufen: hier.
URL:https://kunstlabor.org/event/graffiti-workshop-fuer-fortgeschrittene-kids-2/
LOCATION:Kreativ Werkstatt im KUNSTLABOR 2\, / KL2 / Dachauer Str. 90 / München
ATTACH;FMTTYPE=image/jpeg:https://kunstlabor.org/wp-content/uploads/2022/10/Muca_Graffiti_Workshop_Spraydose-Haende-scaled.jpg
END:VEVENT
BEGIN:VEVENT
DTSTART;TZID=Europe/Berlin:20230917T151500
DTEND;TZID=Europe/Berlin:20230917T174500
DTSTAMP:20260423T112427
CREATED:20230619T132023Z
LAST-MODIFIED:20230921T134228Z
UID:28623-1694963700-1694972700@kunstlabor.org
SUMMARY:Graffiti Workshop für Beginner – Erwachsene ab 16 Jahren
DESCRIPTION:Seit 1983 prägt Graffiti das Münchner Stadtbild.\nWusstest du zum Beispiel\, dass der erste Zug Europas in München bemalt wurde?\nWie Buchstaben und Figuren anfangen sich auf der Wand zu bewegen? Wie sich ein Style entwickelt?\nAll das und noch mehr erzählen dir die Sprüher*innen in unseren Graffiti Workshops. \nVom Papier bis zu Umsetzung an der Wand\, begleiten dich unsere Workshopleiter*innen\, die mit ihrer langjährigen Erfahrung dir alles an Wissen mit an die Hand geben können\, was du zum Sprühen brauchst.\nStyle\, Farben\, Technik und coole Storys erwarteten dich hier bei uns im Kunstlabor 2. \nDies ist der Beginner-Workshop\, solltest du schonmal einen Kurs besucht haben oder Erfahrung mitbringen\, empfehlen wir dir den Workshop für Fortgeschrittene. \nTickets könnt ihr über unseren Webshop kaufen: hier.
URL:https://kunstlabor.org/event/graffiti-workshop-fuer-beginner-erwachsene-ab-16-jahren-10/
LOCATION:Kreativ Werkstatt im KUNSTLABOR 2\, / KL2 / Dachauer Str. 90 / München
ATTACH;FMTTYPE=image/jpeg:https://kunstlabor.org/wp-content/uploads/2023/03/kunstlabor-graffiti-workshop-kids-14.jpg
END:VEVENT
BEGIN:VEVENT
DTSTART;TZID=Europe/Berlin:20230917T151500
DTEND;TZID=Europe/Berlin:20230917T174500
DTSTAMP:20260423T112427
CREATED:20230921T134216Z
LAST-MODIFIED:20230921T134216Z
UID:28796-1694963700-1694972700@kunstlabor.org
SUMMARY:Graffiti Workshop für Beginner – Erwachsene ab 16 Jahren
DESCRIPTION:Seit 1983 prägt Graffiti das Münchner Stadtbild.\nWusstest du zum Beispiel\, dass der erste Zug Europas in München bemalt wurde?\nWie Buchstaben und Figuren anfangen sich auf der Wand zu bewegen? Wie sich ein Style entwickelt?\nAll das und noch mehr erzählen dir die Sprüher*innen in unseren Graffiti Workshops. \nVom Papier bis zu Umsetzung an der Wand\, begleiten dich unsere Workshopleiter*innen\, die mit ihrer langjährigen Erfahrung dir alles an Wissen mit an die Hand geben können\, was du zum Sprühen brauchst.\nStyle\, Farben\, Technik und coole Storys erwarteten dich hier bei uns im Kunstlabor 2. \nDies ist der Beginner-Workshop\, solltest du schonmal einen Kurs besucht haben oder Erfahrung mitbringen\, empfehlen wir dir den Workshop für Fortgeschrittene. \nTickets könnt ihr über unseren Webshop kaufen: hier.
URL:https://kunstlabor.org/event/graffiti-workshop-fuer-beginner-erwachsene-ab-16-jahren-13/
LOCATION:Kreativ Werkstatt im KUNSTLABOR 2\, / KL2 / Dachauer Str. 90 / München
ATTACH;FMTTYPE=image/jpeg:https://kunstlabor.org/wp-content/uploads/2023/03/kunstlabor-graffiti-workshop-kids-14.jpg
END:VEVENT
END:VCALENDAR