BEGIN:VCALENDAR
VERSION:2.0
PRODID:-//Kunstlabor 2 - ECPv6.15.18//NONSGML v1.0//EN
CALSCALE:GREGORIAN
METHOD:PUBLISH
X-ORIGINAL-URL:https://kunstlabor.org
X-WR-CALDESC:Veranstaltungen für Kunstlabor 2
REFRESH-INTERVAL;VALUE=DURATION:PT1H
X-Robots-Tag:noindex
X-PUBLISHED-TTL:PT1H
BEGIN:VTIMEZONE
TZID:Europe/Berlin
BEGIN:DAYLIGHT
TZOFFSETFROM:+0100
TZOFFSETTO:+0200
TZNAME:CEST
DTSTART:20210328T010000
END:DAYLIGHT
BEGIN:STANDARD
TZOFFSETFROM:+0200
TZOFFSETTO:+0100
TZNAME:CET
DTSTART:20211031T010000
END:STANDARD
BEGIN:DAYLIGHT
TZOFFSETFROM:+0100
TZOFFSETTO:+0200
TZNAME:CEST
DTSTART:20220327T010000
END:DAYLIGHT
BEGIN:STANDARD
TZOFFSETFROM:+0200
TZOFFSETTO:+0100
TZNAME:CET
DTSTART:20221030T010000
END:STANDARD
BEGIN:DAYLIGHT
TZOFFSETFROM:+0100
TZOFFSETTO:+0200
TZNAME:CEST
DTSTART:20230326T010000
END:DAYLIGHT
BEGIN:STANDARD
TZOFFSETFROM:+0200
TZOFFSETTO:+0100
TZNAME:CET
DTSTART:20231029T010000
END:STANDARD
END:VTIMEZONE
BEGIN:VEVENT
DTSTART;TZID=Europe/Berlin:20220402T160000
DTEND;TZID=Europe/Berlin:20220402T190000
DTSTAMP:20260424T092115
CREATED:20220329T120411Z
LAST-MODIFIED:20220331T115849Z
UID:25240-1648915200-1648926000@kunstlabor.org
SUMMARY:MEET THE ARTISTS - TRUGSCHLUSS KOLLEKTIV
DESCRIPTION:Im Rahmen unserer Eventserie „Meet the Artists“ führt am 02. April das trugschluss-Kollektiv durch ihren Raum und sprechen über Konzept und Umsetzung. Anschließend ist noch Zeit für offene Fragen und spontane Gespräche. \n  \nWer den Raum betritt\, taucht ein in ein Gesamtrauschen. \nAus acht kleinen Lautsprechern\, die in Duschkabinen-Dummies\, Duschschläuchen und Rohren verbaut sind\, ertönen Soundarbeiten von Münchner sowie internationalen Künstler*innen\, die das trugschluss-Kollektiv für dieses Projekt vereint hat – und sie alle befassen sich mit Rauschen. Nur wer sich innerhalb dieses Grundrauschens den einzelnen Soundquellen nähert\, sich für einen Moment unter einen Sound-Duschkopf stellt oder die Brause direkt ans Ohr hält\, wird bemerken wie verschieden und individuell ein Rauschen sein kann\, wo Binnendifferenzierungen spürbar werden: ob Körpergeräusche\, synthetisch erzeugtes Rauschen\, Naturaufnahmen oder mediale Fundstücke. Je nach Position im Raum verändert sich der Höreindruck durch Nähe und Distanz zu den verschiedenen Soundquellen sowie die Schallreflexionen des Raumes. \nDie Retro-Fliesen in gelb und grün waren der Ausgangspunkt für das Farbkonzept des Raumes. Die Rauschquellen fügen sich in das ehemalige Badezimmer ein. Stoffelemente dienen der Akustik\, führen aber auch zu einem optischen Bruch. Das Fenster ist nicht nur Blick nach Draußen\, sondern der Blick zwischen die Mauern\, in denen sich geheimes Rauschen verbirgt. \nDas siebenköpfige trugschluss-Kollektiv aus München kuratiert\, konzipiert und gestaltet Formate im Bereich Konzert\, Theater\, Performance und Installation. Ziel ist es immer\, Musik nicht nur hörend\, sondern auch in körperlichen\, räumlichen und sozialen Dimensionen erlebbar zu machen. \nDie Führung ist im Eintrittspreis inklusive.
URL:https://kunstlabor.org/event/meet-the-artists-trugschluss-kollektiv/
LOCATION:KUNSTLABOR 2\, / Dachauer Str. 90 / 80335 München\, Deutschland
ATTACH;FMTTYPE=image/jpeg:https://kunstlabor.org/wp-content/uploads/2022/03/kunstlabor-trugschluss-zentrale-kopie-scaled.jpg
END:VEVENT
BEGIN:VEVENT
DTSTART;TZID=Europe/Berlin:20220403T103000
DTEND;TZID=Europe/Berlin:20220403T130000
DTSTAMP:20260424T092115
CREATED:20220329T120800Z
LAST-MODIFIED:20220329T121243Z
UID:25242-1648981800-1648990800@kunstlabor.org
SUMMARY:GRAFFITI WORKSHOP KIDS
DESCRIPTION:Wusstet ihr\, dass die ersten Graffiti schon im Alten Ägypten (4000 v. Chr.) entstanden? Dort fand man Inschriften\, die in Tempeln\, Gräbern\, auf Felsen und Statuen gekratzt wurden. \nWenn ihr erfahren wollt\, wie Künstler aus der Graffiti-Szene heutzutage Werke auf der Straße entstehen lassen und wie ihr euer eigenes\, cooles Graffiti erstellen könnt\, dann seid ihr am KUNSTLABOR 2 genau richtig. \nHier lernt ihr zu sprayen\, taggen und zu cutten – alles was man für ein fertiges Graffiti-Werk braucht. Immer mit dabei einer unsere Graffiti-Leiter. Sie sind selbst Künstler und erzählen euch aufregendes über die Szene und werden euch Schritt für Schritt zur Seite stehen. \nTickets könnt ihr über unseren Webshop kaufen: Link
URL:https://kunstlabor.org/event/graffiti-workshop-kids-10/
LOCATION:Kreativ Werkstatt im KUNSTLABOR 2\, / KL2 / Dachauer Str. 90 / München
ATTACH;FMTTYPE=image/jpeg:https://kunstlabor.org/wp-content/uploads/2021/10/Graffiti-WS_header1.jpg
END:VEVENT
BEGIN:VEVENT
DTSTART;TZID=Europe/Berlin:20220403T140000
DTEND;TZID=Europe/Berlin:20220403T163000
DTSTAMP:20260424T092115
CREATED:20220329T121427Z
LAST-MODIFIED:20220329T121427Z
UID:25244-1648994400-1649003400@kunstlabor.org
SUMMARY:GRAFFIT WORKSHOP ADULTS
DESCRIPTION:Wusstet ihr\, dass die ersten Graffiti schon im Alten Ägypten (4000 v. Chr.) entstanden? Dort fand man Inschriften\, die in Tempeln\, Gräbern\, auf Felsen und Statuen gekratzt wurden. \nWenn ihr erfahren wollt\, wie Künstler aus der Graffiti-Szene heutzutage Werke auf der Straße entstehen lassen und wie ihr euer eigenes\, cooles Graffiti erstellen könnt\, dann seid ihr am KUNSTLABOR 2 genau richtig. \nHier lernt ihr zu sprayen\, taggen und zu cutten – alles was man für ein fertiges Graffiti-Werk braucht. Immer mit dabei einer unsere Graffiti-Leiter. Sie sind selbst Künstler und erzählen euch aufregendes über die Szene und werden euch Schritt für Schritt zur Seite stehen. \nTickets könnt ihr über unseren Webshop kaufen: Link
URL:https://kunstlabor.org/event/graffit-workshop-adults/
LOCATION:Kreativ Werkstatt im KUNSTLABOR 2\, / KL2 / Dachauer Str. 90 / München
ATTACH;FMTTYPE=image/jpeg:https://kunstlabor.org/wp-content/uploads/2021/10/Graffiti-WS_header1.jpg
END:VEVENT
BEGIN:VEVENT
DTSTART;TZID=Europe/Berlin:20220408T180000
DTEND;TZID=Europe/Berlin:20220408T193000
DTSTAMP:20260424T092115
CREATED:20220317T150610Z
LAST-MODIFIED:20220321T094311Z
UID:25180-1649440800-1649446200@kunstlabor.org
SUMMARY:FÜHRUNG DURCH DAS KUNSTLABOR 2
DESCRIPTION:Bei unserer Führung durch das neue KUNSTLABOR 2 gibt es eine Vielzahl an Rauminstallationen aus verschiedenen Kunstgenres zu entdecken. Lokale und internationale Namen der zeitgenössischen Kunst zeigen in diversen Räumen spektakuläre Ausstellungen und Rauminstallationen. \nAngeleitet durch unsere Gästeführer erhalten die Teilnehmer viele Hintergrundinformationen. \nNach der ca. 75-90 minütigen Führung\, hat jeder nochmals Zeit durch die Ausstellungen zu schlendern und die Werke zu begutachten. \nTickets für die Führung gibt es nur im Vorverkauf unter: shop.muca.eu
URL:https://kunstlabor.org/event/fuehrung-durch-das-kunstlabor-2-4/
LOCATION:KUNSTLABOR 2\, / Dachauer Str. 90 / 80335 München\, Deutschland
ATTACH;FMTTYPE=image/jpeg:https://kunstlabor.org/wp-content/uploads/2021/10/kunstlabor-logo-fassade-4-e1636455779824.jpg
END:VEVENT
BEGIN:VEVENT
DTSTART;TZID=Europe/Berlin:20220410T103000
DTEND;TZID=Europe/Berlin:20220410T130000
DTSTAMP:20260424T092115
CREATED:20220329T125238Z
LAST-MODIFIED:20220329T125317Z
UID:25257-1649586600-1649595600@kunstlabor.org
SUMMARY:GRAFFITI WORKSHOP ADULTS
DESCRIPTION:Wusstet ihr\, dass die ersten Graffiti schon im Alten Ägypten (4000 v. Chr.) entstanden? Dort fand man Inschriften\, die in Tempeln\, Gräbern\, auf Felsen und Statuen gekratzt wurden. \nWenn ihr erfahren wollt\, wie Künstler aus der Graffiti-Szene heutzutage Werke auf der Straße entstehen lassen und wie ihr euer eigenes\, cooles Graffiti erstellen könnt\, dann seid ihr am KUNSTLABOR 2 genau richtig. \nHier lernt ihr zu sprayen\, taggen und zu cutten – alles was man für ein fertiges Graffiti-Werk braucht. Immer mit dabei einer unsere Graffiti-Leiter. Sie sind selbst Künstler und erzählen euch aufregendes über die Szene und werden euch Schritt für Schritt zur Seite stehen. \nTickets könnt ihr über unseren Webshop kaufen: Link
URL:https://kunstlabor.org/event/graffiti-workshop-adults/
LOCATION:Kreativ Werkstatt im KUNSTLABOR 2\, / KL2 / Dachauer Str. 90 / München
ATTACH;FMTTYPE=image/jpeg:https://kunstlabor.org/wp-content/uploads/2021/10/Graffiti-WS_header1.jpg
END:VEVENT
BEGIN:VEVENT
DTSTART;TZID=Europe/Berlin:20220410T140000
DTEND;TZID=Europe/Berlin:20220410T163000
DTSTAMP:20260424T092115
CREATED:20220329T121721Z
LAST-MODIFIED:20220329T121746Z
UID:25249-1649599200-1649608200@kunstlabor.org
SUMMARY:GRAFFITI WORKSHOPS KIDS
DESCRIPTION:Wusstet ihr\, dass die ersten Graffiti schon im Alten Ägypten (4000 v. Chr.) entstanden? Dort fand man Inschriften\, die in Tempeln\, Gräbern\, auf Felsen und Statuen gekratzt wurden. \nWenn ihr erfahren wollt\, wie Künstler aus der Graffiti-Szene heutzutage Werke auf der Straße entstehen lassen und wie ihr euer eigenes\, cooles Graffiti erstellen könnt\, dann seid ihr am KUNSTLABOR 2 genau richtig. \nHier lernt ihr zu sprayen\, taggen und zu cutten – alles was man für ein fertiges Graffiti-Werk braucht. Immer mit dabei einer unsere Graffiti-Leiter. Sie sind selbst Künstler und erzählen euch aufregendes über die Szene und werden euch Schritt für Schritt zur Seite stehen. \nTickets könnt ihr über unseren Webshop kaufen: Link
URL:https://kunstlabor.org/event/graffiti-workshops-kids/
LOCATION:Kreativ Werkstatt im KUNSTLABOR 2\, / KL2 / Dachauer Str. 90 / München
ATTACH;FMTTYPE=image/jpeg:https://kunstlabor.org/wp-content/uploads/2021/10/Graffiti-WS_header1.jpg
END:VEVENT
BEGIN:VEVENT
DTSTART;VALUE=DATE:20220415
DTEND;VALUE=DATE:20220418
DTSTAMP:20260424T092115
CREATED:20220413T154920Z
LAST-MODIFIED:20220413T155355Z
UID:25324-1649980800-1650239999@kunstlabor.org
SUMMARY:OSTEREIERSUCHE
DESCRIPTION:Kommt zur Ostereiersuche quer durchs KUNSTLABOR 2! \nDer Osterhase hoppelt vom 15.-17. April durch unsere Ausstellungsräume und freut sich\, wenn ihr viele bunte (Schoko-) Eier sammelt\, die ihr natürlich mit nach Hause nehmen oder sofort aufessen dürft. \nDiese tolle Familien-Aktion ist im Ticketpreis inbegriffen. Kinder bis 12 Jahre haben freien Einritt
URL:https://kunstlabor.org/event/ostereiersuche/
LOCATION:KUNSTLABOR 2\, / Dachauer Str. 90 / 80335 München\, Deutschland
ATTACH;FMTTYPE=image/jpeg:https://kunstlabor.org/wp-content/uploads/2022/04/ANG_8483-scaled.jpg
END:VEVENT
BEGIN:VEVENT
DTSTART;TZID=Europe/Berlin:20220415T150000
DTEND;TZID=Europe/Berlin:20220415T180000
DTSTAMP:20260424T092115
CREATED:20220413T153753Z
LAST-MODIFIED:20220413T153826Z
UID:25321-1650034800-1650045600@kunstlabor.org
SUMMARY:MEET THE ARTIST & PERFORMANCE - CARATOES
DESCRIPTION:Im Rahmen unserer Eventserie „Meet the Artists“ führt am 15. April caratoes durch ihren neuen Raum und spricht über Konzept und Umsetzung. Anschließend findet eine Performance statt und es bleibt Zeit für offene Fragen und spontane Gespräche. \n  \nCaratoes ist eine nomadische Künstlerin\, die aus Belgien und Hongkong stammt. Seit 2014 ist sie in der Welt unterwegs und schafft international Wandmalereien und Installationen.  \nIhr neuestes Projekt ist es\, die alten mythischen Götter wie Schlangen\, Drache\, Kukulkan oder Ouroboros zum Leben zu erwecken. Hierbei werden Zeremonien und Gespräche zur kollektiven Heilung und Traumaverarbeitung\, zur Wiedergeburt und Transformation aufgegriffen.  \nCaratoes errichtet überall auf der Welt verteilt Installationen Körperteilen ihres Drachens. Wenn du dich im Raum mit einem dieser Teile befindest\, bist du somit auch mit den anderen Orten und Menschen verbunden. München\, Tulum\, Wuhan\, Neuseeland ... die Kreatur repräsentiert eine kollektive Heilung.  \n  \nDas Event ist im Eintrittspreis inklusive.
URL:https://kunstlabor.org/event/meet-the-artist-performance-caratoes/
LOCATION:KUNSTLABOR 2\, / Dachauer Str. 90 / 80335 München\, Deutschland
ATTACH;FMTTYPE=image/jpeg:https://kunstlabor.org/wp-content/uploads/2022/04/Untitled-Artwork.jpg
END:VEVENT
BEGIN:VEVENT
DTSTART;TZID=Europe/Berlin:20220416T103000
DTEND;TZID=Europe/Berlin:20220416T130000
DTSTAMP:20260424T092115
CREATED:20220329T122115Z
LAST-MODIFIED:20220329T122115Z
UID:25251-1650105000-1650114000@kunstlabor.org
SUMMARY:GRAFFITI WORKSHOP KIDS
DESCRIPTION:Wusstet ihr\, dass die ersten Graffiti schon im Alten Ägypten (4000 v. Chr.) entstanden? Dort fand man Inschriften\, die in Tempeln\, Gräbern\, auf Felsen und Statuen gekratzt wurden. \nWenn ihr erfahren wollt\, wie Künstler aus der Graffiti-Szene heutzutage Werke auf der Straße entstehen lassen und wie ihr euer eigenes\, cooles Graffiti erstellen könnt\, dann seid ihr am KUNSTLABOR 2 genau richtig. \nHier lernt ihr zu sprayen\, taggen und zu cutten – alles was man für ein fertiges Graffiti-Werk braucht. Immer mit dabei einer unsere Graffiti-Leiter. Sie sind selbst Künstler und erzählen euch aufregendes über die Szene und werden euch Schritt für Schritt zur Seite stehen. \nTickets könnt ihr über unseren Webshop kaufen: Link
URL:https://kunstlabor.org/event/graffiti-workshop-kids-11/
LOCATION:Kreativ Werkstatt im KUNSTLABOR 2\, / KL2 / Dachauer Str. 90 / München
ATTACH;FMTTYPE=image/jpeg:https://kunstlabor.org/wp-content/uploads/2021/10/Graffiti-WS_header1.jpg
END:VEVENT
BEGIN:VEVENT
DTSTART;TZID=Europe/Berlin:20220416T140000
DTEND;TZID=Europe/Berlin:20220416T163000
DTSTAMP:20260424T092115
CREATED:20220329T125537Z
LAST-MODIFIED:20220329T125537Z
UID:25259-1650117600-1650126600@kunstlabor.org
SUMMARY:GRAFFITI WORKSHOP ADULTS
DESCRIPTION:Wusstet ihr\, dass die ersten Graffiti schon im Alten Ägypten (4000 v. Chr.) entstanden? Dort fand man Inschriften\, die in Tempeln\, Gräbern\, auf Felsen und Statuen gekratzt wurden. \nWenn ihr erfahren wollt\, wie Künstler aus der Graffiti-Szene heutzutage Werke auf der Straße entstehen lassen und wie ihr euer eigenes\, cooles Graffiti erstellen könnt\, dann seid ihr am KUNSTLABOR 2 genau richtig. \nHier lernt ihr zu sprayen\, taggen und zu cutten – alles was man für ein fertiges Graffiti-Werk braucht. Immer mit dabei einer unsere Graffiti-Leiter. Sie sind selbst Künstler und erzählen euch aufregendes über die Szene und werden euch Schritt für Schritt zur Seite stehen. \nTickets könnt ihr über unseren Webshop kaufen: Link
URL:https://kunstlabor.org/event/graffiti-workshop-adults-2/
LOCATION:Kreativ Werkstatt im KUNSTLABOR 2\, / KL2 / Dachauer Str. 90 / München
ATTACH;FMTTYPE=image/jpeg:https://kunstlabor.org/wp-content/uploads/2021/10/Graffiti-WS_header1.jpg
END:VEVENT
BEGIN:VEVENT
DTSTART;TZID=Europe/Berlin:20220417T103000
DTEND;TZID=Europe/Berlin:20220417T130000
DTSTAMP:20260424T092115
CREATED:20220329T122501Z
LAST-MODIFIED:20220329T122501Z
UID:25253-1650191400-1650200400@kunstlabor.org
SUMMARY:GRAFFITI WORKSHOPS KIDS
DESCRIPTION:Wusstet ihr\, dass die ersten Graffiti schon im Alten Ägypten (4000 v. Chr.) entstanden? Dort fand man Inschriften\, die in Tempeln\, Gräbern\, auf Felsen und Statuen gekratzt wurden. \nWenn ihr erfahren wollt\, wie Künstler aus der Graffiti-Szene heutzutage Werke auf der Straße entstehen lassen und wie ihr euer eigenes\, cooles Graffiti erstellen könnt\, dann seid ihr am KUNSTLABOR 2 genau richtig. \nHier lernt ihr zu sprayen\, taggen und zu cutten – alles was man für ein fertiges Graffiti-Werk braucht. Immer mit dabei einer unsere Graffiti-Leiter. Sie sind selbst Künstler und erzählen euch aufregendes über die Szene und werden euch Schritt für Schritt zur Seite stehen. \nTickets könnt ihr über unseren Webshop kaufen: Link
URL:https://kunstlabor.org/event/graffiti-workshops-kids-2/
LOCATION:Kreativ Werkstatt im KUNSTLABOR 2\, / KL2 / Dachauer Str. 90 / München
ATTACH;FMTTYPE=image/jpeg:https://kunstlabor.org/wp-content/uploads/2021/10/Graffiti-WS_header1.jpg
END:VEVENT
BEGIN:VEVENT
DTSTART;TZID=Europe/Berlin:20220417T140000
DTEND;TZID=Europe/Berlin:20220417T163000
DTSTAMP:20260424T092115
CREATED:20220329T122709Z
LAST-MODIFIED:20220329T122709Z
UID:25255-1650204000-1650213000@kunstlabor.org
SUMMARY:GRAFFITI WORKSHOP KIDS
DESCRIPTION:Wusstet ihr\, dass die ersten Graffiti schon im Alten Ägypten (4000 v. Chr.) entstanden? Dort fand man Inschriften\, die in Tempeln\, Gräbern\, auf Felsen und Statuen gekratzt wurden. \nWenn ihr erfahren wollt\, wie Künstler aus der Graffiti-Szene heutzutage Werke auf der Straße entstehen lassen und wie ihr euer eigenes\, cooles Graffiti erstellen könnt\, dann seid ihr am KUNSTLABOR 2 genau richtig. \nHier lernt ihr zu sprayen\, taggen und zu cutten – alles was man für ein fertiges Graffiti-Werk braucht. Immer mit dabei einer unsere Graffiti-Leiter. Sie sind selbst Künstler und erzählen euch aufregendes über die Szene und werden euch Schritt für Schritt zur Seite stehen. \nTickets könnt ihr über unseren Webshop kaufen: Link
URL:https://kunstlabor.org/event/graffiti-workshop-kids-12/
LOCATION:Kreativ Werkstatt im KUNSTLABOR 2\, / KL2 / Dachauer Str. 90 / München
ATTACH;FMTTYPE=image/jpeg:https://kunstlabor.org/wp-content/uploads/2021/10/Graffiti-WS_header1.jpg
END:VEVENT
BEGIN:VEVENT
DTSTART;TZID=Europe/Berlin:20220423T140000
DTEND;TZID=Europe/Berlin:20220423T163000
DTSTAMP:20260424T092115
CREATED:20220411T115743Z
LAST-MODIFIED:20220411T115743Z
UID:25317-1650722400-1650731400@kunstlabor.org
SUMMARY:GRAFFITI WORKSHOP KIDS
DESCRIPTION:Wusstet ihr\, dass die ersten Graffiti schon im Alten Ägypten (4000 v. Chr.) entstanden? Dort fand man Inschriften\, die in Tempeln\, Gräbern\, auf Felsen und Statuen gekratzt wurden. \nWenn ihr erfahren wollt\, wie Künstler aus der Graffiti-Szene heutzutage Werke auf der Straße entstehen lassen und wie ihr euer eigenes\, cooles Graffiti erstellen könnt\, dann seid ihr am KUNSTLABOR 2 genau richtig. \nHier lernt ihr zu sprayen\, taggen und zu cutten – alles was man für ein fertiges Graffiti-Werk braucht. Immer mit dabei einer unsere Graffiti-Leiter. Sie sind selbst Künstler und erzählen euch aufregendes über die Szene und werden euch Schritt für Schritt zur Seite stehen. \nTickets könnt ihr über unseren Webshop kaufen: Link
URL:https://kunstlabor.org/event/graffiti-workshop-kids-13/
LOCATION:Kreativ Werkstatt im KUNSTLABOR 2\, / KL2 / Dachauer Str. 90 / München
ATTACH;FMTTYPE=image/jpeg:https://kunstlabor.org/wp-content/uploads/2021/10/Graffiti-WS_header1.jpg
END:VEVENT
BEGIN:VEVENT
DTSTART;TZID=Europe/Berlin:20220424T110000
DTEND;TZID=Europe/Berlin:20220424T123000
DTSTAMP:20260424T092115
CREATED:20220321T092811Z
LAST-MODIFIED:20220321T092811Z
UID:25186-1650798000-1650803400@kunstlabor.org
SUMMARY:FÜHRUNG DURCH DAS KUNSTLABOR 2
DESCRIPTION:Bei unserer Führung durch das neue KUNSTLABOR 2 gibt es eine Vielzahl an Rauminstallationen aus verschiedenen Kunstgenres zu entdecken. Lokale und internationale Namen der zeitgenössischen Kunst zeigen in diversen Räumen spektakuläre Ausstellungen und Rauminstallationen. \nAngeleitet durch unsere Gästeführer erhalten die Teilnehmer viele Hintergrundinformationen. \nNach der ca. 75-90 minütigen Führung\, hat jeder nochmals Zeit durch die Ausstellungen zu schlendern und die Werke zu begutachten. \nTickets für die Führung gibt es nur im Vorverkauf unter: shop.muca.eu
URL:https://kunstlabor.org/event/fuehrung-durch-das-kunstlabor-2-5/
LOCATION:KUNSTLABOR 2\, / Dachauer Str. 90 / 80335 München\, Deutschland
ATTACH;FMTTYPE=image/jpeg:https://kunstlabor.org/wp-content/uploads/2022/01/Kulturzentrum-Muenchen-Kunstlabor2-1.jpeg
END:VEVENT
BEGIN:VEVENT
DTSTART;TZID=Europe/Berlin:20220430T110000
DTEND;TZID=Europe/Berlin:20220430T123000
DTSTAMP:20260424T092115
CREATED:20220325T151610Z
LAST-MODIFIED:20220325T151610Z
UID:25229-1651316400-1651321800@kunstlabor.org
SUMMARY:FAMILIENFÜHRUNG IM RAHMEN DES MÜNCHNER KINDERTAG
DESCRIPTION:Kunst für alle Generationen erlebbar machen. \nDas schönste ist Zeit mit der Familie zu verbringen. Warum nicht auch gemeinsam Kunst erleben? Für unser Team gibt es nichts Schöneres als die Freizeit von Familien sinnvoll und kunstvoll zu gestalten. \nWir gestalten euren Besuch im Museum generationsübergreifend und interaktiv\, sodass Klein bis Groß Freude an der Ausstellungsführung hat. \nAchtung! Die Führung ist auf max. 20 Teilnehmer*innen begrenzt. Bitte meldet euch vorher über info@kunstlabor.org an. \nDas Ticket bekommt ihr für 15€ über München Ticket (zzgl. VVK-Gebühr) oder direkt bei uns! \nKinder unter 6 Jahren benötigen kein Ticket müssen jedoch von einer erwachsenen Person begleitet werden. Die Begleitperson benötigt ein gültiges Ticket. Mit diesem Ticket könnt ihr auch die öffentlichen Verkehrsmittel zu den Veranstaltungsorten im Gesamtnetz gratis nutzen.
URL:https://kunstlabor.org/event/familienfuehrung-im-rahmen-des-muenchner-kindertag/
LOCATION:KUNSTLABOR 2\, / Dachauer Str. 90 / 80335 München\, Deutschland
ATTACH;FMTTYPE=image/jpeg:https://kunstlabor.org/wp-content/uploads/2021/10/kl2-bjoern-heyn-2.jpg
END:VEVENT
BEGIN:VEVENT
DTSTART;TZID=Europe/Berlin:20220430T160000
DTEND;TZID=Europe/Berlin:20220430T164500
DTSTAMP:20260424T092115
CREATED:20220328T102132Z
LAST-MODIFIED:20220328T102132Z
UID:25235-1651334400-1651337100@kunstlabor.org
SUMMARY:PIANORO - INTERAKTIVES KLAVIERKONZERT IM RAHMEN DES MÜNCHNER KINDERTAG
DESCRIPTION:Humorvoll\, interaktiv und mit viel Spaß führen wir unsere kleinen und großen ZuschauerInnen ab 5 Jahren musikalisch durch die Natur\, entdecken einzigartige Tierwelten und werfen einen Blick auf das\, was das „klügste“ Tier im Zoo gerade treibt – nämlich wir Menschen. Begleitet wird diese Reise mit aufregender und vielfältiger Musik aus der Klassik\, die jedes Kind begeistern wird! \nPianoro vereint klassische Musik mit moderner Videotechnik und verwandelt das Klavier so in eine magische Lichtshow\, die unsere ZuschauerInnen durch Die Welt der Musik begleitet und die Phantasie beflügelt. Zusätzlich binden wir die Kinder durch Interaktion mit in die Show ein\, lassen sie teilhaben und so gemeinsam raten\, rätseln und staunen. \nDas Konzert dauert ca. 45-50 min und bietet eine ausgewogene Mischung aus musikalischer Fortbildung\, Interaktion und Förderung des eigenen kreativen Denkens. \nKommt einfach vorbei\, eine Anmeldung ist nicht nötig. \nDas Ticket bekommt ihr für 15€ über München Ticket (zzgl. VVK-Gebühr) oder direkt bei uns! \nKinder unter 6 Jahren benötigen kein Ticket müssen jedoch von einer erwachsenen Person begleitet werden. Die Begleitperson benötigt ein gültiges Ticket. Mit diesem Ticket könnt ihr auch die öffentlichen Verkehrsmittel zu den Veranstaltungsorten im Gesamtnetz gratis nutzen.
URL:https://kunstlabor.org/event/pianoro-interaktives-klavierkonzert-im-rahmen-des-muenchner-kindertag/
LOCATION:Eventraum im KL2\, / Dachauer Str. 90 / München
ATTACH;FMTTYPE=image/jpeg:https://kunstlabor.org/wp-content/uploads/2022/03/pianoro.jpg
END:VEVENT
END:VCALENDAR