BEGIN:VCALENDAR
VERSION:2.0
PRODID:-//Kunstlabor 2 - ECPv6.15.18//NONSGML v1.0//EN
CALSCALE:GREGORIAN
METHOD:PUBLISH
X-WR-CALNAME:Kunstlabor 2
X-ORIGINAL-URL:https://kunstlabor.org
X-WR-CALDESC:Veranstaltungen für Kunstlabor 2
REFRESH-INTERVAL;VALUE=DURATION:PT1H
X-Robots-Tag:noindex
X-PUBLISHED-TTL:PT1H
BEGIN:VTIMEZONE
TZID:Europe/Berlin
BEGIN:DAYLIGHT
TZOFFSETFROM:+0100
TZOFFSETTO:+0200
TZNAME:CEST
DTSTART:20240331T010000
END:DAYLIGHT
BEGIN:STANDARD
TZOFFSETFROM:+0200
TZOFFSETTO:+0100
TZNAME:CET
DTSTART:20241027T010000
END:STANDARD
BEGIN:DAYLIGHT
TZOFFSETFROM:+0100
TZOFFSETTO:+0200
TZNAME:CEST
DTSTART:20250330T010000
END:DAYLIGHT
BEGIN:STANDARD
TZOFFSETFROM:+0200
TZOFFSETTO:+0100
TZNAME:CET
DTSTART:20251026T010000
END:STANDARD
BEGIN:DAYLIGHT
TZOFFSETFROM:+0100
TZOFFSETTO:+0200
TZNAME:CEST
DTSTART:20260329T010000
END:DAYLIGHT
BEGIN:STANDARD
TZOFFSETFROM:+0200
TZOFFSETTO:+0100
TZNAME:CET
DTSTART:20261025T010000
END:STANDARD
END:VTIMEZONE
BEGIN:VEVENT
DTSTART;TZID=Europe/Berlin:20250706T120000
DTEND;TZID=Europe/Berlin:20250706T143000
DTSTAMP:20260422T052751
CREATED:20250605T084000Z
LAST-MODIFIED:20250904T100913Z
UID:31333-1751803200-1751812200@kunstlabor.org
SUMMARY:GRAFFITI WORKSHOP FÜR FORTGESCHRITTENE - KIDS
DESCRIPTION:Hast du schonmal einen Graffiti-Kurs besucht oder bringst Vorwissen beim Sprühen mit? \nDann bist du hier genau richtig! \nHier wird mit unseren Workshopleiter*innen sowohl an deiner stylischen Ausarbeitung des Buchstabens auf dem Papier und am technischen Umgang mit der Dose an der Wand getüftelt.  \nHierbei begleiten dich unsere Workshopleiter*innen\, die dir mit ihrer langjährigen Erfahrung alles an Wissen mit an die Hand geben können\, die du zum Sprühen brauchst. \nStyle\, Farben\, Technik und coole Storys erwarteten dich hier bei uns im Kunstlabor 2. \nDies ist der Fortgeschrittenen-Workshop\, solltest du in der Vergangenheit noch keinen Kurs besucht haben oder Erfahrung mitbringen\, empfehlen wir dir den Workshop für Beginner. \nTickets könnt ihr über unseren Webshop kaufen: hier.
URL:https://kunstlabor.org/event/graffiti-workshop-fuer-fortgeschrittene-kids-10/
LOCATION:KUNSTLABOR 2\, / Dachauer Str. 90 / 80335 München\, Deutschland
ATTACH;FMTTYPE=image/jpeg:https://kunstlabor.org/wp-content/uploads/2024/07/IMG_0237-scaled.jpg
END:VEVENT
BEGIN:VEVENT
DTSTART;TZID=Europe/Berlin:20250720T151500
DTEND;TZID=Europe/Berlin:20250720T174500
DTSTAMP:20260422T052751
CREATED:20250617T094241Z
LAST-MODIFIED:20250904T100635Z
UID:31344-1753024500-1753033500@kunstlabor.org
SUMMARY:GRAFFITI WORKSHOP FÜR BEGINNER – KIDS
DESCRIPTION:Seit 1983 prägt Graffiti das Münchner Stadtbild.\nWusstest du zum Beispiel\, dass der erste Zug Europas in München bemalt wurde?\nWie Buchstaben und Figuren anfangen sich auf der Wand zu bewegen? Wie sich ein Style entwickelt?\nAll das und noch mehr erzählen dir die Sprüher*innen in unseren Graffiti Workshops. \nVom Papier bis zu Umsetzung an der Wand\, begleiten dich unsere Workshopleiter*innen\, die mit ihrer langjährigen Erfahrung dir alles an Wissen mit an die Hand geben können\, was du zum Sprühen brauchst.\nStyle\, Farben\, Technik und coole Storys erwarteten dich hier bei uns im Kunstlabor 2. \nDies ist der Beginner-Workshop\, solltest du schonmal einen Kurs besucht haben oder Erfahrung mitbringen\, empfehlen wir dir den Workshop für Fortgeschrittene. \nTickets könnt ihr über unseren Webshop kaufen: hier.
URL:https://kunstlabor.org/event/graffiti-workshop-fuer-beginner-kids-33/
ATTACH;FMTTYPE=image/jpeg:https://kunstlabor.org/wp-content/uploads/2024/07/IMG_0237-scaled.jpg
END:VEVENT
END:VCALENDAR