BEGIN:VCALENDAR
VERSION:2.0
PRODID:-//Kunstlabor 2 - ECPv6.15.18//NONSGML v1.0//EN
CALSCALE:GREGORIAN
METHOD:PUBLISH
X-WR-CALNAME:Kunstlabor 2
X-ORIGINAL-URL:https://kunstlabor.org
X-WR-CALDESC:Veranstaltungen für Kunstlabor 2
REFRESH-INTERVAL;VALUE=DURATION:PT1H
X-Robots-Tag:noindex
X-PUBLISHED-TTL:PT1H
BEGIN:VTIMEZONE
TZID:Europe/Berlin
BEGIN:DAYLIGHT
TZOFFSETFROM:+0100
TZOFFSETTO:+0200
TZNAME:CEST
DTSTART:20240331T010000
END:DAYLIGHT
BEGIN:STANDARD
TZOFFSETFROM:+0200
TZOFFSETTO:+0100
TZNAME:CET
DTSTART:20241027T010000
END:STANDARD
BEGIN:DAYLIGHT
TZOFFSETFROM:+0100
TZOFFSETTO:+0200
TZNAME:CEST
DTSTART:20250330T010000
END:DAYLIGHT
BEGIN:STANDARD
TZOFFSETFROM:+0200
TZOFFSETTO:+0100
TZNAME:CET
DTSTART:20251026T010000
END:STANDARD
BEGIN:DAYLIGHT
TZOFFSETFROM:+0100
TZOFFSETTO:+0200
TZNAME:CEST
DTSTART:20260329T010000
END:DAYLIGHT
BEGIN:STANDARD
TZOFFSETFROM:+0200
TZOFFSETTO:+0100
TZNAME:CET
DTSTART:20261025T010000
END:STANDARD
END:VTIMEZONE
BEGIN:VEVENT
DTSTART;TZID=Europe/Berlin:20251102T151500
DTEND;TZID=Europe/Berlin:20251102T174500
DTSTAMP:20260421T225808
CREATED:20250905T105327Z
LAST-MODIFIED:20250905T105327Z
UID:31744-1762096500-1762105500@kunstlabor.org
SUMMARY:GRAFFITI WORKSHOP FÜR BEGINNER - ERWACHSENE AB 16 JAHREN
DESCRIPTION:Seit 1983 prägt Graffiti das Münchner Stadtbild.\nWusstest du zum Beispiel\, dass der erste Zug Europas in München bemalt wurde?\nWie Buchstaben und Figuren anfangen sich auf der Wand zu bewegen? Wie sich ein Style entwickelt?\nAll das und noch mehr erzählen dir die Sprüher*innen in unseren Graffiti Workshops. \nVom Papier bis zu Umsetzung an der Wand\, begleiten dich unsere Workshopleiter*innen\, die mit ihrer langjährigen Erfahrung dir alles an Wissen mit an die Hand geben können\, was du zum Sprühen brauchst.\nStyle\, Farben\, Technik und coole Storys erwarteten dich hier bei uns im Kunstlabor 2. \nDies ist der Beginner-Workshop\, solltest du schonmal einen Kurs besucht haben oder Erfahrung mitbringen\, empfehlen wir dir den Workshop für Fortgeschrittene. \nTickets könnt ihr über unseren Webshop kaufen: hier.
URL:https://kunstlabor.org/event/graffiti-workshop-fuer-beginner-erwachsene-ab-16-jahren-33/
ATTACH;FMTTYPE=image/webp:https://kunstlabor.org/wp-content/uploads/2024/02/kunstlabor-graffiti-workshop-kids-14.webp
END:VEVENT
BEGIN:VEVENT
DTSTART;TZID=Europe/Berlin:20251108T120000
DTEND;TZID=Europe/Berlin:20251108T143000
DTSTAMP:20260421T225808
CREATED:20250905T104903Z
LAST-MODIFIED:20251103T120946Z
UID:31742-1762603200-1762612200@kunstlabor.org
SUMMARY:GRAFFITI WORKSHOP - FAMILIEN
DESCRIPTION:Seit 1993 prägt Graffiti das Münchner Stadtbild – und ist mit dem ersten bemalten Zug Europas ein echtes Relikt der Graffiti-Szene. In diesem Workshop lernst du die Welt des Graffiti näher kennen\, entwickelst dein eigenes Design und darfst ganz wie die echten Künstler dieser Szene dein Motiv an die Wand bringen. \nErfahre alle wissenswerte Tipps zur Gestaltung von Graffiti und wende diese direkt an: Von den ersten Skizzen auf Papier bis hin zu deinem fertigen Werk an der Wand bei uns im Innenhof. Immer an deiner Seite: Ein begabter Graffiti-Sprüher oder Sprüherin aus der Münchner Szene. \nTickets findest du hier \nWeitere Infos\, FAQ und unsere Stornobedingungen findet ihr hier
URL:https://kunstlabor.org/event/graffiti-workshop-familien-22/
ATTACH;FMTTYPE=image/jpeg:https://kunstlabor.org/wp-content/uploads/2024/03/f25d7b5e-1e30-405c-b3ea-337a7d36ca50.jpg
END:VEVENT
BEGIN:VEVENT
DTSTART;TZID=Europe/Berlin:20251115T120000
DTEND;TZID=Europe/Berlin:20251115T143000
DTSTAMP:20260421T225808
CREATED:20250905T110023Z
LAST-MODIFIED:20251103T121951Z
UID:31750-1763208000-1763217000@kunstlabor.org
SUMMARY:CHARACTER DESIGN & GRAFFITI AUF LEINWAND - KIDS
DESCRIPTION:In diesem Workshop lernst du die Welt des Graffitis und Character Designs kennen und kannst dein neu erworbenes Wissen direkt in die Praxis umsetzen und auf die Leinwand bringen. Erfahre Insider zu den Themen Farblehre\, Bildaufbau und Charactern – den figürlichen Darstellungen der Graffiti Szene. \nLos geht es mit dem Gestalten deines Hintergrunds – in echter Graffiti-Manier mit Sprühdose. Gestalte anschließend deine Leinwand mit einem von dir skizzierten Motiv und lasse deiner Kreativität freien Lauf! Hierzu verwendest du Acrylmaker\, die die Gestaltung super easy machen. Immer an deiner Seite: Ein begabter Graffiti-Sprayer oder Sprayerin aus der Münchner Szene. \n  \nTickets findest du hier  \nWeitere Infos\, FAQ und unsere Stornobedingungen findet ihr hier
URL:https://kunstlabor.org/event/character-design-graffiti-auf-leinwand-jugendliche-31/
LOCATION:KUNSTLABOR 2\, / Dachauer Str. 90 / 80335 München\, Deutschland
ATTACH;FMTTYPE=image/webp:https://kunstlabor.org/wp-content/uploads/2024/02/Muca_Graffiti_Workshop_Spraydose-Haende-2048x1365-1.webp
END:VEVENT
END:VCALENDAR