BEGIN:VCALENDAR
VERSION:2.0
PRODID:-//Kunstlabor 2 - ECPv6.15.18//NONSGML v1.0//EN
CALSCALE:GREGORIAN
METHOD:PUBLISH
X-ORIGINAL-URL:https://kunstlabor.org
X-WR-CALDESC:Veranstaltungen für Kunstlabor 2
REFRESH-INTERVAL;VALUE=DURATION:PT1H
X-Robots-Tag:noindex
X-PUBLISHED-TTL:PT1H
BEGIN:VTIMEZONE
TZID:Europe/Berlin
BEGIN:DAYLIGHT
TZOFFSETFROM:+0100
TZOFFSETTO:+0200
TZNAME:CEST
DTSTART:20230326T010000
END:DAYLIGHT
BEGIN:STANDARD
TZOFFSETFROM:+0200
TZOFFSETTO:+0100
TZNAME:CET
DTSTART:20231029T010000
END:STANDARD
BEGIN:DAYLIGHT
TZOFFSETFROM:+0100
TZOFFSETTO:+0200
TZNAME:CEST
DTSTART:20240331T010000
END:DAYLIGHT
BEGIN:STANDARD
TZOFFSETFROM:+0200
TZOFFSETTO:+0100
TZNAME:CET
DTSTART:20241027T010000
END:STANDARD
BEGIN:DAYLIGHT
TZOFFSETFROM:+0100
TZOFFSETTO:+0200
TZNAME:CEST
DTSTART:20250330T010000
END:DAYLIGHT
BEGIN:STANDARD
TZOFFSETFROM:+0200
TZOFFSETTO:+0100
TZNAME:CET
DTSTART:20251026T010000
END:STANDARD
END:VTIMEZONE
BEGIN:VEVENT
DTSTART;TZID=Europe/Berlin:20241008T183000
DTEND;TZID=Europe/Berlin:20241008T233000
DTSTAMP:20260422T185440
CREATED:20240930T115332Z
LAST-MODIFIED:20240930T123439Z
UID:30902-1728412200-1728430200@kunstlabor.org
SUMMARY:ROUNDTABLE STREET ART - 08.10
DESCRIPTION:Wir laden euch herzlich zum ROUNDTABLE STREET ART am 08.10. ab 18:30 Uhr ein. \nWANN \n08.10.2024 | 18:30 Uhr \nWO \nKUNSTLABOR 2 (Dachauer Str. 90) \nWir hoffen\, dass ihr auch diesmal wieder zahlreich erscheint\, dabei laden wir insbesondere junge Menschen\, Nachwuchskünstler:Innen und Frauen sowie alle unterrepräsentierten Gruppen ein. \nWir freuen uns auf Euer kommen ! \nDas Roundtable Team \n@cans.and.co | @eliot_thesuper | @kunstlabor.munich | @landograffiti | @loomit_official | @munichart.de | #MunichGraffitiLibrary | @mucamunich | @vereinurbanekunst
URL:https://kunstlabor.org/event/roundtable-street-art-08-10/
LOCATION:KUNSTLABOR 2\, / Dachauer Str. 90 / 80335 München\, Deutschland
ATTACH;FMTTYPE=image/webp:https://kunstlabor.org/wp-content/uploads/2024/09/RoundTableStreetart-1.webp
END:VEVENT
BEGIN:VEVENT
DTSTART;TZID=Europe/Berlin:20241019T180000
DTEND;TZID=Europe/Berlin:20241020T010000
DTSTAMP:20260422T185440
CREATED:20240926T055014Z
LAST-MODIFIED:20240926T055014Z
UID:30874-1729360800-1729386000@kunstlabor.org
SUMMARY:Lange Nacht der Museen 2024
DESCRIPTION:Das KUNSTLABOR2 wird auch an der diesjährigen Langen Nacht der Münchner Museen teilnehmen. \nAm 19. Oktober 2024 öffnet das KUNSTLABOR 2 von 18 Uhr bis 1 Uhr seine Türen und lädt Kunstliebhaber*innen\, Neugierige und Familien ein\, die faszinierende Welt der Kunst zu entdecken. \nIn dieser besonderen Nacht präsentieren wir den Besucher*innen 60 begehbare Kunsträume\, die von über 100 Künstler*innen aus mehr als 22 Nationen in außergewöhnliche Kunst-Welten verwandelt wurden. Zudem findet in unserer Pop-Up Gallery\, welche regelmäßig rotierende und temporäre Ausstellungen zeigt\, die Ausstellung ‚t=x about the repetition of circles\, sound and lines‘ von Celia Renée Meissner statt. \nDas KUNSTLABOR 2 ist eine wunderbare Gelegenheit\, Kunst in einem lebendigen und interaktiven Rahmen zu erleben. Von Graffiti über Tape-Art\, Fotografie\, Videokunst\, Installationen und Skulpturen bis hin zu Upcycling\, jeder Raum überrascht mit einem individuellen Gegenwartskunst-Projekt. Gehen Sie auf Entdeckungstour und erleben die Arbeiten von lokalen wie international renommierten Künstler*innen wie Rocco und seine Brüder\, Herakut\, Samy Deluxe\, Zeus\, Loomit und vielen mehr. Das KUNSTLABOR2 ist bekannt für seine experimentellen Ansätze und die Förderung von aufstrebenden\, jungen Künstler*innen. \nWir laden alle kunstinteressierten Nachtschwärmer herzlich ein\, uns an diesem besonderen Abend zu besuchen und gemeinsam die Vielfalt der Kunst zu feiern. Der Eintritt ist im Rahmen der Langen Nacht der Münchner Museen im Ticketpreis enthalten. \nFür weitere Informationen und aktuelle Updates besuchen Sie unsere Website unter www.kunstlabor.org oder folgen Sie uns auf Instagram @kunstlabor.munich \nWir freuen uns auf Ihren Besuch!
URL:https://kunstlabor.org/event/lange-nacht-der-museen-2024/
LOCATION:KUNSTLABOR 2\, / Dachauer Str. 90 / 80335 München\, Deutschland
ATTACH;FMTTYPE=image/png:https://kunstlabor.org/wp-content/uploads/2024/09/VORLAGE-fuer-Newsletter.png
END:VEVENT
BEGIN:VEVENT
DTSTART;TZID=Europe/Berlin:20241020T151500
DTEND;TZID=Europe/Berlin:20241020T174500
DTSTAMP:20260422T185440
CREATED:20240914T112906Z
LAST-MODIFIED:20240914T112906Z
UID:30866-1729437300-1729446300@kunstlabor.org
SUMMARY:GRAFFITI WORKSHOP - FAMILIEN
DESCRIPTION:Dieser Kurs richtet sich an alle Familien\, die gemeinsam etwas anderes erleben möchten. Zusammen mit Ihren Liebsten\, lernen Sie alle Basics rund ums Thema Graffiti – von der Theorie bis zur Praxis an der Wand. Hierbei begleiten euch unsere Workshopleiter*innen\, die euch mit ihrer langjährigen Erfahrung\, alles an Wissen mit an die Hand geben können\, das ihr zum Sprühen braucht.  \nStyle\, Farben\, Technik und coole Storys erwarteten euch hier bei uns im KUNSTLABOR 2.  \nTickets gibt es hier.
URL:https://kunstlabor.org/event/graffiti-workshop-familien-11/
ATTACH;FMTTYPE=image/webp:https://kunstlabor.org/wp-content/uploads/2024/02/kunstlabor-graffiti-workshop-kids-14.webp
END:VEVENT
BEGIN:VEVENT
DTSTART;TZID=Europe/Berlin:20241026T120000
DTEND;TZID=Europe/Berlin:20241026T143000
DTSTAMP:20260422T185440
CREATED:20240909T101851Z
LAST-MODIFIED:20240909T101851Z
UID:30834-1729944000-1729953000@kunstlabor.org
SUMMARY:GRAFFITI WORKSHOP FÜR FORTGESCHRITTENE - KIDS
DESCRIPTION:Hast du schonmal einen Graffiti-Kurs besucht oder bringst Vorwissen beim Sprühen mit? \nDann bist du hier genau richtig! \nHier wird mit unseren Workshopleiter*innen sowohl an deiner stylischen Ausarbeitung des Buchstabens auf dem Papier und am technischen Umgang mit der Dose an der Wand getüftelt.  \nHierbei begleiten dich unsere Workshopleiter*innen\, die dir mit ihrer langjährigen Erfahrung alles an Wissen mit an die Hand geben können\, die du zum Sprühen brauchst. \nStyle\, Farben\, Technik und coole Storys erwarteten dich hier bei uns im Kunstlabor 2. \nDies ist der Fortgeschrittenen-Workshop\, solltest du in der Vergangenheit noch keinen Kurs besucht haben oder Erfahrung mitbringen\, empfehlen wir dir den Workshop für Beginner. \nTickets könnt ihr über unseren Webshop kaufen: hier.
URL:https://kunstlabor.org/event/graffiti-workshop-fuer-fortgeschrittene-kids-8/
LOCATION:KUNSTLABOR 2\, / Dachauer Str. 90 / 80335 München\, Deutschland
ATTACH;FMTTYPE=image/webp:https://kunstlabor.org/wp-content/uploads/2024/02/kunstlabor-graffiti-workshop-kids-14.webp
END:VEVENT
BEGIN:VEVENT
DTSTART;TZID=Europe/Berlin:20241026T151500
DTEND;TZID=Europe/Berlin:20241026T174500
DTSTAMP:20260422T185440
CREATED:20240909T100650Z
LAST-MODIFIED:20240909T100650Z
UID:30828-1729955700-1729964700@kunstlabor.org
SUMMARY:GRAFFITI WORKSHOP FÜR BEGINNER - ERWACHSENE AB 16 JAHREN
DESCRIPTION:Seit 1983 prägt Graffiti das Münchner Stadtbild.\nWusstest du zum Beispiel\, dass der erste Zug Europas in München bemalt wurde?\nWie Buchstaben und Figuren anfangen sich auf der Wand zu bewegen? Wie sich ein Style entwickelt?\nAll das und noch mehr erzählen dir die Sprüher*innen in unseren Graffiti Workshops. \nVom Papier bis zu Umsetzung an der Wand\, begleiten dich unsere Workshopleiter*innen\, die mit ihrer langjährigen Erfahrung dir alles an Wissen mit an die Hand geben können\, was du zum Sprühen brauchst.\nStyle\, Farben\, Technik und coole Storys erwarteten dich hier bei uns im Kunstlabor 2. \nDies ist der Beginner-Workshop\, solltest du schonmal einen Kurs besucht haben oder Erfahrung mitbringen\, empfehlen wir dir den Workshop für Fortgeschrittene. \nTickets könnt ihr über unseren Webshop kaufen: hier.
URL:https://kunstlabor.org/event/graffiti-workshop-fuer-beginner-erwachsene-ab-16-jahren-23/
LOCATION:KUNSTLABOR 2\, / Dachauer Str. 90 / 80335 München\, Deutschland
ATTACH;FMTTYPE=image/webp:https://kunstlabor.org/wp-content/uploads/2024/02/kunstlabor-graffiti-workshop-kids-14.webp
END:VEVENT
BEGIN:VEVENT
DTSTART;TZID=Europe/Berlin:20241027T120000
DTEND;TZID=Europe/Berlin:20241027T143000
DTSTAMP:20260422T185440
CREATED:20240914T113123Z
LAST-MODIFIED:20241024T135242Z
UID:30868-1730030400-1730039400@kunstlabor.org
SUMMARY:CHARACTER DESIGN & GRAFFITI AUF LEINWAND - JUGENDLICHE
DESCRIPTION:Bei diesem coolen Kurs startest du mit spannenden Infos zur Entstehungsgeschichte und den Basics des Graffiti und Character Design bevor es auch schon in die Praxis übergeht. Mit deinem neuen Wissen verschönerst du nun den Hintergrund deiner Leinwand mit Spraydosen. Während der Trocknungszeit des Hintergrundes erfährst du etwas über Farbenlehre\, Bildaufbau und Grundlagen des Character Designs und erste Skizzen werden ausgearbeitet. Character nennen Sprüher figürliche Darstellungen\, welche oft im Stil von Comics gestaltet sind\, aber auch fotorealistische Menschen\, Tiere oder Objekte sein können. Sobald du zufrieden mit deiner Skizze bist\, darfst du dein Motiv mit Acrylstiften auf die Leinwand übertragen. Immer zur Seite steht dir hier ein begabter Graffiti-Sprayer oder Sprayerin aus der Münchner Szene. Zum Schluss darfst du dann dein fertiges Meisterwerk mit nach Hause nehmen. \nTickets könnt ihr über unseren Webshop kaufen: hier
URL:https://kunstlabor.org/event/character-design-graffiti-auf-leinwand-jugendliche-23/
LOCATION:KUNSTLABOR 2\, / Dachauer Str. 90 / 80335 München\, Deutschland
ATTACH;FMTTYPE=image/webp:https://kunstlabor.org/wp-content/uploads/2024/02/Muca_Graffiti_Workshop_Spraydose-Haende-2048x1365-1.webp
END:VEVENT
BEGIN:VEVENT
DTSTART;TZID=Europe/Berlin:20241027T151500
DTEND;TZID=Europe/Berlin:20241027T174500
DTSTAMP:20260422T185440
CREATED:20240909T100902Z
LAST-MODIFIED:20240909T101610Z
UID:30830-1730042100-1730051100@kunstlabor.org
SUMMARY:GRAFFITI WORKSHOP - FAMILIEN
DESCRIPTION:Dieser Kurs richtet sich an alle Familien\, die gemeinsam etwas anderes erleben möchten. Zusammen mit Ihren Liebsten\, lernen Sie alle Basics rund ums Thema Graffiti – von der Theorie bis zur Praxis an der Wand. Hierbei begleiten euch unsere Workshopleiter*innen\, die euch mit ihrer langjährigen Erfahrung\, alles an Wissen mit an die Hand geben können\, das ihr zum Sprühen braucht.  \nStyle\, Farben\, Technik und coole Storys erwarteten euch hier bei uns im KUNSTLABOR 2.  \nTickets gibt es hier.
URL:https://kunstlabor.org/event/graffiti-workshop-familien-7/
ATTACH;FMTTYPE=image/webp:https://kunstlabor.org/wp-content/uploads/2024/02/kunstlabor-graffiti-workshop-kids-14.webp
END:VEVENT
END:VCALENDAR