BEGIN:VCALENDAR
VERSION:2.0
PRODID:-//Kunstlabor 2 - ECPv6.15.18//NONSGML v1.0//EN
CALSCALE:GREGORIAN
METHOD:PUBLISH
X-ORIGINAL-URL:https://kunstlabor.org
X-WR-CALDESC:Veranstaltungen für Kunstlabor 2
REFRESH-INTERVAL;VALUE=DURATION:PT1H
X-Robots-Tag:noindex
X-PUBLISHED-TTL:PT1H
BEGIN:VTIMEZONE
TZID:Europe/Berlin
BEGIN:DAYLIGHT
TZOFFSETFROM:+0100
TZOFFSETTO:+0200
TZNAME:CEST
DTSTART:20220327T010000
END:DAYLIGHT
BEGIN:STANDARD
TZOFFSETFROM:+0200
TZOFFSETTO:+0100
TZNAME:CET
DTSTART:20221030T010000
END:STANDARD
BEGIN:DAYLIGHT
TZOFFSETFROM:+0100
TZOFFSETTO:+0200
TZNAME:CEST
DTSTART:20230326T010000
END:DAYLIGHT
BEGIN:STANDARD
TZOFFSETFROM:+0200
TZOFFSETTO:+0100
TZNAME:CET
DTSTART:20231029T010000
END:STANDARD
BEGIN:DAYLIGHT
TZOFFSETFROM:+0100
TZOFFSETTO:+0200
TZNAME:CEST
DTSTART:20240331T010000
END:DAYLIGHT
BEGIN:STANDARD
TZOFFSETFROM:+0200
TZOFFSETTO:+0100
TZNAME:CET
DTSTART:20241027T010000
END:STANDARD
END:VTIMEZONE
BEGIN:VEVENT
DTSTART;TZID=Europe/Berlin:20231001T120000
DTEND;TZID=Europe/Berlin:20231001T143000
DTSTAMP:20260423T105123
CREATED:20230731T121045Z
LAST-MODIFIED:20230731T121045Z
UID:28825-1696161600-1696170600@kunstlabor.org
SUMMARY:CHARACTER DESIGN & GRAFFITI AUF LEINWAND - JUGENDLICHE
DESCRIPTION:Bei diesem coolen Kurs startest du mit spannenden Infos zur Entstehungsgeschichte und den Basics des Graffiti und Character Design bevor es auch schon in die Praxis übergeht. Mit deinem neuen Wissen verschönerst du nun den Hintergrund deiner Leinwand mit Spraydosen. Während der Trocknungszeit des Hintergrundes erfährst du etwas über Farbenlehre\, Bildaufbau und Grundlagen des Character Designs und erste Skizzen werden ausgearbeitet. Character nennen Sprüher figürliche Darstellungen\, welche oft im Stil von Comics gestaltet sind\, aber auch fotorealistische Menschen\, Tiere oder Objekte sein können. Sobald du zufrieden mit deiner Skizze bist\, darfst du dein Motiv mit Acrylstiften auf die Leinwand übertragen. Immer zur Seite steht dir hier ein begabter Graffiti-Sprayer oder Sprayerin aus der Münchner Szene. Zum Schluss darfst du dann dein fertiges Meisterwerk mit nach Hause nehmen. \nTickets könnt ihr über unseren Webshop kaufen: hier
URL:https://kunstlabor.org/event/character-design-graffiti-auf-leinwand-jugendliche-14/
LOCATION:Kreativ Werkstatt im KUNSTLABOR 2\, / KL2 / Dachauer Str. 90 / München
ATTACH;FMTTYPE=image/jpeg:https://kunstlabor.org/wp-content/uploads/2022/10/Muca_Graffiti_Workshop_Spraydose-Haende-scaled.jpg
END:VEVENT
BEGIN:VEVENT
DTSTART;TZID=Europe/Berlin:20231001T151500
DTEND;TZID=Europe/Berlin:20231001T174500
DTSTAMP:20260423T105123
CREATED:20230731T121421Z
LAST-MODIFIED:20230921T134008Z
UID:28827-1696173300-1696182300@kunstlabor.org
SUMMARY:CHARACTER DESIGN & GRAFFITI AUF LEINWAND  - ERWACHSENE
DESCRIPTION:Bei diesem coolen Kurs startest du mit spannenden Infos zur Entstehungsgeschichte und den Basics des Graffiti und Character Design bevor es auch schon in die Praxis übergeht. Mit deinem neuen Wissen verschönerst du nun den Hintergrund deiner Leinwand mit Spraydosen. Während der Trocknungszeit des Hintergrundes erfährst du etwas über Farbenlehre\, Bildaufbau und Grundlagen des Character Designs und erste Skizzen werden ausgearbeitet. Character nennen Sprüher figürliche Darstellungen\, welche oft im Stil von Comics gestaltet sind\, aber auch fotorealistische Menschen\, Tiere oder Objekte sein können. Sobald du zufrieden mit deiner Skizze bist\, darfst du dein Motiv mit Acrylstiften auf die Leinwand übertragen. Immer zur Seite steht dir hier ein begabter Graffiti-Sprayer oder Sprayerin aus der Münchner Szene. Zum Schluss darfst du dann dein fertiges Meisterwerk mit nach Hause nehmen. \nTickets könnt ihr über unseren Webshop kaufen: hier.
URL:https://kunstlabor.org/event/character-design-graffiti-auf-leinwand-erwachsene-12/
LOCATION:Kreativ Werkstatt im KUNSTLABOR 2\, / KL2 / Dachauer Str. 90 / München
ATTACH;FMTTYPE=image/jpeg:https://kunstlabor.org/wp-content/uploads/2022/10/Muca_Graffiti_Workshop_Spraydose-Haende-scaled.jpg
END:VEVENT
BEGIN:VEVENT
DTSTART;TZID=Europe/Berlin:20231007T151500
DTEND;TZID=Europe/Berlin:20231007T174500
DTSTAMP:20260423T105123
CREATED:20230731T122559Z
LAST-MODIFIED:20230731T122559Z
UID:28797-1696691700-1696700700@kunstlabor.org
SUMMARY:Graffiti Workshop für Beginner – Erwachsene ab 16 Jahren
DESCRIPTION:Seit 1983 prägt Graffiti das Münchner Stadtbild.\nWusstest du zum Beispiel\, dass der erste Zug Europas in München bemalt wurde?\nWie Buchstaben und Figuren anfangen sich auf der Wand zu bewegen? Wie sich ein Style entwickelt?\nAll das und noch mehr erzählen dir die Sprüher*innen in unseren Graffiti Workshops. \nVom Papier bis zu Umsetzung an der Wand\, begleiten dich unsere Workshopleiter*innen\, die mit ihrer langjährigen Erfahrung dir alles an Wissen mit an die Hand geben können\, was du zum Sprühen brauchst.\nStyle\, Farben\, Technik und coole Storys erwarteten dich hier bei uns im Kunstlabor 2. \nDies ist der Beginner-Workshop\, solltest du schonmal einen Kurs besucht haben oder Erfahrung mitbringen\, empfehlen wir dir den Workshop für Fortgeschrittene. \nTickets könnt ihr über unseren Webshop kaufen: hier.
URL:https://kunstlabor.org/event/graffiti-workshop-fuer-beginner-erwachsene-ab-16-jahren-11/
LOCATION:Kreativ Werkstatt im KUNSTLABOR 2\, / KL2 / Dachauer Str. 90 / München
ATTACH;FMTTYPE=image/jpeg:https://kunstlabor.org/wp-content/uploads/2023/03/kunstlabor-graffiti-workshop-kids-14.jpg
END:VEVENT
BEGIN:VEVENT
DTSTART;TZID=Europe/Berlin:20231015T120000
DTEND;TZID=Europe/Berlin:20231015T143000
DTSTAMP:20260423T105123
CREATED:20230816T130918Z
LAST-MODIFIED:20230816T130918Z
UID:28849-1697371200-1697380200@kunstlabor.org
SUMMARY:Graffiti Workshop für Beginner – KIDS
DESCRIPTION:Seit 1983 prägt Graffiti das Münchner Stadtbild.\nWusstest du zum Beispiel\, dass der erste Zug Europas in München bemalt wurde?\nWie Buchstaben und Figuren anfangen sich auf der Wand zu bewegen? Wie sich ein Style entwickelt?\nAll das und noch mehr erzählen dir die Sprüher*innen in unseren Graffiti Workshops. \nVom Papier bis zu Umsetzung an der Wand\, begleiten dich unsere Workshopleiter*innen\, die mit ihrer langjährigen Erfahrung dir alles an Wissen mit an die Hand geben können\, was du zum Sprühen brauchst.\nStyle\, Farben\, Technik und coole Storys erwarteten dich hier bei uns im Kunstlabor 2. \nDies ist der Beginner-Workshop\, solltest du schonmal einen Kurs besucht haben oder Erfahrung mitbringen\, empfehlen wir dir den Workshop für Fortgeschrittene. \nTickets könnt ihr über unseren Webshop kaufen: hier.
URL:https://kunstlabor.org/event/graffiti-workshop-fuer-beginner-kids-14/
LOCATION:Kreativ Werkstatt im KUNSTLABOR 2\, / KL2 / Dachauer Str. 90 / München
ATTACH;FMTTYPE=image/jpeg:https://kunstlabor.org/wp-content/uploads/2023/03/kunstlabor-graffiti-workshop-kids-14.jpg
END:VEVENT
BEGIN:VEVENT
DTSTART;TZID=Europe/Berlin:20231015T151500
DTEND;TZID=Europe/Berlin:20231015T174500
DTSTAMP:20260423T105123
CREATED:20230816T130803Z
LAST-MODIFIED:20230816T130803Z
UID:28845-1697382900-1697391900@kunstlabor.org
SUMMARY:Graffiti Workshop für Fortgeschrittene – KIDS
DESCRIPTION:Hast du schonmal einen Graffiti-Kurs besucht oder bringst Vorwissen beim Sprühen mit? \nDann bist du hier genau richtig! \nHier wird mit unseren Workshopleiter*innen sowohl an deiner stylischen Ausarbeitung des Buchstabens auf dem Papier und am technischen Umgang mit der Dose an der Wand getüftelt.  \nHierbei begleiten dich unsere Workshopleiter*innen\, die dir mit ihrer langjährigen Erfahrung alles an Wissen mit an die Hand geben können\, die du zum Sprühen brauchst. \nStyle\, Farben\, Technik und coole Storys erwarteten dich hier bei uns im Kunstlabor 2. \nDies ist der Fortgeschrittenen-Workshop\, solltest du in der Vergangenheit noch keinen Kurs besucht haben oder Erfahrung mitbringen\, empfehlen wir dir den Workshop für Beginner. \nTickets könnt ihr über unseren Webshop kaufen: hier.
URL:https://kunstlabor.org/event/graffiti-workshop-fuer-fortgeschrittene-kids-3/
LOCATION:Kreativ Werkstatt im KUNSTLABOR 2\, / KL2 / Dachauer Str. 90 / München
ATTACH;FMTTYPE=image/jpeg:https://kunstlabor.org/wp-content/uploads/2022/10/Muca_Graffiti_Workshop_Spraydose-Haende-scaled.jpg
END:VEVENT
BEGIN:VEVENT
DTSTART;TZID=Europe/Berlin:20231021T120000
DTEND;TZID=Europe/Berlin:20231021T143000
DTSTAMP:20260423T105123
CREATED:20230816T123900Z
LAST-MODIFIED:20230816T123926Z
UID:28842-1697889600-1697898600@kunstlabor.org
SUMMARY:CHARACTER DESIGN & GRAFFITI AUF LEINWAND - JUGENDLICHE
DESCRIPTION:Bei diesem coolen Kurs startest du mit spannenden Infos zur Entstehungsgeschichte und den Basics des Graffiti und Character Design bevor es auch schon in die Praxis übergeht. Mit deinem neuen Wissen verschönerst du nun den Hintergrund deiner Leinwand mit Spraydosen. Während der Trocknungszeit des Hintergrundes erfährst du etwas über Farbenlehre\, Bildaufbau und Grundlagen des Character Designs und erste Skizzen werden ausgearbeitet. Character nennen Sprüher figürliche Darstellungen\, welche oft im Stil von Comics gestaltet sind\, aber auch fotorealistische Menschen\, Tiere oder Objekte sein können. Sobald du zufrieden mit deiner Skizze bist\, darfst du dein Motiv mit Acrylstiften auf die Leinwand übertragen. Immer zur Seite steht dir hier ein begabter Graffiti-Sprayer oder Sprayerin aus der Münchner Szene. Zum Schluss darfst du dann dein fertiges Meisterwerk mit nach Hause nehmen. \nTickets könnt ihr über unseren Webshop kaufen: hier
URL:https://kunstlabor.org/event/character-design-graffiti-auf-leinwand-jugendliche-15/
LOCATION:Kreativ Werkstatt im KUNSTLABOR 2\, / KL2 / Dachauer Str. 90 / München
ATTACH;FMTTYPE=image/jpeg:https://kunstlabor.org/wp-content/uploads/2022/10/Muca_Graffiti_Workshop_Spraydose-Haende-scaled.jpg
END:VEVENT
BEGIN:VEVENT
DTSTART;TZID=Europe/Berlin:20231021T151500
DTEND;TZID=Europe/Berlin:20231021T174500
DTSTAMP:20260423T105123
CREATED:20230816T123829Z
LAST-MODIFIED:20230928T093849Z
UID:28841-1697901300-1697910300@kunstlabor.org
SUMMARY:CHARACTER DESIGN & GRAFFITI AUF LEINWAND  - ERWACHSENE
DESCRIPTION:Bei diesem coolen Kurs startest du mit spannenden Infos zur Entstehungsgeschichte und den Basics des Graffiti und Character Design bevor es auch schon in die Praxis übergeht. Mit deinem neuen Wissen verschönerst du nun den Hintergrund deiner Leinwand mit Spraydosen. Während der Trocknungszeit des Hintergrundes erfährst du etwas über Farbenlehre\, Bildaufbau und Grundlagen des Character Designs und erste Skizzen werden ausgearbeitet. Character nennen Sprüher figürliche Darstellungen\, welche oft im Stil von Comics gestaltet sind\, aber auch fotorealistische Menschen\, Tiere oder Objekte sein können. Sobald du zufrieden mit deiner Skizze bist\, darfst du dein Motiv mit Acrylstiften auf die Leinwand übertragen. Immer zur Seite steht dir hier ein begabter Graffiti-Sprayer oder Sprayerin aus der Münchner Szene. Zum Schluss darfst du dann dein fertiges Meisterwerk mit nach Hause nehmen. \nTickets könnt ihr über unseren Webshop kaufen: hier.
URL:https://kunstlabor.org/event/character-design-graffiti-auf-leinwand-erwachsene-13/
LOCATION:Kreativ Werkstatt im KUNSTLABOR 2\, / KL2 / Dachauer Str. 90 / München
ATTACH;FMTTYPE=image/jpeg:https://kunstlabor.org/wp-content/uploads/2022/10/Muca_Graffiti_Workshop_Spraydose-Haende-scaled.jpg
END:VEVENT
END:VCALENDAR