BEGIN:VCALENDAR
VERSION:2.0
PRODID:-//Kunstlabor 2 - ECPv6.15.18//NONSGML v1.0//EN
CALSCALE:GREGORIAN
METHOD:PUBLISH
X-ORIGINAL-URL:https://kunstlabor.org
X-WR-CALDESC:Veranstaltungen für Kunstlabor 2
REFRESH-INTERVAL;VALUE=DURATION:PT1H
X-Robots-Tag:noindex
X-PUBLISHED-TTL:PT1H
BEGIN:VTIMEZONE
TZID:Europe/Berlin
BEGIN:DAYLIGHT
TZOFFSETFROM:+0100
TZOFFSETTO:+0200
TZNAME:CEST
DTSTART:20220327T010000
END:DAYLIGHT
BEGIN:STANDARD
TZOFFSETFROM:+0200
TZOFFSETTO:+0100
TZNAME:CET
DTSTART:20221030T010000
END:STANDARD
BEGIN:DAYLIGHT
TZOFFSETFROM:+0100
TZOFFSETTO:+0200
TZNAME:CEST
DTSTART:20230326T010000
END:DAYLIGHT
BEGIN:STANDARD
TZOFFSETFROM:+0200
TZOFFSETTO:+0100
TZNAME:CET
DTSTART:20231029T010000
END:STANDARD
BEGIN:DAYLIGHT
TZOFFSETFROM:+0100
TZOFFSETTO:+0200
TZNAME:CEST
DTSTART:20240331T010000
END:DAYLIGHT
BEGIN:STANDARD
TZOFFSETFROM:+0200
TZOFFSETTO:+0100
TZNAME:CET
DTSTART:20241027T010000
END:STANDARD
END:VTIMEZONE
BEGIN:VEVENT
DTSTART;TZID=Europe/Berlin:20230303T150000
DTEND;TZID=Europe/Berlin:20230303T160000
DTSTAMP:20260424T221527
CREATED:20230227T105704Z
LAST-MODIFIED:20230228T095459Z
UID:26617-1677855600-1677859200@kunstlabor.org
SUMMARY:Führung durch die Ausstellung  „Stoffgeschichten – über global bewegte Materialien“
DESCRIPTION:Mode und Kleidung ist ein Alltagsprodukt mit langer Geschichte und weltweiten Verflechtungen.\nDie Ausstellung „Stoffgeschichten – über global bewegte Materialien“ setzt sich mit Hintergründen der Modeindustrie auseinander. Sie informiert über die Gewinnung der (textilen) Rohstoffe und zeigt die negativen Auswirkungen auf die Menschen im Globalen Süden. Wo soziale und ökologische Standards nicht greifen\, herrschen Missstände. Zugleich sind viele Länder abhängig von der Herstellung von Rohstoffen\, deren Weiterverarbeitung und den damit verbundenen Arbeitsplätzen. \nWenn auch das Material – der Stoff – den Zugang bildet\, so sind es eigentlich doch die Geschichten\, die sich dahinter verbergen. \nLassen Sie sich mitnehmen in diese Geschichten\, lernen Sie innovative und neue Stoffe kennen und kommen Sie ins Gespräch! \nFührung durch die Ausstellung durch Dipl. Ing. Stefanie Trevisan. \n  \nBitte melden Sie sich bei Interesse an der Führungen an unter: aussenstelle.stuttgart@engagement-global.de \nNennen Sie bitte in Ihrer Anmeldung die Veranstaltung mit zugehörigem Datum und Uhrzeit. \nDie Führungen finden in Kooperation von Engagement Global mit der Akademie für Mode & Design München statt.
URL:https://kunstlabor.org/event/fuehrung-durch-die-ausstellung-stoffgeschichten-ueber-global-bewegte-materialien/
LOCATION:Kreativ Werkstatt im KUNSTLABOR 2\, / KL2 / Dachauer Str. 90 / München
ATTACH;FMTTYPE=image/jpeg:https://kunstlabor.org/wp-content/uploads/2023/02/craft-6537240_Seide-scaled.jpg
END:VEVENT
BEGIN:VEVENT
DTSTART;TZID=Europe/Berlin:20230312T140000
DTEND;TZID=Europe/Berlin:20230312T153000
DTSTAMP:20260424T221527
CREATED:20230123T134811Z
LAST-MODIFIED:20230127T144335Z
UID:26347-1678629600-1678635000@kunstlabor.org
SUMMARY:FÜHRUNG DURCH DAS KUNSTLABOR 2
DESCRIPTION:Bei unserer Führung durch das neue KUNSTLABOR 2 gibt es eine Vielzahl an Rauminstallationen aus verschiedenen Kunstgenres zu entdecken. Lokale und internationale Namen der zeitgenössischen Kunst zeigen in diversen Räumen spektakuläre Ausstellungen und Rauminstallationen. \nAngeleitet durch unsere Gästeführer erhalten die Teilnehmer viele Hintergrundinformationen. \nNach der ca. 75-90 minütigen Führung\, hat jeder nochmals Zeit durch die Ausstellungen zu schlendern und die Werke zu begutachten. \nTickets für die Führung gibt es nur im Vorverkauf unter: shop.muca.eu
URL:https://kunstlabor.org/event/fuehrung-durch-das-kunstlabor-2-19/
LOCATION:KUNSTLABOR 2\, / Dachauer Str. 90 / 80335 München\, Deutschland
ATTACH;FMTTYPE=image/jpeg:https://kunstlabor.org/wp-content/uploads/2022/01/Kulturzentrum-Muenchen-Kunstlabor2-1.jpeg
END:VEVENT
BEGIN:VEVENT
DTSTART;TZID=Europe/Berlin:20230325T140000
DTEND;TZID=Europe/Berlin:20230325T153000
DTSTAMP:20260424T221527
CREATED:20230123T135319Z
LAST-MODIFIED:20230318T131838Z
UID:26349-1679752800-1679758200@kunstlabor.org
SUMMARY:FÜHRUNG DURCH DAS KUNSTLABOR 2
DESCRIPTION:Bei unserer Führung durch das neue KUNSTLABOR 2 gibt es eine Vielzahl an Rauminstallationen aus verschiedenen Kunstgenres zu entdecken. Lokale und internationale Namen der zeitgenössischen Kunst zeigen in diversen Räumen spektakuläre Ausstellungen und Rauminstallationen. \nAngeleitet durch unsere Gästeführer erhalten die Teilnehmer viele Hintergrundinformationen. \nNach der ca. 75-90 minütigen Führung\, hat jeder nochmals Zeit durch die Ausstellungen zu schlendern und die Werke zu begutachten. \nTickets für die Führung gibt es nur im Vorverkauf unter: shop.muca.eu
URL:https://kunstlabor.org/event/fuehrung-durch-das-kunstlabor-2-20/
ATTACH;FMTTYPE=image/jpeg:https://kunstlabor.org/wp-content/uploads/2022/01/Kulturzentrum-Muenchen-Kunstlabor2-1.jpeg
END:VEVENT
END:VCALENDAR