BEGIN:VCALENDAR
VERSION:2.0
PRODID:-//Kunstlabor 2 - ECPv6.15.18//NONSGML v1.0//EN
CALSCALE:GREGORIAN
METHOD:PUBLISH
X-WR-CALNAME:Kunstlabor 2
X-ORIGINAL-URL:https://kunstlabor.org
X-WR-CALDESC:Veranstaltungen für Kunstlabor 2
REFRESH-INTERVAL;VALUE=DURATION:PT1H
X-Robots-Tag:noindex
X-PUBLISHED-TTL:PT1H
BEGIN:VTIMEZONE
TZID:Europe/Berlin
BEGIN:DAYLIGHT
TZOFFSETFROM:+0100
TZOFFSETTO:+0200
TZNAME:CEST
DTSTART:20220327T010000
END:DAYLIGHT
BEGIN:STANDARD
TZOFFSETFROM:+0200
TZOFFSETTO:+0100
TZNAME:CET
DTSTART:20221030T010000
END:STANDARD
BEGIN:DAYLIGHT
TZOFFSETFROM:+0100
TZOFFSETTO:+0200
TZNAME:CEST
DTSTART:20230326T010000
END:DAYLIGHT
BEGIN:STANDARD
TZOFFSETFROM:+0200
TZOFFSETTO:+0100
TZNAME:CET
DTSTART:20231029T010000
END:STANDARD
BEGIN:DAYLIGHT
TZOFFSETFROM:+0100
TZOFFSETTO:+0200
TZNAME:CEST
DTSTART:20240331T010000
END:DAYLIGHT
BEGIN:STANDARD
TZOFFSETFROM:+0200
TZOFFSETTO:+0100
TZNAME:CET
DTSTART:20241027T010000
END:STANDARD
END:VTIMEZONE
BEGIN:VEVENT
DTSTART;TZID=Europe/Berlin:20230902T120000
DTEND;TZID=Europe/Berlin:20230903T180000
DTSTAMP:20260423T180509
CREATED:20221215T140811Z
LAST-MODIFIED:20230901T091611Z
UID:26178-1693656000-1693764000@kunstlabor.org
SUMMARY:Flower Power Festival 2023 Ikebana-Wochenende im KUNSTLABOR 2
DESCRIPTION:Foto: Albert Schuy\nSinngemäß bedeutet Ikebana\, Blumen zum Leben zu erwecken und ihnen ein neues Leben zu geben. Wenn Ikebana-Künstler also eine Blume oder eine andere Pflanze aus der Natur holen und sie in eine Vase oder eine Schale stecken\, dann erhalten sie sie nicht nur mit Wasser am Leben\, sondern lassen sie als Teil eines Kunstwerks ein neues Leben beginnen und schenken ihr ein schöneres Aussehen\, als es ihr die Natur gegeben hat. \nIkebana ist die japanische Kunst\, aus wenigen Blumen und Zweigen ein kunstvolles Arrangement entstehen zu lassen\, das durch seine Schlichtheit und Klarheit besticht. \nJeder\, der Interesse daran hat\, kann \n\ndie Gestaltungsregeln und Techniken für das Arrangieren von Pflanzen erlernen\,\ndabei seine eigene Kreativität entfalten\,\nRuhe und Entspannung durch den Umgang mit Pflanzen finden.\n\nIkebana Arrangements können \n\nvon jedermann\nzu jeder Zeit\nan jedem Ort\nmit jeglichem Material\n\ngestaltet werden. (Sofu Teshigahara\, Gründer der Sogetsu-Schule) \nAm ersten September-Wochenende 2023 können Sie sich im KUNSTLABOR 2 von Ikebana-Arrangements – mit Musikuntermalung – inspirieren lassen und zuschauen\, wie ein Ikebana-Arrangement entsteht. Kinder und erwachsene Besucher können in einem Schnupperkurs ein eigenes Ikebana-Arrangement erstellen. \n\nIkebana-Ausstellung am 2. und 3.9.2023 von 12 bis 18 Uhr in der Popup Galerie\, Eintritt frei\nIkebana-Vorführung in der Popup Galerie\n\nSamstag\, den 2.9.2023\, um 15 Uhr\, Eintritt frei \n\nSchnupperkurse am Sonntag\, den 3.9.23\, von 15 bis 16 Uhr parallel im Workshop-Bereich des KUNSTLABOR 2\n\nTeilnahmegebühr: 5 € für Erwachsene (mehr Infos hier)\, 4 € für Kinder (mehr Infos hier) \n                              ACHTUNG: Der Workshop für ERWACHSENE ist AUSGEBUCHT! (Es gibt keine verfügbaren Plätze mehr) \n  \nAnmeldung erforderlich \nVeranstalter: Ikebana Sogetsu München e.V.\, www.ikebana-sogetsu-muenchen.de
URL:https://kunstlabor.org/event/ikebana-ausstellung-und-vorfuehrung/
LOCATION:Pop Up Gallery im KUNSTLABOR 2\, Dachauer Str. 90\, München\, 80335\, Deutschland
ATTACH;FMTTYPE=image/jpeg:https://kunstlabor.org/wp-content/uploads/2022/12/2-Kornblumen-Offerhaus-scaled.jpg
END:VEVENT
BEGIN:VEVENT
DTSTART;TZID=Europe/Berlin:20230903T150000
DTEND;TZID=Europe/Berlin:20230903T160000
DTSTAMP:20260423T180509
CREATED:20221215T141335Z
LAST-MODIFIED:20230901T091410Z
UID:26180-1693753200-1693756800@kunstlabor.org
SUMMARY:Flower Power Festival 2023 Ikebana-Schnupperkurs für Erwachsene im Rahmen des Ikebana-Wochenendes im KUNSTLABOR 2
DESCRIPTION:ACHTUNG: Dieser Workshop ist AUSGEBUCHT! (Es gibt keine verfügbaren Plätze mehr)\nFoto: Ayako Graefe\nIn diesem Kurs fertigen Sie ein Ikebana-Arrangement nach den Regeln der Sogetsu Schule\, einer der größten und kreativsten Schulen Japans. Der Leitsatz des Schulgründers Sofu Teshigahara lautet:\n„Ikebana kann von jedermann an jedem Ort zu jeder Zeit und mit jedem Material praktiziert werden.“ \nTeilnahmegebühr: 5 €\, beim Kursleiter zu entrichten \nDas benötigte Material – Blumen\, Zweige\, Gefäße\, Steckigel (Kenzan) und Schere – wird zur Verfügung gestellt. \nVeranstalter: Ikebana Sogetsu München e.V.\, www.ikebana-sogetsu-muenchen.de \nVerbindliche Anmeldung bei Angelika Mühlbauer \nAnmeldeformular (Download): Bitte Formular herunterladen\, ausfüllen und per Mail an Angelika Mühlbauer schicken. Dafür den obigen Link zu Frau Mühlbauer benutzen.
URL:https://kunstlabor.org/event/ikebana-schnupperkurs/
LOCATION:Kreativ Werkstatt im KUNSTLABOR 2\, / KL2 / Dachauer Str. 90 / München
ATTACH;FMTTYPE=image/jpeg:https://kunstlabor.org/wp-content/uploads/2022/12/1-Grundstil-geneigt-Muehlbauer-scaled.jpg
END:VEVENT
BEGIN:VEVENT
DTSTART;TZID=Europe/Berlin:20230910T140000
DTEND;TZID=Europe/Berlin:20230910T163000
DTSTAMP:20260423T180509
CREATED:20221215T140122Z
LAST-MODIFIED:20230120T105820Z
UID:26170-1694354400-1694363400@kunstlabor.org
SUMMARY:Flower Power Festival 2023 Aphrodisierende Blumen: die Naturheilkunde der Liebe
DESCRIPTION:Um unsere Sexualkraft zu befeuern\, hat uns die Natur unfassbar viele sinnliche Aphrodisiaka geschenkt. Jede:r von uns kann ganz einfach aphrodisierende Mittel zu sich nehmen. Egal ob in frischen Kräutern\, aromatischen Gewürzen oder anderen Heilpflanzen. Die Natur bietet alle Geheimnisse der Erotik\, die seit Jahrtausenden in der Weltmedizin verankert sind. Denn Aphrodisiaka sind nicht nur lustfördernde Mittel\, die unsere Lebensqualität enorm steigern\, sondern auch wahre Heilmittel. Sinnliche Mittel befeuern unsere Glückshormone\, fördern unsere Gesundheit\, verbessern unsere Stimmung\, können sogar Erkrankungen lindern und Schmerzen reduzieren. \nIm Workshop entdecken wir gemeinsam die Naturheilkunde der Liebe. Dazu gehört ein Verständnis über Sexualität an sich. Hierfür lernst du das Wichtigste über Hormone\, Sexualorgane und deinen Körper. Vermittelt wird Wissen über Pflanzen und Blumen\, die all dies beeinflussen können\, sowie Praxis-Wissen zum Herstellen und Anwenden von pflanzlichen Liebesmitteln. \nHergestellt werden drei Produkte\, wie z.B. ein sinnliches Massageöl oder eine erotisierende Räuchermischung. \nTickets gibt es hier.
URL:https://kunstlabor.org/event/aphrodisierende-blumen-die-naturheilkunde2/
ATTACH;FMTTYPE=image/jpeg:https://kunstlabor.org/wp-content/uploads/2022/12/Aphrodisierende-Pflanzen.jpg
END:VEVENT
END:VCALENDAR