BEGIN:VCALENDAR
VERSION:2.0
PRODID:-//Kunstlabor 2 - ECPv6.15.18//NONSGML v1.0//EN
CALSCALE:GREGORIAN
METHOD:PUBLISH
X-ORIGINAL-URL:https://kunstlabor.org
X-WR-CALDESC:Veranstaltungen für Kunstlabor 2
REFRESH-INTERVAL;VALUE=DURATION:PT1H
X-Robots-Tag:noindex
X-PUBLISHED-TTL:PT1H
BEGIN:VTIMEZONE
TZID:Europe/Berlin
BEGIN:DAYLIGHT
TZOFFSETFROM:+0100
TZOFFSETTO:+0200
TZNAME:CEST
DTSTART:20240331T010000
END:DAYLIGHT
BEGIN:STANDARD
TZOFFSETFROM:+0200
TZOFFSETTO:+0100
TZNAME:CET
DTSTART:20241027T010000
END:STANDARD
BEGIN:DAYLIGHT
TZOFFSETFROM:+0100
TZOFFSETTO:+0200
TZNAME:CEST
DTSTART:20250330T010000
END:DAYLIGHT
BEGIN:STANDARD
TZOFFSETFROM:+0200
TZOFFSETTO:+0100
TZNAME:CET
DTSTART:20251026T010000
END:STANDARD
BEGIN:DAYLIGHT
TZOFFSETFROM:+0100
TZOFFSETTO:+0200
TZNAME:CEST
DTSTART:20260329T010000
END:DAYLIGHT
BEGIN:STANDARD
TZOFFSETFROM:+0200
TZOFFSETTO:+0100
TZNAME:CET
DTSTART:20261025T010000
END:STANDARD
END:VTIMEZONE
BEGIN:VEVENT
DTSTART;TZID=Europe/Berlin:20250302T120000
DTEND;TZID=Europe/Berlin:20250302T143000
DTSTAMP:20260422T161123
CREATED:20250118T121059Z
LAST-MODIFIED:20250118T121059Z
UID:31096-1740916800-1740925800@kunstlabor.org
SUMMARY:GRAFFITI WORKSHOP - FAMILIEN
DESCRIPTION:Dieser Kurs richtet sich an alle Familien\, die gemeinsam etwas anderes erleben möchten. Zusammen mit Ihren Liebsten\, lernen Sie alle Basics rund ums Thema Graffiti – von der Theorie bis zur Praxis an der Wand. Hierbei begleiten euch unsere Workshopleiter*innen\, die euch mit ihrer langjährigen Erfahrung\, alles an Wissen mit an die Hand geben können\, das ihr zum Sprühen braucht.  \nStyle\, Farben\, Technik und coole Storys erwarteten euch hier bei uns im KUNSTLABOR 2.  \nTickets gibt es hier.
URL:https://kunstlabor.org/event/graffiti-workshop-familien-12/
ATTACH;FMTTYPE=image/webp:https://kunstlabor.org/wp-content/uploads/2024/02/kunstlabor-graffiti-workshop-kids-14.webp
END:VEVENT
BEGIN:VEVENT
DTSTART;TZID=Europe/Berlin:20250308T120000
DTEND;TZID=Europe/Berlin:20250308T143000
DTSTAMP:20260422T161123
CREATED:20250224T133440Z
LAST-MODIFIED:20250904T104437Z
UID:31150-1741435200-1741444200@kunstlabor.org
SUMMARY:GRAFFITI WORKSHOP - FAMILIEN
DESCRIPTION:Dieser Kurs richtet sich an alle Familien\, die gemeinsam etwas anderes erleben möchten. Zusammen mit Ihren Liebsten\, lernen Sie alle Basics rund ums Thema Graffiti – von der Theorie bis zur Praxis an der Wand. Hierbei begleiten euch unsere Workshopleiter*innen\, die euch mit ihrer langjährigen Erfahrung\, alles an Wissen mit an die Hand geben können\, das ihr zum Sprühen braucht.  \nStyle\, Farben\, Technik und coole Storys erwarteten euch hier bei uns im KUNSTLABOR 2.  \nTickets gibt es hier.
URL:https://kunstlabor.org/event/graffiti-workshop-familien-14/
ATTACH;FMTTYPE=image/jpeg:https://kunstlabor.org/wp-content/uploads/2024/03/f25d7b5e-1e30-405c-b3ea-337a7d36ca50.jpg
END:VEVENT
BEGIN:VEVENT
DTSTART;TZID=Europe/Berlin:20250330T120000
DTEND;TZID=Europe/Berlin:20250330T143000
DTSTAMP:20260422T161123
CREATED:20250118T121154Z
LAST-MODIFIED:20250904T104622Z
UID:31098-1743336000-1743345000@kunstlabor.org
SUMMARY:GRAFFITI WORKSHOP - FAMILIEN
DESCRIPTION:Dieser Kurs richtet sich an alle Familien\, die gemeinsam etwas anderes erleben möchten. Zusammen mit Ihren Liebsten\, lernen Sie alle Basics rund ums Thema Graffiti – von der Theorie bis zur Praxis an der Wand. Hierbei begleiten euch unsere Workshopleiter*innen\, die euch mit ihrer langjährigen Erfahrung\, alles an Wissen mit an die Hand geben können\, das ihr zum Sprühen braucht.  \nStyle\, Farben\, Technik und coole Storys erwarteten euch hier bei uns im KUNSTLABOR 2.  \nTickets gibt es hier.
URL:https://kunstlabor.org/event/graffiti-workshop-familien-13/
ATTACH;FMTTYPE=image/jpeg:https://kunstlabor.org/wp-content/uploads/2024/03/f25d7b5e-1e30-405c-b3ea-337a7d36ca50.jpg
END:VEVENT
END:VCALENDAR