BEGIN:VCALENDAR
VERSION:2.0
PRODID:-//Kunstlabor 2 - ECPv6.15.18//NONSGML v1.0//EN
CALSCALE:GREGORIAN
METHOD:PUBLISH
X-ORIGINAL-URL:https://kunstlabor.org
X-WR-CALDESC:Veranstaltungen für Kunstlabor 2
REFRESH-INTERVAL;VALUE=DURATION:PT1H
X-Robots-Tag:noindex
X-PUBLISHED-TTL:PT1H
BEGIN:VTIMEZONE
TZID:Europe/Berlin
BEGIN:DAYLIGHT
TZOFFSETFROM:+0100
TZOFFSETTO:+0200
TZNAME:CEST
DTSTART:20230326T010000
END:DAYLIGHT
BEGIN:STANDARD
TZOFFSETFROM:+0200
TZOFFSETTO:+0100
TZNAME:CET
DTSTART:20231029T010000
END:STANDARD
BEGIN:DAYLIGHT
TZOFFSETFROM:+0100
TZOFFSETTO:+0200
TZNAME:CEST
DTSTART:20240331T010000
END:DAYLIGHT
BEGIN:STANDARD
TZOFFSETFROM:+0200
TZOFFSETTO:+0100
TZNAME:CET
DTSTART:20241027T010000
END:STANDARD
BEGIN:DAYLIGHT
TZOFFSETFROM:+0100
TZOFFSETTO:+0200
TZNAME:CEST
DTSTART:20250330T010000
END:DAYLIGHT
BEGIN:STANDARD
TZOFFSETFROM:+0200
TZOFFSETTO:+0100
TZNAME:CET
DTSTART:20251026T010000
END:STANDARD
END:VTIMEZONE
BEGIN:VEVENT
DTSTART;TZID=Europe/Berlin:20240727T120000
DTEND;TZID=Europe/Berlin:20240727T143000
DTSTAMP:20260423T033338
CREATED:20240616T121658Z
LAST-MODIFIED:20240715T111247Z
UID:30545-1722081600-1722090600@kunstlabor.org
SUMMARY:GRAFFITI WORKSHOP - FAMILIEN
DESCRIPTION:Dieser Kurs richtet sich an alle Familien\, die gemeinsam etwas anderes erleben möchten. Zusammen mit Ihren Liebsten\, lernen Sie alle Basics rund ums Thema Graffiti – von der Theorie bis zur Praxis an der Wand. Hierbei begleiten euch unsere Workshopleiter*innen\, die euch mit ihrer langjährigen Erfahrung\, alles an Wissen mit an die Hand geben können\, das ihr zum Sprühen braucht.  \nStyle\, Farben\, Technik und coole Storys erwarteten euch hier bei uns im KUNSTLABOR 2.  \nTickets gibt es hier.
URL:https://kunstlabor.org/event/graffiti-workshop-familien-8/
ATTACH;FMTTYPE=image/webp:https://kunstlabor.org/wp-content/uploads/2024/02/kunstlabor-graffiti-workshop-kids-14.webp
END:VEVENT
END:VCALENDAR