BEGIN:VCALENDAR
VERSION:2.0
PRODID:-//Kunstlabor 2 - ECPv6.15.18//NONSGML v1.0//EN
CALSCALE:GREGORIAN
METHOD:PUBLISH
X-WR-CALNAME:Kunstlabor 2
X-ORIGINAL-URL:https://kunstlabor.org
X-WR-CALDESC:Veranstaltungen für Kunstlabor 2
REFRESH-INTERVAL;VALUE=DURATION:PT1H
X-Robots-Tag:noindex
X-PUBLISHED-TTL:PT1H
BEGIN:VTIMEZONE
TZID:Europe/Berlin
BEGIN:DAYLIGHT
TZOFFSETFROM:+0100
TZOFFSETTO:+0200
TZNAME:CEST
DTSTART:20230326T010000
END:DAYLIGHT
BEGIN:STANDARD
TZOFFSETFROM:+0200
TZOFFSETTO:+0100
TZNAME:CET
DTSTART:20231029T010000
END:STANDARD
BEGIN:DAYLIGHT
TZOFFSETFROM:+0100
TZOFFSETTO:+0200
TZNAME:CEST
DTSTART:20240331T010000
END:DAYLIGHT
BEGIN:STANDARD
TZOFFSETFROM:+0200
TZOFFSETTO:+0100
TZNAME:CET
DTSTART:20241027T010000
END:STANDARD
BEGIN:DAYLIGHT
TZOFFSETFROM:+0100
TZOFFSETTO:+0200
TZNAME:CEST
DTSTART:20250330T010000
END:DAYLIGHT
BEGIN:STANDARD
TZOFFSETFROM:+0200
TZOFFSETTO:+0100
TZNAME:CET
DTSTART:20251026T010000
END:STANDARD
END:VTIMEZONE
BEGIN:VEVENT
DTSTART;TZID=Europe/Berlin:20241106T120000
DTEND;TZID=Europe/Berlin:20241215T180000
DTSTAMP:20260422T150928
CREATED:20241017T092015Z
LAST-MODIFIED:20241126T150146Z
UID:30945-1730894400-1734285600@kunstlabor.org
SUMMARY:Forum Humor feat. Comicaze - Willkommen in der Lachanstalt
DESCRIPTION:Von Hihihi bis Höhöhö! \nDraußen kalt und grau? Comicaze treibt es bunt! \nWillkommen in der Lachanstalt – im KUNSTLABOR 2! \n\n November bis 15. Dezember 2024 in der POP UP GALLERY\n\n  \nSehen\, Staunen\, Erleben – Attraktionen\, Sensationen! \nDie Ausstellung umfasst sämtliche Arten von Humor. \nUnter der Schirmherrschaft des Forum Humor und komische Kunst e.V. \nim Rahmen des Humorfestivals München. \nZitat des Veranstalters: \n„Zwischen den alten Sachen hängen auch ein paar frische Socken.“ \n  \nVernissage: Mittwoch\, 6.November 2024 um 19:00 Uhr \nDie Ausstellung ist an vier Wochenenden geöffnet: Sa. 9.\, So. 10. + Sa. 16.\, So. 17. + \nSa. 23.\, So. 24. + Sa. 30. November und So. 1. Dezember. \nTolle Neuigkeiten: Wir verlängern die Ausstellung um zwei Wochen! \nVerlängert: Sa. 7.\,So. 8. Dezember + Sa. 14.\, So. 15. Dezember! \nWir freuen uns auf deinen Besuch! \nJeweils von 12 Uhr bis 18 Uhr \nLocation: \nKUNSTLABOR 2\nDachauer Straße 90\n80335 München
URL:https://kunstlabor.org/event/forum-humor-feat-comicaze-willkommen-in-der-lachanstalt/
ATTACH;FMTTYPE=image/jpeg:https://kunstlabor.org/wp-content/uploads/2024/10/Lachanstalt_Titelbild_2048x1536.jpg
END:VEVENT
BEGIN:VEVENT
DTSTART;TZID=Europe/Berlin:20241201T140000
DTEND;TZID=Europe/Berlin:20241201T153000
DTSTAMP:20260422T150928
CREATED:20240328T150828Z
LAST-MODIFIED:20241128T153301Z
UID:29867-1733061600-1733067000@kunstlabor.org
SUMMARY:FÜHRUNG DURCH DAS KUNSTLABOR 2
DESCRIPTION:Bei unserer Führung durch das KUNSTLABOR 2 gibt es eine Vielzahl an Rauminstallationen aus verschiedenen Kunstgenres zu entdecken. Lokale und internationale Namen der zeitgenössischen Kunst zeigen in diversen Räumen spektakuläre Ausstellungen und Rauminstallationen. \nAngeleitet durch unsere Gästeführer erhalten die Teilnehmer viele Hintergrundinformationen. \nNach der ca. 75-90 minütigen Führung\, hat jeder nochmals Zeit durch die Ausstellungen zu schlendern und die Werke zu begutachten. \nTickets für die Führung gibt es nur im Vorverkauf unter: shop.muca.eu.
URL:https://kunstlabor.org/event/fuehrung-durch-das-kunstlabor-2-42/
LOCATION:KUNSTLABOR 2\, / Dachauer Str. 90 / 80335 München\, Deutschland
ATTACH;FMTTYPE=image/jpeg:https://kunstlabor.org/wp-content/uploads/2022/01/Kulturzentrum-Muenchen-Kunstlabor2.jpeg
END:VEVENT
END:VCALENDAR