BEGIN:VCALENDAR
VERSION:2.0
PRODID:-//Kunstlabor 2 - ECPv6.15.18//NONSGML v1.0//EN
CALSCALE:GREGORIAN
METHOD:PUBLISH
X-ORIGINAL-URL:https://kunstlabor.org
X-WR-CALDESC:Veranstaltungen für Kunstlabor 2
REFRESH-INTERVAL;VALUE=DURATION:PT1H
X-Robots-Tag:noindex
X-PUBLISHED-TTL:PT1H
BEGIN:VTIMEZONE
TZID:Europe/Berlin
BEGIN:DAYLIGHT
TZOFFSETFROM:+0100
TZOFFSETTO:+0200
TZNAME:CEST
DTSTART:20250330T010000
END:DAYLIGHT
BEGIN:STANDARD
TZOFFSETFROM:+0200
TZOFFSETTO:+0100
TZNAME:CET
DTSTART:20251026T010000
END:STANDARD
BEGIN:DAYLIGHT
TZOFFSETFROM:+0100
TZOFFSETTO:+0200
TZNAME:CEST
DTSTART:20260329T010000
END:DAYLIGHT
BEGIN:STANDARD
TZOFFSETFROM:+0200
TZOFFSETTO:+0100
TZNAME:CET
DTSTART:20261025T010000
END:STANDARD
BEGIN:DAYLIGHT
TZOFFSETFROM:+0100
TZOFFSETTO:+0200
TZNAME:CEST
DTSTART:20270328T010000
END:DAYLIGHT
BEGIN:STANDARD
TZOFFSETFROM:+0200
TZOFFSETTO:+0100
TZNAME:CET
DTSTART:20271031T010000
END:STANDARD
END:VTIMEZONE
BEGIN:VEVENT
DTSTART;TZID=Europe/Berlin:20260606T151500
DTEND;TZID=Europe/Berlin:20260606T164500
DTSTAMP:20260421T204355
CREATED:20260413T140827Z
LAST-MODIFIED:20260421T103647Z
UID:32834-1780758900-1780764300@kunstlabor.org
SUMMARY:GRAFFITI WORKSHOP FÜR FORTGESCHRITTENE – ERWACHSENE AB 16 JAHREN
DESCRIPTION:Hast du schonmal einen Graffiti-Kurs besucht oder bringst Vorwissen beim Sprühen mit? \nDann bist du hier genau richtig! \nIn diesem Workshop wird mit unseren Workshopleiter*innen sowohl an der stylischen Ausarbeitung deiner Buchstaben auf dem Papier sowie am technischen Umgang mit der Dose an der Wand getüftelt.  \nHierbei begleiten dich unsere Workshopleiter*innen\, die dir mit ihrer langjährigen Erfahrung alles an Wissen mit an die Hand geben können\, die du zum Sprühen brauchst. \nStyle\, Farben\, Technik und coole Storys erwarteten dich hier bei uns im Kunstlabor 2. \nDies ist der Fortgeschrittenen-Workshop\, solltest du in der Vergangenheit noch keinen Kurs besucht haben oder Erfahrung mitbringen\, empfehlen wir dir den Workshop für Beginner. \nTickets könnt ihr über unseren Webshop kaufen: hier.
URL:https://kunstlabor.org/event/graffiti-workshop-fuer-fortgeschrittene-erwachsene-ab-16-jahren-8/
ATTACH;FMTTYPE=image/webp:https://kunstlabor.org/wp-content/uploads/2024/02/kunstlabor-graffiti-workshop-kids-14.webp
END:VEVENT
BEGIN:VEVENT
DTSTART;TZID=Europe/Berlin:20260607T120000
DTEND;TZID=Europe/Berlin:20260607T143000
DTSTAMP:20260421T204355
CREATED:20260413T140255Z
LAST-MODIFIED:20260421T105340Z
UID:32832-1780833600-1780842600@kunstlabor.org
SUMMARY:CHARACTER DESIGN & GRAFFITI AUF LEINWAND  - ERWACHSENE
DESCRIPTION:In diesem Workshop lernst du die Welt des Graffitis und Character Designs kennen und kannst dein neu erworbenes Wissen direkt in die Praxis umsetzen und auf die Leinwand bringen. Erfahre Insider zu den Themen Farblehre\, Bildaufbau und Charactern – den figürlichen Darstellungen der Graffiti Szene. \nLos geht es mit dem Gestalten deines Hintergrunds – in echter Graffiti-Manier mit Sprühdose. Gestalte anschließend deine Leinwand mit einem von dir skizzierten Motiv und lasse deiner Kreativität freien Lauf! Hierzu verwendest du Acrylmaker\, die die Gestaltung super easy machen. Immer an deiner Seite: Ein begabter Graffiti-Sprayer oder Sprayerin aus der Münchner Szene. \n  \nTickets findest du hier  \nWeitere Infos\, FAQ und unsere Stornobedingungen findet ihr hier
URL:https://kunstlabor.org/event/character-design-graffiti-auf-leinwand-erwachsene-28/
LOCATION:Kreativ Werkstatt im KUNSTLABOR 2\, / KL2 / Dachauer Str. 90 / München
ATTACH;FMTTYPE=image/jpeg:https://kunstlabor.org/wp-content/uploads/2026/01/Character-design-Adults.jpg
END:VEVENT
END:VCALENDAR