BEGIN:VCALENDAR
VERSION:2.0
PRODID:-//Kunstlabor 2 - ECPv6.15.18//NONSGML v1.0//EN
CALSCALE:GREGORIAN
METHOD:PUBLISH
X-ORIGINAL-URL:https://kunstlabor.org
X-WR-CALDESC:Veranstaltungen für Kunstlabor 2
REFRESH-INTERVAL;VALUE=DURATION:PT1H
X-Robots-Tag:noindex
X-PUBLISHED-TTL:PT1H
BEGIN:VTIMEZONE
TZID:Europe/Berlin
BEGIN:DAYLIGHT
TZOFFSETFROM:+0100
TZOFFSETTO:+0200
TZNAME:CEST
DTSTART:20230326T010000
END:DAYLIGHT
BEGIN:STANDARD
TZOFFSETFROM:+0200
TZOFFSETTO:+0100
TZNAME:CET
DTSTART:20231029T010000
END:STANDARD
BEGIN:DAYLIGHT
TZOFFSETFROM:+0100
TZOFFSETTO:+0200
TZNAME:CEST
DTSTART:20240331T010000
END:DAYLIGHT
BEGIN:STANDARD
TZOFFSETFROM:+0200
TZOFFSETTO:+0100
TZNAME:CET
DTSTART:20241027T010000
END:STANDARD
BEGIN:DAYLIGHT
TZOFFSETFROM:+0100
TZOFFSETTO:+0200
TZNAME:CEST
DTSTART:20250330T010000
END:DAYLIGHT
BEGIN:STANDARD
TZOFFSETFROM:+0200
TZOFFSETTO:+0100
TZNAME:CET
DTSTART:20251026T010000
END:STANDARD
END:VTIMEZONE
BEGIN:VEVENT
DTSTART;TZID=Europe/Berlin:20240803T151500
DTEND;TZID=Europe/Berlin:20240803T174500
DTSTAMP:20260422T220810
CREATED:20240709T083831Z
LAST-MODIFIED:20240709T083831Z
UID:30696-1722698100-1722707100@kunstlabor.org
SUMMARY:GRAFFITI WORKSHOP FÜR BEGINNER - ERWACHSENE AB 16 JAHREN
DESCRIPTION:Seit 1983 prägt Graffiti das Münchner Stadtbild.\nWusstest du zum Beispiel\, dass der erste Zug Europas in München bemalt wurde?\nWie Buchstaben und Figuren anfangen sich auf der Wand zu bewegen? Wie sich ein Style entwickelt?\nAll das und noch mehr erzählen dir die Sprüher*innen in unseren Graffiti Workshops. \nVom Papier bis zu Umsetzung an der Wand\, begleiten dich unsere Workshopleiter*innen\, die mit ihrer langjährigen Erfahrung dir alles an Wissen mit an die Hand geben können\, was du zum Sprühen brauchst.\nStyle\, Farben\, Technik und coole Storys erwarteten dich hier bei uns im Kunstlabor 2. \nDies ist der Beginner-Workshop\, solltest du schonmal einen Kurs besucht haben oder Erfahrung mitbringen\, empfehlen wir dir den Workshop für Fortgeschrittene. \nTickets könnt ihr über unseren Webshop kaufen: hier.
URL:https://kunstlabor.org/event/graffiti-workshop-fuer-beginner-erwachsene-ab-16-jahren-20/
LOCATION:KUNSTLABOR 2\, / Dachauer Str. 90 / 80335 München\, Deutschland
ATTACH;FMTTYPE=image/webp:https://kunstlabor.org/wp-content/uploads/2024/02/kunstlabor-graffiti-workshop-kids-14.webp
END:VEVENT
BEGIN:VEVENT
DTSTART;TZID=Europe/Berlin:20240811T151500
DTEND;TZID=Europe/Berlin:20240811T174500
DTSTAMP:20260422T220810
CREATED:20240709T085809Z
LAST-MODIFIED:20240719T081000Z
UID:30705-1723389300-1723398300@kunstlabor.org
SUMMARY:CHARACTER DESIGN & GRAFFITI AUF LEINWAND  - ERWACHSENE
DESCRIPTION:Bei diesem coolen Kurs startest du mit spannenden Infos zur Entstehungsgeschichte und den Basics des Graffiti und Character Design bevor es auch schon in die Praxis übergeht. Mit deinem neuen Wissen verschönerst du nun den Hintergrund deiner Leinwand mit Spraydosen. Während der Trocknungszeit des Hintergrundes erfährst du etwas über Farbenlehre\, Bildaufbau und Grundlagen des Character Designs und erste Skizzen werden ausgearbeitet. Character nennen Sprüher figürliche Darstellungen\, welche oft im Stil von Comics gestaltet sind\, aber auch fotorealistische Menschen\, Tiere oder Objekte sein können. Sobald du zufrieden mit deiner Skizze bist\, darfst du dein Motiv mit Acrylstiften auf die Leinwand übertragen. Immer zur Seite steht dir hier ein begabter Graffiti-Sprayer oder Sprayerin aus der Münchner Szene. Zum Schluss darfst du dann dein fertiges Meisterwerk mit nach Hause nehmen. \nTickets könnt ihr über unseren Webshop kaufen: hier.
URL:https://kunstlabor.org/event/character-design-graffiti-auf-leinwand-erwachsene-18/
LOCATION:Kreativ Werkstatt im KUNSTLABOR 2\, / KL2 / Dachauer Str. 90 / München
ATTACH;FMTTYPE=image/jpeg:https://kunstlabor.org/wp-content/uploads/2022/10/Muca_Graffiti_Workshop_Spraydose-Haende-scaled.jpg
END:VEVENT
BEGIN:VEVENT
DTSTART;TZID=Europe/Berlin:20240817T151500
DTEND;TZID=Europe/Berlin:20240817T174500
DTSTAMP:20260422T220810
CREATED:20240709T083935Z
LAST-MODIFIED:20240709T083935Z
UID:30698-1723907700-1723916700@kunstlabor.org
SUMMARY:GRAFFITI WORKSHOP FÜR BEGINNER - ERWACHSENE AB 16 JAHREN
DESCRIPTION:Seit 1983 prägt Graffiti das Münchner Stadtbild.\nWusstest du zum Beispiel\, dass der erste Zug Europas in München bemalt wurde?\nWie Buchstaben und Figuren anfangen sich auf der Wand zu bewegen? Wie sich ein Style entwickelt?\nAll das und noch mehr erzählen dir die Sprüher*innen in unseren Graffiti Workshops. \nVom Papier bis zu Umsetzung an der Wand\, begleiten dich unsere Workshopleiter*innen\, die mit ihrer langjährigen Erfahrung dir alles an Wissen mit an die Hand geben können\, was du zum Sprühen brauchst.\nStyle\, Farben\, Technik und coole Storys erwarteten dich hier bei uns im Kunstlabor 2. \nDies ist der Beginner-Workshop\, solltest du schonmal einen Kurs besucht haben oder Erfahrung mitbringen\, empfehlen wir dir den Workshop für Fortgeschrittene. \nTickets könnt ihr über unseren Webshop kaufen: hier.
URL:https://kunstlabor.org/event/graffiti-workshop-fuer-beginner-erwachsene-ab-16-jahren-21/
LOCATION:KUNSTLABOR 2\, / Dachauer Str. 90 / 80335 München\, Deutschland
ATTACH;FMTTYPE=image/webp:https://kunstlabor.org/wp-content/uploads/2024/02/kunstlabor-graffiti-workshop-kids-14.webp
END:VEVENT
END:VCALENDAR